BEGIN:VCALENDAR
VERSION:2.0
PRODID:-//St James the Great - ECPv6.15.20//NONSGML v1.0//EN
CALSCALE:GREGORIAN
METHOD:PUBLISH
X-WR-CALNAME:St James the Great
X-ORIGINAL-URL:https://stjameshanslope.org
X-WR-CALDESC:Events for St James the Great
REFRESH-INTERVAL;VALUE=DURATION:PT1H
X-Robots-Tag:noindex
X-PUBLISHED-TTL:PT1H
BEGIN:VTIMEZONE
TZID:UTC
BEGIN:STANDARD
TZOFFSETFROM:+0000
TZOFFSETTO:+0000
TZNAME:UTC
DTSTART:20250101T000000
END:STANDARD
END:VTIMEZONE
BEGIN:VEVENT
DTSTART;TZID=UTC:20260422T103000
DTEND;TZID=UTC:20260422T103000
DTSTAMP:20260422T100118
CREATED:20260319T001826Z
LAST-MODIFIED:20260319T001826Z
UID:6161-1776853800-1776853800@stjameshanslope.org
SUMMARY:Carers’ Support Group\, St James the Great
DESCRIPTION:
URL:https://stjameshanslope.org/event/carers-support-group-st-james-the-great-5/
LOCATION:St James the Great\, Hanslope
END:VEVENT
BEGIN:VEVENT
DTSTART;TZID=UTC:20260422T170000
DTEND;TZID=UTC:20260422T170000
DTSTAMP:20260422T100118
CREATED:20260319T001826Z
LAST-MODIFIED:20260319T001826Z
UID:6160-1776877200-1776877200@stjameshanslope.org
SUMMARY:Said Mass\, SS Simon and Jude
DESCRIPTION:
URL:https://stjameshanslope.org/event/said-mass-ss-simon-and-jude-99/
LOCATION:SS Simon and Jude\, Castlethorpe
END:VEVENT
BEGIN:VEVENT
DTSTART;TZID=UTC:20260422T180000
DTEND;TZID=UTC:20260422T180000
DTSTAMP:20260422T100118
CREATED:20260319T001828Z
LAST-MODIFIED:20260319T001828Z
UID:6162-1776880800-1776880800@stjameshanslope.org
SUMMARY:Choir Practice
DESCRIPTION:
URL:https://stjameshanslope.org/event/choir-practice-130/
LOCATION:SS Simon and Jude\, Castlethorpe
END:VEVENT
END:VCALENDAR