BEGIN:VCALENDAR
VERSION:2.0
PRODID:-//St James the Great - ECPv6.15.20//NONSGML v1.0//EN
CALSCALE:GREGORIAN
METHOD:PUBLISH
X-WR-CALNAME:St James the Great
X-ORIGINAL-URL:https://stjameshanslope.org
X-WR-CALDESC:Events for St James the Great
REFRESH-INTERVAL;VALUE=DURATION:PT1H
X-Robots-Tag:noindex
X-PUBLISHED-TTL:PT1H
BEGIN:VTIMEZONE
TZID:UTC
BEGIN:STANDARD
TZOFFSETFROM:+0000
TZOFFSETTO:+0000
TZNAME:UTC
DTSTART:20250101T000000
END:STANDARD
END:VTIMEZONE
BEGIN:VEVENT
DTSTART;TZID=UTC:20260423T093000
DTEND;TZID=UTC:20260423T093000
DTSTAMP:20260423T220431
CREATED:20260319T001829Z
LAST-MODIFIED:20260319T001829Z
UID:6163-1776936600-1776936600@stjameshanslope.org
SUMMARY:Said Mass\, St James the Great
DESCRIPTION:
URL:https://stjameshanslope.org/event/said-mass-st-james-the-great-132/
LOCATION:St James the Great\, Hanslope
END:VEVENT
BEGIN:VEVENT
DTSTART;TZID=UTC:20260423T193000
DTEND;TZID=UTC:20260423T193000
DTSTAMP:20260423T220431
CREATED:20251125T232300Z
LAST-MODIFIED:20260318T233928Z
UID:5520-1776972600-1776972600@stjameshanslope.org
SUMMARY:Explorer Course
DESCRIPTION:
URL:https://stjameshanslope.org/event/explorer-course-16/
LOCATION:12 Weavers End
END:VEVENT
BEGIN:VEVENT
DTSTART;TZID=UTC:20260424T100000
DTEND;TZID=UTC:20260424T100000
DTSTAMP:20260423T220431
CREATED:20260319T001829Z
LAST-MODIFIED:20260319T001829Z
UID:6164-1777024800-1777024800@stjameshanslope.org
SUMMARY:Craftivists\, Flower Team and Hanslope Church Open for refreshments
DESCRIPTION:
URL:https://stjameshanslope.org/event/craftivists-flower-team-and-hanslope-church-open-for-refreshments-15/
LOCATION:St James the Great\, Hanslope
END:VEVENT
BEGIN:VEVENT
DTSTART;TZID=UTC:20260424T120000
DTEND;TZID=UTC:20260424T120000
DTSTAMP:20260423T220431
CREATED:20260319T001829Z
LAST-MODIFIED:20260319T001829Z
UID:6165-1777032000-1777032000@stjameshanslope.org
SUMMARY:Said Mass\, St James the Great
DESCRIPTION:
URL:https://stjameshanslope.org/event/said-mass-st-james-the-great-133/
LOCATION:St James the Great\, Hanslope
END:VEVENT
BEGIN:VEVENT
DTSTART;TZID=UTC:20260424T140000
DTEND;TZID=UTC:20260424T140000
DTSTAMP:20260423T220431
CREATED:20260319T001830Z
LAST-MODIFIED:20260319T001830Z
UID:6166-1777039200-1777039200@stjameshanslope.org
SUMMARY:Little Lambs – pre school children
DESCRIPTION:
URL:https://stjameshanslope.org/event/little-lambs-pre-school-children-64/
LOCATION:SS Simon and Jude\, Castlethorpe
END:VEVENT
BEGIN:VEVENT
DTSTART;TZID=UTC:20260424T153000
DTEND;TZID=UTC:20260424T153000
DTSTAMP:20260423T220431
CREATED:20260319T001844Z
LAST-MODIFIED:20260319T001844Z
UID:6167-1777044600-1777044600@stjameshanslope.org
SUMMARY:Little Lambs LEGO for Primary School age children
DESCRIPTION:
URL:https://stjameshanslope.org/event/little-lambs-lego-for-primary-school-age-children-64/
LOCATION:SS Simon and Jude\, Castlethorpe
END:VEVENT
BEGIN:VEVENT
DTSTART;TZID=UTC:20260424T160000
DTEND;TZID=UTC:20260424T160000
DTSTAMP:20260423T220431
CREATED:20260319T001844Z
LAST-MODIFIED:20260319T001844Z
UID:6168-1777046400-1777046400@stjameshanslope.org
SUMMARY:Inspire! Youth Group\, St James the Great
DESCRIPTION:
URL:https://stjameshanslope.org/event/inspire-youth-group-st-james-the-great-65/
LOCATION:St James the Great\, Hanslope
END:VEVENT
BEGIN:VEVENT
DTSTART;TZID=UTC:20260426T093000
DTEND;TZID=UTC:20260426T093000
DTSTAMP:20260423T220431
CREATED:20260319T001844Z
LAST-MODIFIED:20260319T001844Z
UID:6169-1777195800-1777195800@stjameshanslope.org
SUMMARY:4th Sunday of Easter\, Sung Mass\, SS Simon and Jude
DESCRIPTION:
URL:https://stjameshanslope.org/event/4th-sunday-of-easter-sung-mass-ss-simon-and-jude/
LOCATION:SS Simon and Jude\, Castlethorpe
END:VEVENT
BEGIN:VEVENT
DTSTART;TZID=UTC:20260426T111500
DTEND;TZID=UTC:20260426T111500
DTSTAMP:20260423T220431
CREATED:20260319T001844Z
LAST-MODIFIED:20260319T001844Z
UID:6170-1777202100-1777202100@stjameshanslope.org
SUMMARY:4th Sunday of Easter\, Sung Mass\, St James the Great
DESCRIPTION:
URL:https://stjameshanslope.org/event/4th-sunday-of-easter-sung-mass-st-james-the-great/
LOCATION:St James the Great\, Hanslope
END:VEVENT
BEGIN:VEVENT
DTSTART;TZID=UTC:20260426T123000
DTEND;TZID=UTC:20260426T123000
DTSTAMP:20260423T220431
CREATED:20251125T230404Z
LAST-MODIFIED:20251125T230416Z
UID:5504-1777206600-1777206600@stjameshanslope.org
SUMMARY:Hanslope's APCM
DESCRIPTION:
URL:https://stjameshanslope.org/event/hanslopes-apcm-2/
LOCATION:St James the Great\, Hanslope
END:VEVENT
BEGIN:VEVENT
DTSTART;TZID=UTC:20260426T170000
DTEND;TZID=UTC:20260426T170000
DTSTAMP:20260423T220431
CREATED:20260319T005429Z
LAST-MODIFIED:20260319T005435Z
UID:6189-1777222800-1777222800@stjameshanslope.org
SUMMARY:Evening Prayer\, SS Simon and Jude
DESCRIPTION:
URL:https://stjameshanslope.org/event/evening-prayer-ss-simon-and-jude-67/
LOCATION:SS Simon and Jude\, Castlethorpe
END:VEVENT
BEGIN:VEVENT
DTSTART;TZID=UTC:20260427T093000
DTEND;TZID=UTC:20260427T093000
DTSTAMP:20260423T220431
CREATED:20260319T001844Z
LAST-MODIFIED:20260319T001844Z
UID:6171-1777282200-1777282200@stjameshanslope.org
SUMMARY:Little Angels\, St James the Great
DESCRIPTION:
URL:https://stjameshanslope.org/event/little-angels-st-james-the-great-48/
LOCATION:St James the Great\, Hanslope
END:VEVENT
BEGIN:VEVENT
DTSTART;TZID=UTC:20260427T140000
DTEND;TZID=UTC:20260427T160000
DTSTAMP:20260423T220431
CREATED:20260307T191749Z
LAST-MODIFIED:20260307T191803Z
UID:6102-1777298400-1777305600@stjameshanslope.org
SUMMARY:Teatime Treats\, Lincoln Court
DESCRIPTION:
URL:https://stjameshanslope.org/event/teatime-treats-lincoln-court-8/
LOCATION:Lincoln Court
END:VEVENT
BEGIN:VEVENT
DTSTART;TZID=UTC:20260427T173000
DTEND;TZID=UTC:20260427T173000
DTSTAMP:20260423T220431
CREATED:20260319T002045Z
LAST-MODIFIED:20260319T002045Z
UID:6172-1777311000-1777311000@stjameshanslope.org
SUMMARY:Following the Silence
DESCRIPTION:
URL:https://stjameshanslope.org/event/following-the-silence-136/
END:VEVENT
BEGIN:VEVENT
DTSTART;TZID=UTC:20260428T163000
DTEND;TZID=UTC:20260428T163000
DTSTAMP:20260423T220431
CREATED:20260319T010230Z
LAST-MODIFIED:20260319T184609Z
UID:6191-1777393800-1777393800@stjameshanslope.org
SUMMARY:Hanslope's Standing Committee Meeting - The Vicarage
DESCRIPTION:
URL:https://stjameshanslope.org/event/castlethorpes-standing-committee-meeting-castlethorpe-church-tbc/
LOCATION:The Vicarage\, United Kingdom
END:VEVENT
BEGIN:VEVENT
DTSTART;TZID=UTC:20260429T170000
DTEND;TZID=UTC:20260429T170000
DTSTAMP:20260423T220431
CREATED:20260319T002046Z
LAST-MODIFIED:20260319T002046Z
UID:6173-1777482000-1777482000@stjameshanslope.org
SUMMARY:Said Mass\, SS Simon and Jude
DESCRIPTION:
URL:https://stjameshanslope.org/event/said-mass-ss-simon-and-jude-100/
LOCATION:SS Simon and Jude\, Castlethorpe
END:VEVENT
BEGIN:VEVENT
DTSTART;TZID=UTC:20260429T180000
DTEND;TZID=UTC:20260429T180000
DTSTAMP:20260423T220431
CREATED:20260319T002046Z
LAST-MODIFIED:20260319T002046Z
UID:6174-1777485600-1777485600@stjameshanslope.org
SUMMARY:Choir Practice
DESCRIPTION:
URL:https://stjameshanslope.org/event/choir-practice-131/
LOCATION:St James the Great\, Hanslope
END:VEVENT
BEGIN:VEVENT
DTSTART;TZID=UTC:20260430T093000
DTEND;TZID=UTC:20260430T093000
DTSTAMP:20260423T220431
CREATED:20260319T002046Z
LAST-MODIFIED:20260319T002046Z
UID:6175-1777541400-1777541400@stjameshanslope.org
SUMMARY:Said Mass\, St James the Great
DESCRIPTION:
URL:https://stjameshanslope.org/event/said-mass-st-james-the-great-134/
LOCATION:St James the Great\, Hanslope
END:VEVENT
BEGIN:VEVENT
DTSTART;TZID=UTC:20260430T193000
DTEND;TZID=UTC:20260430T193000
DTSTAMP:20260423T220431
CREATED:20251125T232300Z
LAST-MODIFIED:20260318T234012Z
UID:5521-1777577400-1777577400@stjameshanslope.org
SUMMARY:Explorer Course
DESCRIPTION:
URL:https://stjameshanslope.org/event/explorer-course-17/
LOCATION:The Vicarage\, United Kingdom
END:VEVENT
END:VCALENDAR