BEGIN:VCALENDAR
VERSION:2.0
PRODID:-//St James the Great - ECPv6.15.20//NONSGML v1.0//EN
CALSCALE:GREGORIAN
METHOD:PUBLISH
X-WR-CALNAME:St James the Great
X-ORIGINAL-URL:https://stjameshanslope.org
X-WR-CALDESC:Events for St James the Great
REFRESH-INTERVAL;VALUE=DURATION:PT1H
X-Robots-Tag:noindex
X-PUBLISHED-TTL:PT1H
BEGIN:VTIMEZONE
TZID:UTC
BEGIN:STANDARD
TZOFFSETFROM:+0000
TZOFFSETTO:+0000
TZNAME:UTC
DTSTART:20220101T000000
END:STANDARD
END:VTIMEZONE
BEGIN:VEVENT
DTSTART;TZID=UTC:20231031T133000
DTEND;TZID=UTC:20231031T133000
DTSTAMP:20260421T151234
CREATED:20231019T225701Z
LAST-MODIFIED:20231019T225717Z
UID:2027-1698759000-1698759000@stjameshanslope.org
SUMMARY:Funeral and Requiem Mass for the late Lorraine Robinson (followed by committal at the Oak Chapel Milton Keynes Crematorium)
DESCRIPTION:
URL:https://stjameshanslope.org/event/funeral-and-requiem-mass-for-the-late-lorraine-robinson-followed-by-committal-at-the-oak-chapel-milton-keynes-crematorium/
LOCATION:St James the Great\, Hanslope
END:VEVENT
BEGIN:VEVENT
DTSTART;TZID=UTC:20231030T173000
DTEND;TZID=UTC:20231030T173000
DTSTAMP:20260421T151234
CREATED:20230824T135328Z
LAST-MODIFIED:20230824T135328Z
UID:1440-1698687000-1698687000@stjameshanslope.org
SUMMARY:Following the Silence
DESCRIPTION:
URL:https://stjameshanslope.org/event/following-the-silence-26/
LOCATION:11 Weavers End\, United Kingdom
END:VEVENT
BEGIN:VEVENT
DTSTART;TZID=UTC:20231030T113000
DTEND;TZID=UTC:20231030T150000
DTSTAMP:20260421T151234
CREATED:20231019T230932Z
LAST-MODIFIED:20231019T230939Z
UID:2029-1698665400-1698678000@stjameshanslope.org
SUMMARY:Church Flower Team decorating Hanslope Church
DESCRIPTION:
URL:https://stjameshanslope.org/event/church-flower-team-decorating-hanslope-church-2/
LOCATION:St James the Great\, Hanslope
END:VEVENT
BEGIN:VEVENT
DTSTART;TZID=UTC:20231030T093000
DTEND;TZID=UTC:20231030T093000
DTSTAMP:20260421T151234
CREATED:20230824T152548Z
LAST-MODIFIED:20230824T152553Z
UID:1552-1698658200-1698658200@stjameshanslope.org
SUMMARY:Little Angels
DESCRIPTION:
URL:https://stjameshanslope.org/event/little-angels-17/
LOCATION:St James the Great\, Hanslope
END:VEVENT
BEGIN:VEVENT
DTSTART;TZID=UTC:20231029T093000
DTEND;TZID=UTC:20231029T093000
DTSTAMP:20260421T151234
CREATED:20230802T213813Z
LAST-MODIFIED:20230922T000809Z
UID:1376-1698571800-1698571800@stjameshanslope.org
SUMMARY:Feast of SS Simon and Jude Patronal Festival Joint Benefice Mass
DESCRIPTION:
URL:https://stjameshanslope.org/event/feast-of-ss-simon-and-jude-patronal-festival-joint-benefice-mass/
LOCATION:SS Simon and Jude\, Castlethorpe
END:VEVENT
BEGIN:VEVENT
DTSTART;TZID=UTC:20231028T073000
DTEND;TZID=UTC:20231028T100000
DTSTAMP:20260421T151234
CREATED:20231025T195106Z
LAST-MODIFIED:20231025T195114Z
UID:2033-1698478200-1698487200@stjameshanslope.org
SUMMARY:Hanslope Church cleaning
DESCRIPTION:
URL:https://stjameshanslope.org/event/hanslope-church-cleaning-6/
LOCATION:St James the Great\, Hanslope
END:VEVENT
BEGIN:VEVENT
DTSTART;TZID=UTC:20231027T193000
DTEND;TZID=UTC:20231027T193000
DTSTAMP:20260421T151234
CREATED:20231017T210418Z
LAST-MODIFIED:20231017T210424Z
UID:2009-1698435000-1698435000@stjameshanslope.org
SUMMARY:Team Link Magazine meeting
DESCRIPTION:
URL:https://stjameshanslope.org/event/team-link-magazine-meeting/
END:VEVENT
BEGIN:VEVENT
DTSTART;TZID=UTC:20231027T093000
DTEND;TZID=UTC:20231027T093000
DTSTAMP:20260421T151234
CREATED:20230824T150825Z
LAST-MODIFIED:20230824T150830Z
UID:1538-1698399000-1698399000@stjameshanslope.org
SUMMARY:Craftivists
DESCRIPTION:
URL:https://stjameshanslope.org/event/craftivists-14/
LOCATION:St James the Great\, Hanslope
END:VEVENT
BEGIN:VEVENT
DTSTART;TZID=UTC:20231026T193000
DTEND;TZID=UTC:20231026T210000
DTSTAMP:20260421T151234
CREATED:20230922T003101Z
LAST-MODIFIED:20230922T003109Z
UID:1859-1698348600-1698354000@stjameshanslope.org
SUMMARY:The Chosen – Bible Study Group
DESCRIPTION:
URL:https://stjameshanslope.org/event/the-chosen-bible-study-group-6/
LOCATION:12 Weavers End
END:VEVENT
BEGIN:VEVENT
DTSTART;TZID=UTC:20231026T180000
DTEND;TZID=UTC:20231026T180000
DTSTAMP:20260421T151234
CREATED:20230824T153819Z
LAST-MODIFIED:20230824T153824Z
UID:1560-1698343200-1698343200@stjameshanslope.org
SUMMARY:Choir Practice
DESCRIPTION:
URL:https://stjameshanslope.org/event/choir-practice-28/
LOCATION:St James the Great\, Hanslope
END:VEVENT
BEGIN:VEVENT
DTSTART;TZID=UTC:20231026T093000
DTEND;TZID=UTC:20231026T093000
DTSTAMP:20260421T151234
CREATED:20230824T143517Z
LAST-MODIFIED:20230824T143523Z
UID:1509-1698312600-1698312600@stjameshanslope.org
SUMMARY:Said Mass St James the Great
DESCRIPTION:
URL:https://stjameshanslope.org/event/said-mass-st-james-the-great-16/
LOCATION:St James the Great\, Hanslope
END:VEVENT
BEGIN:VEVENT
DTSTART;TZID=UTC:20231025T170000
DTEND;TZID=UTC:20231025T170000
DTSTAMP:20260421T151234
CREATED:20230824T141600Z
LAST-MODIFIED:20230824T141600Z
UID:1476-1698253200-1698253200@stjameshanslope.org
SUMMARY:Said Mass SS Simon and Jude
DESCRIPTION:
URL:https://stjameshanslope.org/event/said-mass-ss-simon-and-jude-8/
LOCATION:SS Simon and Jude\, Castlethorpe
END:VEVENT
BEGIN:VEVENT
DTSTART;TZID=UTC:20231025T103000
DTEND;TZID=UTC:20231025T123000
DTSTAMP:20260421T151234
CREATED:20230824T145217Z
LAST-MODIFIED:20231013T201521Z
UID:1519-1698229800-1698237000@stjameshanslope.org
SUMMARY:Carers’ Support Group
DESCRIPTION:
URL:https://stjameshanslope.org/event/carers-support-group-8/
LOCATION:12 Weavers End
END:VEVENT
BEGIN:VEVENT
DTSTART;TZID=UTC:20231023T173000
DTEND;TZID=UTC:20231023T173000
DTSTAMP:20260421T151234
CREATED:20230824T135246Z
LAST-MODIFIED:20230824T135246Z
UID:1438-1698082200-1698082200@stjameshanslope.org
SUMMARY:Following the Silence
DESCRIPTION:
URL:https://stjameshanslope.org/event/following-the-silence-25/
LOCATION:11 Weavers End\, United Kingdom
END:VEVENT
BEGIN:VEVENT
DTSTART;TZID=UTC:20231023T093000
DTEND;TZID=UTC:20231023T093000
DTSTAMP:20260421T151234
CREATED:20231009T212825Z
LAST-MODIFIED:20231009T212839Z
UID:1954-1698053400-1698053400@stjameshanslope.org
SUMMARY:Little Angels Xtra
DESCRIPTION:
URL:https://stjameshanslope.org/event/little-angels-xtra-2/
LOCATION:St James the Great\, Hanslope
END:VEVENT
BEGIN:VEVENT
DTSTART;TZID=UTC:20231022T170000
DTEND;TZID=UTC:20231022T170000
DTSTAMP:20260421T151234
CREATED:20230802T215656Z
LAST-MODIFIED:20230825T224257Z
UID:1393-1697994000-1697994000@stjameshanslope.org
SUMMARY:Evening Prayer SS Simon and Jude
DESCRIPTION:
URL:https://stjameshanslope.org/event/evening-prayer-18/
LOCATION:SS Simon and Jude\, Castlethorpe
END:VEVENT
BEGIN:VEVENT
DTSTART;TZID=UTC:20231022T111500
DTEND;TZID=UTC:20231022T111500
DTSTAMP:20260421T151234
CREATED:20230723T204241Z
LAST-MODIFIED:20230825T222815Z
UID:1334-1697973300-1697973300@stjameshanslope.org
SUMMARY:Sung Mass plus Baptism St James the Great
DESCRIPTION:
URL:https://stjameshanslope.org/event/sung-mass-plus-baptism/
LOCATION:St James the Great\, Hanslope
END:VEVENT
BEGIN:VEVENT
DTSTART;TZID=UTC:20231022T100000
DTEND;TZID=UTC:20231022T180000
DTSTAMP:20260421T151234
CREATED:20230826T222217Z
LAST-MODIFIED:20231017T232153Z
UID:1732-1697968800-1697997600@stjameshanslope.org
SUMMARY:Hanslope Scarecrow Festival - Church opened between 2pm and 4pm for refreshments
DESCRIPTION:
URL:https://stjameshanslope.org/event/hanslope-scarecrow-festival-2/
LOCATION:Hanslope
END:VEVENT
BEGIN:VEVENT
DTSTART;TZID=UTC:20231022T093000
DTEND;TZID=UTC:20231022T093000
DTSTAMP:20260421T151234
CREATED:20230723T204417Z
LAST-MODIFIED:20230825T222612Z
UID:1336-1697967000-1697967000@stjameshanslope.org
SUMMARY:Sung Mass SS Simon and Jude
DESCRIPTION:
URL:https://stjameshanslope.org/event/sung-mass-46/
LOCATION:SS Simon and Jude\, Castlethorpe
END:VEVENT
BEGIN:VEVENT
DTSTART;TZID=UTC:20231021T100000
DTEND;TZID=UTC:20231021T180000
DTSTAMP:20260421T151234
CREATED:20230826T222114Z
LAST-MODIFIED:20231017T232056Z
UID:1730-1697882400-1697911200@stjameshanslope.org
SUMMARY:Hanslope Scarecrow Festival - Church opened between 10am and 12pm for refreshments
DESCRIPTION:
URL:https://stjameshanslope.org/event/hanslope-scarecrow-festival/
LOCATION:Hanslope
END:VEVENT
BEGIN:VEVENT
DTSTART;TZID=UTC:20231021T100000
DTEND;TZID=UTC:20231021T120000
DTSTAMP:20260421T151234
CREATED:20230718T234822Z
LAST-MODIFIED:20230825T224324Z
UID:1313-1697882400-1697889600@stjameshanslope.org
SUMMARY:Castlethorpe’s Coffee Morning
DESCRIPTION:
URL:https://stjameshanslope.org/event/castlethorpe-coffee-morning-3/
LOCATION:SS Simon and Jude\, Castlethorpe
END:VEVENT
BEGIN:VEVENT
DTSTART;TZID=UTC:20231020T153000
DTEND;TZID=UTC:20231020T153000
DTSTAMP:20260421T151234
CREATED:20230826T195126Z
LAST-MODIFIED:20230826T195134Z
UID:1720-1697815800-1697815800@stjameshanslope.org
SUMMARY:Inspire Youth Group
DESCRIPTION:
URL:https://stjameshanslope.org/event/inspire-youth-group-12/
LOCATION:St James the Great\, Hanslope
END:VEVENT
BEGIN:VEVENT
DTSTART;TZID=UTC:20231020T100000
DTEND;TZID=UTC:20231020T120000
DTSTAMP:20260421T151234
CREATED:20230824T213117Z
LAST-MODIFIED:20230824T213123Z
UID:1590-1697796000-1697803200@stjameshanslope.org
SUMMARY:Little Lambs
DESCRIPTION:
URL:https://stjameshanslope.org/event/little-lambs-21/
LOCATION:SS Simon and Jude\, Castlethorpe
END:VEVENT
BEGIN:VEVENT
DTSTART;TZID=UTC:20231020T093000
DTEND;TZID=UTC:20231020T093000
DTSTAMP:20260421T151234
CREATED:20230824T150736Z
LAST-MODIFIED:20230824T150742Z
UID:1536-1697794200-1697794200@stjameshanslope.org
SUMMARY:Craftivists
DESCRIPTION:
URL:https://stjameshanslope.org/event/craftivists-13/
LOCATION:St James the Great\, Hanslope
END:VEVENT
BEGIN:VEVENT
DTSTART;TZID=UTC:20231019T193000
DTEND;TZID=UTC:20231019T210000
DTSTAMP:20260421T151234
CREATED:20230922T003008Z
LAST-MODIFIED:20230922T003016Z
UID:1857-1697743800-1697749200@stjameshanslope.org
SUMMARY:The Chosen – Bible Study Group
DESCRIPTION:
URL:https://stjameshanslope.org/event/the-chosen-bible-study-group-5/
LOCATION:12 Weavers End
END:VEVENT
BEGIN:VEVENT
DTSTART;TZID=UTC:20231019T180000
DTEND;TZID=UTC:20231019T180000
DTSTAMP:20260421T151234
CREATED:20230824T153722Z
LAST-MODIFIED:20230824T153729Z
UID:1558-1697738400-1697738400@stjameshanslope.org
SUMMARY:Choir Practice
DESCRIPTION:
URL:https://stjameshanslope.org/event/choir-practice-27/
LOCATION:St James the Great\, Hanslope
END:VEVENT
BEGIN:VEVENT
DTSTART;TZID=UTC:20231019T123000
DTEND;TZID=UTC:20231019T123000
DTSTAMP:20260421T151234
CREATED:20230826T194208Z
LAST-MODIFIED:20230826T194214Z
UID:1714-1697718600-1697718600@stjameshanslope.org
SUMMARY:Community Lunch
DESCRIPTION:
URL:https://stjameshanslope.org/event/community-lunch-5/
LOCATION:St James the Great\, Hanslope
END:VEVENT
BEGIN:VEVENT
DTSTART;TZID=UTC:20231019T093000
DTEND;TZID=UTC:20231019T093000
DTSTAMP:20260421T151234
CREATED:20230824T143433Z
LAST-MODIFIED:20230824T143439Z
UID:1507-1697707800-1697707800@stjameshanslope.org
SUMMARY:Said Mass St James the Great
DESCRIPTION:
URL:https://stjameshanslope.org/event/said-mass-st-james-the-great-15/
LOCATION:St James the Great\, Hanslope
END:VEVENT
BEGIN:VEVENT
DTSTART;TZID=UTC:20231018T170000
DTEND;TZID=UTC:20231018T170000
DTSTAMP:20260421T151234
CREATED:20230824T141518Z
LAST-MODIFIED:20230824T141518Z
UID:1474-1697648400-1697648400@stjameshanslope.org
SUMMARY:Said Mass SS Simon and Jude
DESCRIPTION:
URL:https://stjameshanslope.org/event/said-mass-ss-simon-and-jude-7/
LOCATION:SS Simon and Jude\, Castlethorpe
END:VEVENT
BEGIN:VEVENT
DTSTART;TZID=UTC:20231016T200000
DTEND;TZID=UTC:20231016T200000
DTSTAMP:20260421T151234
CREATED:20230824T144704Z
LAST-MODIFIED:20231013T203348Z
UID:1517-1697486400-1697486400@stjameshanslope.org
SUMMARY:Cancer Wellbeing & Support Group
DESCRIPTION:
URL:https://stjameshanslope.org/event/cancer-support-group-7/
LOCATION:12 Weavers End
END:VEVENT
END:VCALENDAR