BEGIN:VCALENDAR
VERSION:2.0
PRODID:-//St James the Great - ECPv6.15.20//NONSGML v1.0//EN
CALSCALE:GREGORIAN
METHOD:PUBLISH
X-WR-CALNAME:St James the Great
X-ORIGINAL-URL:https://stjameshanslope.org
X-WR-CALDESC:Events for St James the Great
REFRESH-INTERVAL;VALUE=DURATION:PT1H
X-Robots-Tag:noindex
X-PUBLISHED-TTL:PT1H
BEGIN:VTIMEZONE
TZID:UTC
BEGIN:STANDARD
TZOFFSETFROM:+0000
TZOFFSETTO:+0000
TZNAME:UTC
DTSTART:20220101T000000
END:STANDARD
END:VTIMEZONE
BEGIN:VEVENT
DTSTART;TZID=UTC:20230909T110000
DTEND;TZID=UTC:20230909T160000
DTSTAMP:20260422T052655
CREATED:20230824T154657Z
LAST-MODIFIED:20230824T163301Z
UID:1562-1694257200-1694275200@stjameshanslope.org
SUMMARY:Heritage Open Day and Tours
DESCRIPTION:Extra information \nTours at approx.: 1130\, 1300 & 1500
URL:https://stjameshanslope.org/event/heritage-open-day-and-tours/
LOCATION:St James the Great\, Hanslope
END:VEVENT
BEGIN:VEVENT
DTSTART;TZID=UTC:20230909T103000
DTEND;TZID=UTC:20230909T133000
DTSTAMP:20260422T052655
CREATED:20230826T210145Z
LAST-MODIFIED:20230902T220609Z
UID:1724-1694255400-1694266200@stjameshanslope.org
SUMMARY:Castlethorpe Churchyard Tidy up
DESCRIPTION:
URL:https://stjameshanslope.org/event/castlethorpe-churchyard-tidy-up/
LOCATION:SS Simon and Jude\, Castlethorpe
END:VEVENT
BEGIN:VEVENT
DTSTART;TZID=UTC:20230909T100000
DTEND;TZID=UTC:20230909T130000
DTSTAMP:20260422T052655
CREATED:20230718T232910Z
LAST-MODIFIED:20230825T141222Z
UID:1301-1694253600-1694264400@stjameshanslope.org
SUMMARY:NEW Garage Sale
DESCRIPTION:
URL:https://stjameshanslope.org/event/new-garage-sale/
LOCATION:Hanslope
END:VEVENT
BEGIN:VEVENT
DTSTART;VALUE=DATE:20230909
DTEND;VALUE=DATE:20230910
DTSTAMP:20260422T052655
CREATED:20230718T232248Z
LAST-MODIFIED:20230718T232253Z
UID:1291-1694217600-1694303999@stjameshanslope.org
SUMMARY:BHCT Ride and Stride
DESCRIPTION:
URL:https://stjameshanslope.org/event/bhct-ride-and-stride/
END:VEVENT
BEGIN:VEVENT
DTSTART;TZID=UTC:20230908T100000
DTEND;TZID=UTC:20230908T120000
DTSTAMP:20260422T052655
CREATED:20230824T212229Z
LAST-MODIFIED:20230824T212237Z
UID:1578-1694167200-1694174400@stjameshanslope.org
SUMMARY:Little Lambs
DESCRIPTION:
URL:https://stjameshanslope.org/event/little-lambs-14/
LOCATION:SS Simon and Jude\, Castlethorpe
END:VEVENT
BEGIN:VEVENT
DTSTART;TZID=UTC:20230908T093000
DTEND;TZID=UTC:20230908T093000
DTSTAMP:20260422T052655
CREATED:20230824T150225Z
LAST-MODIFIED:20230824T150243Z
UID:1523-1694165400-1694165400@stjameshanslope.org
SUMMARY:Craftivists
DESCRIPTION:
URL:https://stjameshanslope.org/event/craftivists-7/
LOCATION:St James the Great\, Hanslope
END:VEVENT
BEGIN:VEVENT
DTSTART;TZID=UTC:20230907T180000
DTEND;TZID=UTC:20230907T180000
DTSTAMP:20260422T052655
CREATED:20230824T140142Z
LAST-MODIFIED:20230824T140142Z
UID:1452-1694109600-1694109600@stjameshanslope.org
SUMMARY:Choir Practice
DESCRIPTION:
URL:https://stjameshanslope.org/event/choir-practice-21/
LOCATION:St James the Great\, Hanslope
END:VEVENT
BEGIN:VEVENT
DTSTART;TZID=UTC:20230907T093000
DTEND;TZID=UTC:20230907T093000
DTSTAMP:20260422T052655
CREATED:20230824T142848Z
LAST-MODIFIED:20230824T142855Z
UID:1495-1694079000-1694079000@stjameshanslope.org
SUMMARY:Said Mass St James the Great
DESCRIPTION:
URL:https://stjameshanslope.org/event/said-mass-st-james-the-great-9/
LOCATION:St James the Great\, Hanslope
END:VEVENT
BEGIN:VEVENT
DTSTART;TZID=UTC:20230906T170000
DTEND;TZID=UTC:20230906T170000
DTSTAMP:20260422T052655
CREATED:20230824T141007Z
LAST-MODIFIED:20230824T141007Z
UID:1462-1694019600-1694019600@stjameshanslope.org
SUMMARY:Said Mass SS Simon and Jude
DESCRIPTION:← Back Thank you for your response. ✨\n\n\n					\n						\n							\n							\n						\n						\n						\n						\n						\n							\n								\n									\n										\n										\n									\n									\n										\n										\n									\n								\n							\n						\n						\n							\n								\n									\n									\n										\n									\n									\n									\n								\n							\n						\n					\n				\n\n\n\nName(required)\n\n \n			\n				\n					\n						\n						\n						\n					\n				\n				\n			 \n	\n\n\nEmail(required)\n\n \n			\n				\n					\n						\n						\n						\n					\n				\n				\n			 \n	\n\n\nWebsite\n\n \n			\n				\n					\n						\n						\n						\n					\n				\n				\n			 \n	\n\n\nMessage\n\n \n			\n				\n					\n						\n						\n						\n					\n				\n				\n			\n	\n	\n\n				\n					\n				\n						Submit		\n		\n		\n	 \nΔ
URL:https://stjameshanslope.org/event/said-mass-ss-simon-and-jude/
LOCATION:SS Simon and Jude\, Castlethorpe
END:VEVENT
BEGIN:VEVENT
DTSTART;TZID=UTC:20230904T184500
DTEND;TZID=UTC:20230904T184500
DTSTAMP:20260422T052655
CREATED:20230902T204417Z
LAST-MODIFIED:20230902T204425Z
UID:1747-1693853100-1693853100@stjameshanslope.org
SUMMARY:Team LINK Meeting
DESCRIPTION:At the home of Anne and Alex Adams
URL:https://stjameshanslope.org/event/team-link-meeting/
LOCATION:Hanslope
END:VEVENT
BEGIN:VEVENT
DTSTART;TZID=UTC:20230904T173000
DTEND;TZID=UTC:20230904T173000
DTSTAMP:20260422T052655
CREATED:20230824T135531Z
LAST-MODIFIED:20230824T135531Z
UID:1442-1693848600-1693848600@stjameshanslope.org
SUMMARY:Following the Silence
DESCRIPTION:
URL:https://stjameshanslope.org/event/following-the-silence-27/
LOCATION:11 Weavers End\, United Kingdom
END:VEVENT
BEGIN:VEVENT
DTSTART;TZID=UTC:20230904T140000
DTEND;TZID=UTC:20230904T160000
DTSTAMP:20260422T052655
CREATED:20230826T164035Z
LAST-MODIFIED:20230826T164044Z
UID:1662-1693836000-1693843200@stjameshanslope.org
SUMMARY:Teatime Treats at Lincoln Court
DESCRIPTION:
URL:https://stjameshanslope.org/event/teatime-treats-at-lincoln-court/
LOCATION:Hanslope
END:VEVENT
BEGIN:VEVENT
DTSTART;TZID=UTC:20230904T133000
DTEND;TZID=UTC:20230904T143000
DTSTAMP:20260422T052655
CREATED:20230826T222600Z
LAST-MODIFIED:20230826T222608Z
UID:1734-1693834200-1693837800@stjameshanslope.org
SUMMARY:Hanslope Church cleaning
DESCRIPTION:
URL:https://stjameshanslope.org/event/hanslope-church-cleaning/
LOCATION:St James the Great\, Hanslope
END:VEVENT
BEGIN:VEVENT
DTSTART;TZID=UTC:20230904T093000
DTEND;TZID=UTC:20230904T093000
DTSTAMP:20260422T052655
CREATED:20230824T211926Z
LAST-MODIFIED:20230824T211936Z
UID:1576-1693819800-1693819800@stjameshanslope.org
SUMMARY:Little Angels
DESCRIPTION:
URL:https://stjameshanslope.org/event/little-angels-18/
LOCATION:St James the Great\, Hanslope
END:VEVENT
BEGIN:VEVENT
DTSTART;TZID=UTC:20230903T111500
DTEND;TZID=UTC:20230903T111500
DTSTAMP:20260422T052655
CREATED:20230802T164312Z
LAST-MODIFIED:20230825T222434Z
UID:1358-1693739700-1693739700@stjameshanslope.org
SUMMARY:Sung Mass St James the Great
DESCRIPTION:
URL:https://stjameshanslope.org/event/sung-mass-48/
LOCATION:St James the Great\, Hanslope
END:VEVENT
BEGIN:VEVENT
DTSTART;TZID=UTC:20230903T093000
DTEND;TZID=UTC:20230903T093000
DTSTAMP:20260422T052655
CREATED:20230802T164239Z
LAST-MODIFIED:20230825T221908Z
UID:1356-1693733400-1693733400@stjameshanslope.org
SUMMARY:Sung Mass SS Simon and Jude
DESCRIPTION:
URL:https://stjameshanslope.org/event/sung-mass-47/
LOCATION:SS Simon and Jude\, Castlethorpe
END:VEVENT
BEGIN:VEVENT
DTSTART;TZID=UTC:20230902T163000
DTEND;TZID=UTC:20230902T163000
DTSTAMP:20260422T052655
CREATED:20230718T234143Z
LAST-MODIFIED:20230718T234147Z
UID:1307-1693672200-1693672200@stjameshanslope.org
SUMMARY:Rosary Group
DESCRIPTION:
URL:https://stjameshanslope.org/event/rosary-group-10/
LOCATION:The Vicarage\, United Kingdom
END:VEVENT
BEGIN:VEVENT
DTSTART;TZID=UTC:20230902T120000
DTEND;TZID=UTC:20230902T140000
DTSTAMP:20260422T052655
CREATED:20230826T163859Z
LAST-MODIFIED:20230826T163927Z
UID:1659-1693656000-1693663200@stjameshanslope.org
SUMMARY:Joint Sunday School Picnic
DESCRIPTION:
URL:https://stjameshanslope.org/event/joint-sunday-school-picnic/
END:VEVENT
BEGIN:VEVENT
DTSTART;TZID=UTC:20230901T093000
DTEND;TZID=UTC:20230901T093000
DTSTAMP:20260422T052655
CREATED:20230824T150131Z
LAST-MODIFIED:20230824T150137Z
UID:1521-1693560600-1693560600@stjameshanslope.org
SUMMARY:Craftivists
DESCRIPTION:
URL:https://stjameshanslope.org/event/craftivists-2/
LOCATION:St James the Great\, Hanslope
END:VEVENT
BEGIN:VEVENT
DTSTART;TZID=UTC:20230831T180000
DTEND;TZID=UTC:20230831T180000
DTSTAMP:20260422T052655
CREATED:20230824T140055Z
LAST-MODIFIED:20230824T140055Z
UID:1450-1693504800-1693504800@stjameshanslope.org
SUMMARY:Choir Practice
DESCRIPTION:
URL:https://stjameshanslope.org/event/choir-practice-20/
LOCATION:St James the Great\, Hanslope
END:VEVENT
BEGIN:VEVENT
DTSTART;TZID=UTC:20230831T093000
DTEND;TZID=UTC:20230831T093000
DTSTAMP:20260422T052655
CREATED:20230718T202206Z
LAST-MODIFIED:20230718T202210Z
UID:1163-1693474200-1693474200@stjameshanslope.org
SUMMARY:Said Mass
DESCRIPTION:
URL:https://stjameshanslope.org/event/said-mass-43/
LOCATION:St James the Great\, Hanslope
END:VEVENT
BEGIN:VEVENT
DTSTART;TZID=UTC:20230830T170000
DTEND;TZID=UTC:20230830T170000
DTSTAMP:20260422T052655
CREATED:20230718T201439Z
LAST-MODIFIED:20230718T201444Z
UID:1149-1693414800-1693414800@stjameshanslope.org
SUMMARY:Said Mass
DESCRIPTION:
URL:https://stjameshanslope.org/event/said-mass-36/
LOCATION:SS Simon and Jude\, Castlethorpe
END:VEVENT
BEGIN:VEVENT
DTSTART;TZID=UTC:20230829T140000
DTEND;TZID=UTC:20230829T140000
DTSTAMP:20260422T052655
CREATED:20230824T164544Z
LAST-MODIFIED:20230824T164553Z
UID:1572-1693317600-1693317600@stjameshanslope.org
SUMMARY:Funeral and Requiem Mass for the late Dr Andrea Kingston
DESCRIPTION:
URL:https://stjameshanslope.org/event/funeral-and-requiem-mass-for-the-late-dr-andrea-kingston/
LOCATION:St James the Great\, Hanslope
END:VEVENT
BEGIN:VEVENT
DTSTART;VALUE=DATE:20230828
DTEND;VALUE=DATE:20230829
DTSTAMP:20260422T052655
CREATED:20230718T231503Z
LAST-MODIFIED:20230718T231507Z
UID:1287-1693180800-1693267199@stjameshanslope.org
SUMMARY:Walsingham Pilgrimage of Healing & Renewal - Parish outing
DESCRIPTION:
URL:https://stjameshanslope.org/event/walsingham-pilgrimage-of-healing-renewal-parish-outing/
LOCATION:Walsingham\, United Kingdom
END:VEVENT
BEGIN:VEVENT
DTSTART;TZID=UTC:20230827T170000
DTEND;TZID=UTC:20230827T170000
DTSTAMP:20260422T052655
CREATED:20230718T224954Z
LAST-MODIFIED:20230718T224957Z
UID:1248-1693155600-1693155600@stjameshanslope.org
SUMMARY:Evening Prayer
DESCRIPTION:
URL:https://stjameshanslope.org/event/evening-prayer-15/
LOCATION:SS Simon and Jude\, Castlethorpe
END:VEVENT
BEGIN:VEVENT
DTSTART;TZID=UTC:20230827T150000
DTEND;TZID=UTC:20230827T170000
DTSTAMP:20260422T052655
CREATED:20230718T224811Z
LAST-MODIFIED:20230825T220957Z
UID:1244-1693148400-1693155600@stjameshanslope.org
SUMMARY:Summer Sunday Tea and Cake in aid of HO
DESCRIPTION:Entertainment from Justin\, Stewart and Rie with songs including Flanders\, Swan and Mozart. Not to be missed!
URL:https://stjameshanslope.org/event/summer-sunday-tea-and-cake-in-aid-of-ho-4/
LOCATION:St James the Great\, Hanslope
END:VEVENT
BEGIN:VEVENT
DTSTART;TZID=UTC:20230827T111500
DTEND;TZID=UTC:20230827T111500
DTSTAMP:20260422T052655
CREATED:20230718T231228Z
LAST-MODIFIED:20230825T222842Z
UID:1283-1693134900-1693134900@stjameshanslope.org
SUMMARY:Sung Mass St James the Great
DESCRIPTION:
URL:https://stjameshanslope.org/event/sung-mass-45/
LOCATION:St James the Great\, Hanslope
END:VEVENT
BEGIN:VEVENT
DTSTART;TZID=UTC:20230827T093000
DTEND;TZID=UTC:20230827T093000
DTSTAMP:20260422T052655
CREATED:20230718T231146Z
LAST-MODIFIED:20230825T222659Z
UID:1281-1693128600-1693128600@stjameshanslope.org
SUMMARY:Sung Mass SS Simon and Jude
DESCRIPTION:
URL:https://stjameshanslope.org/event/sung-mass-44/
LOCATION:SS Simon and Jude\, Castlethorpe
END:VEVENT
BEGIN:VEVENT
DTSTART;TZID=UTC:20230826T090000
DTEND;TZID=UTC:20230826T100000
DTSTAMP:20260422T052655
CREATED:20230826T222723Z
LAST-MODIFIED:20230826T222729Z
UID:1736-1693040400-1693044000@stjameshanslope.org
SUMMARY:Hanslope Church cleaning
DESCRIPTION:
URL:https://stjameshanslope.org/event/hanslope-church-cleaning-2/
LOCATION:St James the Great\, Hanslope
END:VEVENT
BEGIN:VEVENT
DTSTART;TZID=UTC:20230825T093000
DTEND;TZID=UTC:20230825T093000
DTSTAMP:20260422T052655
CREATED:20230718T231034Z
LAST-MODIFIED:20230718T231038Z
UID:1279-1692955800-1692955800@stjameshanslope.org
SUMMARY:Craftivists
DESCRIPTION:
URL:https://stjameshanslope.org/event/craftivists-6/
LOCATION:St James the Great\, Hanslope
END:VEVENT
END:VCALENDAR