BEGIN:VCALENDAR
VERSION:2.0
PRODID:-//St James the Great - ECPv6.15.20//NONSGML v1.0//EN
CALSCALE:GREGORIAN
METHOD:PUBLISH
X-WR-CALNAME:St James the Great
X-ORIGINAL-URL:https://stjameshanslope.org
X-WR-CALDESC:Events for St James the Great
REFRESH-INTERVAL;VALUE=DURATION:PT1H
X-Robots-Tag:noindex
X-PUBLISHED-TTL:PT1H
BEGIN:VTIMEZONE
TZID:UTC
BEGIN:STANDARD
TZOFFSETFROM:+0000
TZOFFSETTO:+0000
TZNAME:UTC
DTSTART:20230101T000000
END:STANDARD
END:VTIMEZONE
BEGIN:VEVENT
DTSTART;TZID=UTC:20240118T180000
DTEND;TZID=UTC:20240118T180000
DTSTAMP:20260422T102002
CREATED:20231027T213948Z
LAST-MODIFIED:20231027T213954Z
UID:2113-1705600800-1705600800@stjameshanslope.org
SUMMARY:Choir Practice
DESCRIPTION:
URL:https://stjameshanslope.org/event/choir-practice-39/
LOCATION:St James the Great\, Hanslope
END:VEVENT
BEGIN:VEVENT
DTSTART;TZID=UTC:20240119T100000
DTEND;TZID=UTC:20240119T120000
DTSTAMP:20260422T102002
CREATED:20231027T215708Z
LAST-MODIFIED:20231027T215715Z
UID:2131-1705658400-1705665600@stjameshanslope.org
SUMMARY:Little Lambs
DESCRIPTION:
URL:https://stjameshanslope.org/event/little-lambs-31/
LOCATION:SS Simon and Jude\, Castlethorpe
END:VEVENT
BEGIN:VEVENT
DTSTART;TZID=UTC:20240119T103000
DTEND;TZID=UTC:20240119T133000
DTSTAMP:20260422T102002
CREATED:20231227T180118Z
LAST-MODIFIED:20231227T180140Z
UID:2397-1705660200-1705671000@stjameshanslope.org
SUMMARY:Warm Hub @ Methodist Chapel
DESCRIPTION:
URL:https://stjameshanslope.org/event/warm-hub-methodist-chapel-3/
END:VEVENT
BEGIN:VEVENT
DTSTART;TZID=UTC:20240119T120000
DTEND;TZID=UTC:20240119T140000
DTSTAMP:20260422T102002
CREATED:20240107T213233Z
LAST-MODIFIED:20240107T215838Z
UID:2516-1705665600-1705672800@stjameshanslope.org
SUMMARY:Warm Space @ SS Simon and Jude
DESCRIPTION:
URL:https://stjameshanslope.org/event/warm-space-ss-simon-and-jude-2/
LOCATION:SS Simon and Jude\, Castlethorpe
END:VEVENT
BEGIN:VEVENT
DTSTART;TZID=UTC:20240119T153000
DTEND;TZID=UTC:20240119T173000
DTSTAMP:20260422T102002
CREATED:20231125T202513Z
LAST-MODIFIED:20231125T202519Z
UID:2317-1705678200-1705685400@stjameshanslope.org
SUMMARY:Inspire Youth Group
DESCRIPTION:
URL:https://stjameshanslope.org/event/inspire-youth-group-21/
LOCATION:St James the Great\, Hanslope
END:VEVENT
BEGIN:VEVENT
DTSTART;TZID=UTC:20240120T100000
DTEND;TZID=UTC:20240120T120000
DTSTAMP:20260422T102002
CREATED:20231112T001113Z
LAST-MODIFIED:20231112T001122Z
UID:2198-1705744800-1705752000@stjameshanslope.org
SUMMARY:Castlethorpe’s Coffee Morning
DESCRIPTION:
URL:https://stjameshanslope.org/event/castlethorpes-coffee-morning-2/
LOCATION:SS Simon and Jude\, Castlethorpe
END:VEVENT
BEGIN:VEVENT
DTSTART;TZID=UTC:20240121T093000
DTEND;TZID=UTC:20240121T093000
DTSTAMP:20260422T102003
CREATED:20231027T211132Z
LAST-MODIFIED:20231027T211137Z
UID:2065-1705829400-1705829400@stjameshanslope.org
SUMMARY:Sung Mass SS Simon and Jude
DESCRIPTION:
URL:https://stjameshanslope.org/event/sung-mass-ss-simon-and-jude-2/
LOCATION:SS Simon and Jude\, Castlethorpe
END:VEVENT
BEGIN:VEVENT
DTSTART;TZID=UTC:20240121T111500
DTEND;TZID=UTC:20240121T111500
DTSTAMP:20260422T102003
CREATED:20231027T211403Z
LAST-MODIFIED:20231027T211408Z
UID:2071-1705835700-1705835700@stjameshanslope.org
SUMMARY:Sung Mass St James the Great
DESCRIPTION:
URL:https://stjameshanslope.org/event/sung-mass-st-james-the-great-2/
LOCATION:St James the Great\, Hanslope
END:VEVENT
BEGIN:VEVENT
DTSTART;TZID=UTC:20240121T140000
DTEND;TZID=UTC:20240121T160000
DTSTAMP:20260422T102003
CREATED:20231028T120759Z
LAST-MODIFIED:20231028T120808Z
UID:2135-1705845600-1705852800@stjameshanslope.org
SUMMARY:Joint Sunday School Post Christmas Party
DESCRIPTION:
URL:https://stjameshanslope.org/event/joint-sunday-school-post-christmas-party/
LOCATION:St James the Great\, Hanslope
END:VEVENT
BEGIN:VEVENT
DTSTART;TZID=UTC:20240121T160000
DTEND;TZID=UTC:20240121T170000
DTSTAMP:20260422T102003
CREATED:20231028T120953Z
LAST-MODIFIED:20231028T121002Z
UID:2137-1705852800-1705856400@stjameshanslope.org
SUMMARY:Joint Sunday School Post Christmas Party-parents cheese and wine
DESCRIPTION:
URL:https://stjameshanslope.org/event/joint-sunday-school-post-christmas-party-parents-cheese-and-wine/
LOCATION:St James the Great\, Hanslope
END:VEVENT
BEGIN:VEVENT
DTSTART;TZID=UTC:20240122T093000
DTEND;TZID=UTC:20240122T093000
DTSTAMP:20260422T102003
CREATED:20231027T215414Z
LAST-MODIFIED:20231027T215419Z
UID:2123-1705915800-1705915800@stjameshanslope.org
SUMMARY:Little Angels
DESCRIPTION:
URL:https://stjameshanslope.org/event/little-angels-28/
LOCATION:St James the Great\, Hanslope
END:VEVENT
BEGIN:VEVENT
DTSTART;TZID=UTC:20240122T173000
DTEND;TZID=UTC:20240122T173000
DTSTAMP:20260422T102003
CREATED:20231027T211905Z
LAST-MODIFIED:20231027T211912Z
UID:2081-1705944600-1705944600@stjameshanslope.org
SUMMARY:Following the Silence
DESCRIPTION:
URL:https://stjameshanslope.org/event/following-the-silence-39/
LOCATION:11 Weavers End\, United Kingdom
END:VEVENT
BEGIN:VEVENT
DTSTART;TZID=UTC:20240124T103000
DTEND;TZID=UTC:20240124T123000
DTSTAMP:20260422T102003
CREATED:20231027T213036Z
LAST-MODIFIED:20231027T213041Z
UID:2101-1706092200-1706099400@stjameshanslope.org
SUMMARY:Carers’ Support Group
DESCRIPTION:
URL:https://stjameshanslope.org/event/carers-support-group-7/
LOCATION:12 Weavers End
END:VEVENT
BEGIN:VEVENT
DTSTART;TZID=UTC:20240124T170000
DTEND;TZID=UTC:20240124T170000
DTSTAMP:20260422T102003
CREATED:20231027T210446Z
LAST-MODIFIED:20231027T210453Z
UID:2050-1706115600-1706115600@stjameshanslope.org
SUMMARY:Said Mass SS Simon and Jude
DESCRIPTION:
URL:https://stjameshanslope.org/event/said-mass-ss-simon-and-jude-17/
LOCATION:SS Simon and Jude\, Castlethorpe
END:VEVENT
BEGIN:VEVENT
DTSTART;VALUE=DATE:20240125
DTEND;VALUE=DATE:20240126
DTSTAMP:20260422T102003
CREATED:20231029T224451Z
LAST-MODIFIED:20240108T225207Z
UID:2145-1706140800-1706227199@stjameshanslope.org
SUMMARY:The Link Magazine – article contributions deadline
DESCRIPTION:
URL:https://stjameshanslope.org/event/the-link-magazine-article-contributions-deadline/
END:VEVENT
BEGIN:VEVENT
DTSTART;TZID=UTC:20240125T093000
DTEND;TZID=UTC:20240125T093000
DTSTAMP:20260422T102003
CREATED:20231027T210943Z
LAST-MODIFIED:20231027T210948Z
UID:2061-1706175000-1706175000@stjameshanslope.org
SUMMARY:Said Mass St James the Great
DESCRIPTION:
URL:https://stjameshanslope.org/event/said-mass-st-james-the-great-26/
LOCATION:St James the Great\, Hanslope
END:VEVENT
BEGIN:VEVENT
DTSTART;TZID=UTC:20240125T180000
DTEND;TZID=UTC:20240125T180000
DTSTAMP:20260422T102003
CREATED:20231027T214022Z
LAST-MODIFIED:20231027T214026Z
UID:2115-1706205600-1706205600@stjameshanslope.org
SUMMARY:Choir Practice
DESCRIPTION:
URL:https://stjameshanslope.org/event/choir-practice-40/
LOCATION:St James the Great\, Hanslope
END:VEVENT
BEGIN:VEVENT
DTSTART;TZID=UTC:20240126T100000
DTEND;TZID=UTC:20240126T120000
DTSTAMP:20260422T102003
CREATED:20231027T215743Z
LAST-MODIFIED:20231027T215748Z
UID:2133-1706263200-1706270400@stjameshanslope.org
SUMMARY:Little Lambs
DESCRIPTION:
URL:https://stjameshanslope.org/event/little-lambs-32/
LOCATION:SS Simon and Jude\, Castlethorpe
END:VEVENT
BEGIN:VEVENT
DTSTART;TZID=UTC:20240126T103000
DTEND;TZID=UTC:20240126T133000
DTSTAMP:20260422T102003
CREATED:20231227T180304Z
LAST-MODIFIED:20231227T180312Z
UID:2402-1706265000-1706275800@stjameshanslope.org
SUMMARY:Warm Hub @ Methodist Chapel
DESCRIPTION:
URL:https://stjameshanslope.org/event/warm-hub-methodist-chapel-5/
END:VEVENT
BEGIN:VEVENT
DTSTART;TZID=UTC:20240126T120000
DTEND;TZID=UTC:20240126T140000
DTSTAMP:20260422T102003
CREATED:20240107T215923Z
LAST-MODIFIED:20240107T215930Z
UID:2520-1706270400-1706277600@stjameshanslope.org
SUMMARY:Warm Space @ SS Simon and Jude
DESCRIPTION:
URL:https://stjameshanslope.org/event/warm-space-ss-simon-and-jude-3/
LOCATION:SS Simon and Jude\, Castlethorpe
END:VEVENT
BEGIN:VEVENT
DTSTART;TZID=UTC:20240126T153000
DTEND;TZID=UTC:20240126T173000
DTSTAMP:20260422T102003
CREATED:20231125T202624Z
LAST-MODIFIED:20231125T202629Z
UID:2321-1706283000-1706290200@stjameshanslope.org
SUMMARY:Inspire Youth Group
DESCRIPTION:
URL:https://stjameshanslope.org/event/inspire-youth-group-23/
LOCATION:St James the Great\, Hanslope
END:VEVENT
BEGIN:VEVENT
DTSTART;TZID=UTC:20240128T093000
DTEND;TZID=UTC:20240128T093000
DTSTAMP:20260422T102003
CREATED:20231027T211203Z
LAST-MODIFIED:20231027T211209Z
UID:2067-1706434200-1706434200@stjameshanslope.org
SUMMARY:Sung Mass SS Simon and Jude
DESCRIPTION:
URL:https://stjameshanslope.org/event/sung-mass-ss-simon-and-jude-3/
LOCATION:SS Simon and Jude\, Castlethorpe
END:VEVENT
BEGIN:VEVENT
DTSTART;TZID=UTC:20240128T111500
DTEND;TZID=UTC:20240128T111500
DTSTAMP:20260422T102003
CREATED:20231027T211440Z
LAST-MODIFIED:20231027T211445Z
UID:2073-1706440500-1706440500@stjameshanslope.org
SUMMARY:Sung Mass St James the Great
DESCRIPTION:
URL:https://stjameshanslope.org/event/sung-mass-st-james-the-great-3/
LOCATION:St James the Great\, Hanslope
END:VEVENT
BEGIN:VEVENT
DTSTART;TZID=UTC:20240128T123000
DTEND;TZID=UTC:20240128T123000
DTSTAMP:20260422T102003
CREATED:20240122T223954Z
LAST-MODIFIED:20240122T224001Z
UID:2567-1706445000-1706445000@stjameshanslope.org
SUMMARY:Burial of Ashes of the Late Lorraine Robinson
DESCRIPTION:
URL:https://stjameshanslope.org/event/burial-of-ashes-of-the-late-lorraine-robinson/
LOCATION:St James the Great\, Hanslope
END:VEVENT
BEGIN:VEVENT
DTSTART;TZID=UTC:20240129T093000
DTEND;TZID=UTC:20240129T093000
DTSTAMP:20260422T102003
CREATED:20231027T215448Z
LAST-MODIFIED:20231027T215453Z
UID:2125-1706520600-1706520600@stjameshanslope.org
SUMMARY:Little Angels
DESCRIPTION:
URL:https://stjameshanslope.org/event/little-angels-29/
LOCATION:St James the Great\, Hanslope
END:VEVENT
BEGIN:VEVENT
DTSTART;TZID=UTC:20240129T173000
DTEND;TZID=UTC:20240129T173000
DTSTAMP:20260422T102003
CREATED:20231027T211943Z
LAST-MODIFIED:20231027T211947Z
UID:2083-1706549400-1706549400@stjameshanslope.org
SUMMARY:Following the Silence
DESCRIPTION:
URL:https://stjameshanslope.org/event/following-the-silence-40/
LOCATION:11 Weavers End\, United Kingdom
END:VEVENT
BEGIN:VEVENT
DTSTART;TZID=UTC:20240131T193000
DTEND;TZID=UTC:20240131T193000
DTSTAMP:20260422T102003
CREATED:20231027T210531Z
LAST-MODIFIED:20231027T210637Z
UID:2052-1706729400-1706729400@stjameshanslope.org
SUMMARY:Mass for Wholeness and Healing St James the Great
DESCRIPTION:
URL:https://stjameshanslope.org/event/said-mass-ss-simon-and-jude-18/
LOCATION:St James the Great\, Hanslope
END:VEVENT
BEGIN:VEVENT
DTSTART;TZID=UTC:20240201T093000
DTEND;TZID=UTC:20240201T093000
DTSTAMP:20260422T102003
CREATED:20231125T213511Z
LAST-MODIFIED:20231125T213518Z
UID:2347-1706779800-1706779800@stjameshanslope.org
SUMMARY:Said Mass St James the Great
DESCRIPTION:
URL:https://stjameshanslope.org/event/said-mass-st-james-the-great-27/
LOCATION:St James the Great\, Hanslope
END:VEVENT
BEGIN:VEVENT
DTSTART;TZID=UTC:20240201T123000
DTEND;TZID=UTC:20240201T123000
DTSTAMP:20260422T102003
CREATED:20231227T234121Z
LAST-MODIFIED:20231227T234129Z
UID:2442-1706790600-1706790600@stjameshanslope.org
SUMMARY:SS Simon and Jude’s Soup and a roll
DESCRIPTION:
URL:https://stjameshanslope.org/event/ss-simon-and-judes-soup-and-a-roll-2/
LOCATION:SS Simon and Jude\, Castlethorpe
END:VEVENT
BEGIN:VEVENT
DTSTART;TZID=UTC:20240201T180000
DTEND;TZID=UTC:20240201T180000
DTSTAMP:20260422T102003
CREATED:20231227T235515Z
LAST-MODIFIED:20231227T235531Z
UID:2463-1706810400-1706810400@stjameshanslope.org
SUMMARY:Choir Practice
DESCRIPTION:
URL:https://stjameshanslope.org/event/choir-practice-41/
LOCATION:St James the Great\, Hanslope
END:VEVENT
END:VCALENDAR