BEGIN:VCALENDAR
VERSION:2.0
PRODID:-//St James the Great - ECPv6.15.20//NONSGML v1.0//EN
CALSCALE:GREGORIAN
METHOD:PUBLISH
X-ORIGINAL-URL:https://stjameshanslope.org
X-WR-CALDESC:Events for St James the Great
REFRESH-INTERVAL;VALUE=DURATION:PT1H
X-Robots-Tag:noindex
X-PUBLISHED-TTL:PT1H
BEGIN:VTIMEZONE
TZID:UTC
BEGIN:STANDARD
TZOFFSETFROM:+0000
TZOFFSETTO:+0000
TZNAME:UTC
DTSTART:20230101T000000
END:STANDARD
END:VTIMEZONE
BEGIN:VEVENT
DTSTART;TZID=UTC:20240203T163000
DTEND;TZID=UTC:20240203T163000
DTSTAMP:20260422T151138
CREATED:20231228T000611Z
LAST-MODIFIED:20231228T000619Z
UID:2483-1706977800-1706977800@stjameshanslope.org
SUMMARY:Rosary Group at The Vicarage
DESCRIPTION:
URL:https://stjameshanslope.org/event/rosary-group-at-the-vicarage-4/
LOCATION:The Vicarage\, United Kingdom
END:VEVENT
BEGIN:VEVENT
DTSTART;TZID=UTC:20240204T093000
DTEND;TZID=UTC:20240204T093000
DTSTAMP:20260422T151138
CREATED:20231125T212505Z
LAST-MODIFIED:20231125T212512Z
UID:2325-1707039000-1707039000@stjameshanslope.org
SUMMARY:Sung Mass SS Simon and Jude
DESCRIPTION:
URL:https://stjameshanslope.org/event/sung-mass-ss-simon-and-jude-4/
LOCATION:SS Simon and Jude\, Castlethorpe
END:VEVENT
BEGIN:VEVENT
DTSTART;TZID=UTC:20240204T111500
DTEND;TZID=UTC:20240204T111500
DTSTAMP:20260422T151138
CREATED:20231125T212856Z
LAST-MODIFIED:20231125T212901Z
UID:2333-1707045300-1707045300@stjameshanslope.org
SUMMARY:Sung Mass St James the Great
DESCRIPTION:
URL:https://stjameshanslope.org/event/sung-mass-st-james-the-great-4/
LOCATION:St James the Great\, Hanslope
END:VEVENT
BEGIN:VEVENT
DTSTART;TZID=UTC:20240205T093000
DTEND;TZID=UTC:20240205T093000
DTSTAMP:20260422T151138
CREATED:20231227T233404Z
LAST-MODIFIED:20231227T233501Z
UID:2432-1707125400-1707125400@stjameshanslope.org
SUMMARY:Little Angels
DESCRIPTION:
URL:https://stjameshanslope.org/event/little-angels-27/
LOCATION:St James the Great\, Hanslope
END:VEVENT
BEGIN:VEVENT
DTSTART;TZID=UTC:20240205T140000
DTEND;TZID=UTC:20240205T160000
DTSTAMP:20260422T151138
CREATED:20231227T230923Z
LAST-MODIFIED:20231227T230935Z
UID:2411-1707141600-1707148800@stjameshanslope.org
SUMMARY:Teatime Treats at Lincoln Court
DESCRIPTION:
URL:https://stjameshanslope.org/event/teatime-treats-at-lincoln-court-5/
LOCATION:Hanslope
END:VEVENT
BEGIN:VEVENT
DTSTART;TZID=UTC:20240205T163000
DTEND;TZID=UTC:20240205T163000
DTSTAMP:20260422T151138
CREATED:20240125T222512Z
LAST-MODIFIED:20240125T222516Z
UID:2569-1707150600-1707150600@stjameshanslope.org
SUMMARY:Hanslope Church cleaning
DESCRIPTION:
URL:https://stjameshanslope.org/event/hanslope-church-cleaning-7/
LOCATION:St James the Great\, Hanslope
END:VEVENT
BEGIN:VEVENT
DTSTART;TZID=UTC:20240205T173000
DTEND;TZID=UTC:20240205T173000
DTSTAMP:20260422T151138
CREATED:20231125T214110Z
LAST-MODIFIED:20231125T214124Z
UID:2359-1707154200-1707154200@stjameshanslope.org
SUMMARY:Following the Silence
DESCRIPTION:
URL:https://stjameshanslope.org/event/following-the-silence-41/
LOCATION:11 Weavers End\, United Kingdom
END:VEVENT
BEGIN:VEVENT
DTSTART;TZID=UTC:20240206T193000
DTEND;TZID=UTC:20240206T193000
DTSTAMP:20260422T151138
CREATED:20231009T223250Z
LAST-MODIFIED:20231009T223250Z
UID:1992-1707247800-1707247800@stjameshanslope.org
SUMMARY:Hanslope’s PCC Meeting
DESCRIPTION:
URL:https://stjameshanslope.org/event/hanslopes-pcc-meeting/
LOCATION:St James the Great\, Hanslope
END:VEVENT
BEGIN:VEVENT
DTSTART;TZID=UTC:20240207T170000
DTEND;TZID=UTC:20240207T170000
DTSTAMP:20260422T151138
CREATED:20231125T213240Z
LAST-MODIFIED:20231125T213245Z
UID:2341-1707325200-1707325200@stjameshanslope.org
SUMMARY:Said Mass SS Simon and Jude
DESCRIPTION:
URL:https://stjameshanslope.org/event/said-mass-ss-simon-and-jude-19/
LOCATION:SS Simon and Jude\, Castlethorpe
END:VEVENT
BEGIN:VEVENT
DTSTART;TZID=UTC:20240208T093000
DTEND;TZID=UTC:20240208T093000
DTSTAMP:20260422T151138
CREATED:20231125T213548Z
LAST-MODIFIED:20231125T213600Z
UID:2349-1707384600-1707384600@stjameshanslope.org
SUMMARY:Said Mass St James the Great
DESCRIPTION:
URL:https://stjameshanslope.org/event/said-mass-st-james-the-great-28/
LOCATION:St James the Great\, Hanslope
END:VEVENT
BEGIN:VEVENT
DTSTART;TZID=UTC:20240208T180000
DTEND;TZID=UTC:20240208T180000
DTSTAMP:20260422T151138
CREATED:20231227T235611Z
LAST-MODIFIED:20231227T235616Z
UID:2465-1707415200-1707415200@stjameshanslope.org
SUMMARY:Choir Practice
DESCRIPTION:
URL:https://stjameshanslope.org/event/choir-practice-42/
LOCATION:St James the Great\, Hanslope
END:VEVENT
BEGIN:VEVENT
DTSTART;TZID=UTC:20240209T100000
DTEND;TZID=UTC:20240209T120000
DTSTAMP:20260422T151138
CREATED:20231228T000113Z
LAST-MODIFIED:20231228T000120Z
UID:2475-1707472800-1707480000@stjameshanslope.org
SUMMARY:Little Lambs
DESCRIPTION:
URL:https://stjameshanslope.org/event/little-lambs-35/
LOCATION:SS Simon and Jude\, Castlethorpe
END:VEVENT
BEGIN:VEVENT
DTSTART;TZID=UTC:20240209T103000
DTEND;TZID=UTC:20240209T133000
DTSTAMP:20260422T151138
CREATED:20240107T220615Z
LAST-MODIFIED:20240107T220627Z
UID:2530-1707474600-1707485400@stjameshanslope.org
SUMMARY:Warm Hub @ Methodist Chapel
DESCRIPTION:
URL:https://stjameshanslope.org/event/warm-hub-methodist-chapel-4/
LOCATION:Hanslope
END:VEVENT
BEGIN:VEVENT
DTSTART;TZID=UTC:20240209T120000
DTEND;TZID=UTC:20240209T140000
DTSTAMP:20260422T151138
CREATED:20240107T220120Z
LAST-MODIFIED:20240107T220130Z
UID:2524-1707480000-1707487200@stjameshanslope.org
SUMMARY:Warm Space @ SS Simon and Jude
DESCRIPTION:
URL:https://stjameshanslope.org/event/warm-space-ss-simon-and-jude-5/
LOCATION:SS Simon and Jude\, Castlethorpe
END:VEVENT
BEGIN:VEVENT
DTSTART;TZID=UTC:20240209T153000
DTEND;TZID=UTC:20240209T173000
DTSTAMP:20260422T151138
CREATED:20231227T232902Z
LAST-MODIFIED:20240125T224724Z
UID:2426-1707492600-1707499800@stjameshanslope.org
SUMMARY:Inspire Youth Group
DESCRIPTION:
URL:https://stjameshanslope.org/event/inspire-youth-group-25/
END:VEVENT
BEGIN:VEVENT
DTSTART;TZID=UTC:20240210T100000
DTEND;TZID=UTC:20240210T170000
DTSTAMP:20260422T151138
CREATED:20230826T211441Z
LAST-MODIFIED:20240125T224952Z
UID:1726-1707559200-1707584400@stjameshanslope.org
SUMMARY:“Hanslope 2023 - A Year in Photos” Exhibition
DESCRIPTION:
URL:https://stjameshanslope.org/event/hanslope-2023-a-year-in-photos-exhibition/
LOCATION:St James the Great\, Hanslope
END:VEVENT
BEGIN:VEVENT
DTSTART;TZID=UTC:20240211T093000
DTEND;TZID=UTC:20240211T093000
DTSTAMP:20260422T151138
CREATED:20231125T212544Z
LAST-MODIFIED:20231125T212552Z
UID:2327-1707643800-1707643800@stjameshanslope.org
SUMMARY:Sung Mass SS Simon and Jude
DESCRIPTION:
URL:https://stjameshanslope.org/event/sung-mass-ss-simon-and-jude-5/
LOCATION:SS Simon and Jude\, Castlethorpe
END:VEVENT
BEGIN:VEVENT
DTSTART;TZID=UTC:20240211T111500
DTEND;TZID=UTC:20240211T111500
DTSTAMP:20260422T151138
CREATED:20231125T212934Z
LAST-MODIFIED:20231125T212939Z
UID:2335-1707650100-1707650100@stjameshanslope.org
SUMMARY:Sung Mass St James the Great
DESCRIPTION:
URL:https://stjameshanslope.org/event/sung-mass-st-james-the-great-5/
LOCATION:St James the Great\, Hanslope
END:VEVENT
BEGIN:VEVENT
DTSTART;TZID=UTC:20240212T093000
DTEND;TZID=UTC:20240212T093000
DTSTAMP:20260422T151138
CREATED:20231227T233550Z
LAST-MODIFIED:20231227T233558Z
UID:2434-1707730200-1707730200@stjameshanslope.org
SUMMARY:Little Angels
DESCRIPTION:
URL:https://stjameshanslope.org/event/little-angels-30/
LOCATION:St James the Great\, Hanslope
END:VEVENT
BEGIN:VEVENT
DTSTART;TZID=UTC:20240212T173000
DTEND;TZID=UTC:20240212T173000
DTSTAMP:20260422T151138
CREATED:20231125T214152Z
LAST-MODIFIED:20231125T214205Z
UID:2361-1707759000-1707759000@stjameshanslope.org
SUMMARY:Following the Silence
DESCRIPTION:
URL:https://stjameshanslope.org/event/following-the-silence-42/
LOCATION:11 Weavers End\, United Kingdom
END:VEVENT
BEGIN:VEVENT
DTSTART;TZID=UTC:20240213T101000
DTEND;TZID=UTC:20240213T101000
DTSTAMP:20260422T151138
CREATED:20231115T171116Z
LAST-MODIFIED:20231115T171123Z
UID:2206-1707819000-1707819000@stjameshanslope.org
SUMMARY:Deanery Church Inspection
DESCRIPTION:
URL:https://stjameshanslope.org/event/deanery-church-inspection/
LOCATION:St James the Great\, Hanslope
END:VEVENT
BEGIN:VEVENT
DTSTART;TZID=UTC:20240213T183000
DTEND;TZID=UTC:20240213T200000
DTSTAMP:20260422T151138
CREATED:20240125T230122Z
LAST-MODIFIED:20240125T230129Z
UID:2574-1707849000-1707854400@stjameshanslope.org
SUMMARY:Parish Pancake Party SS Simon and Jude
DESCRIPTION:
URL:https://stjameshanslope.org/event/parish-pancake-party-ss-simon-and-jude/
LOCATION:SS Simon and Jude\, Castlethorpe
END:VEVENT
BEGIN:VEVENT
DTSTART;TZID=UTC:20240214T193000
DTEND;TZID=UTC:20240214T193000
DTSTAMP:20260422T151138
CREATED:20231121T231846Z
LAST-MODIFIED:20231227T230007Z
UID:2252-1707939000-1707939000@stjameshanslope.org
SUMMARY:Ash Wednesday Sung Mass & Ashing SS Simon & Jude
DESCRIPTION:
URL:https://stjameshanslope.org/event/hanslope-fundraising-meeting-6/
LOCATION:SS Simon and Jude\, Castlethorpe
END:VEVENT
BEGIN:VEVENT
DTSTART;TZID=UTC:20240214T090000
DTEND;TZID=UTC:20240214T090000
DTSTAMP:20260422T151138
CREATED:20240125T222545Z
LAST-MODIFIED:20240125T222549Z
UID:2571-1707901200-1707901200@stjameshanslope.org
SUMMARY:Hanslope Church cleaning
DESCRIPTION:
URL:https://stjameshanslope.org/event/hanslope-church-cleaning-8/
LOCATION:St James the Great\, Hanslope
END:VEVENT
BEGIN:VEVENT
DTSTART;TZID=UTC:20240215T091500
DTEND;TZID=UTC:20240215T093000
DTSTAMP:20260422T151138
CREATED:20240126T234136Z
LAST-MODIFIED:20240126T234136Z
UID:2576-1707988500-1707989400@stjameshanslope.org
SUMMARY:Morning Prayer St James the Great
DESCRIPTION:
URL:https://stjameshanslope.org/event/morning-prayer-st-james-the-great/
LOCATION:St James the Great\, Hanslope
END:VEVENT
BEGIN:VEVENT
DTSTART;TZID=UTC:20240215T093000
DTEND;TZID=UTC:20240215T093000
DTSTAMP:20260422T151138
CREATED:20231125T213633Z
LAST-MODIFIED:20231125T213640Z
UID:2351-1707989400-1707989400@stjameshanslope.org
SUMMARY:Said Mass St James the Great
DESCRIPTION:
URL:https://stjameshanslope.org/event/said-mass-st-james-the-great-29/
LOCATION:St James the Great\, Hanslope
END:VEVENT
BEGIN:VEVENT
DTSTART;TZID=UTC:20240215T123000
DTEND;TZID=UTC:20240215T123000
DTSTAMP:20260422T151138
CREATED:20240127T005706Z
LAST-MODIFIED:20240127T005718Z
UID:2700-1708000200-1708000200@stjameshanslope.org
SUMMARY:Community LENT Lunch
DESCRIPTION:
URL:https://stjameshanslope.org/event/community-lent-lunch/
LOCATION:St James the Great\, Hanslope
END:VEVENT
BEGIN:VEVENT
DTSTART;TZID=UTC:20240215T170000
DTEND;TZID=UTC:20240215T170000
DTSTAMP:20260422T151138
CREATED:20240127T002447Z
LAST-MODIFIED:20240127T002453Z
UID:2640-1708016400-1708016400@stjameshanslope.org
SUMMARY:Evening Prayer SS Simon and Jude
DESCRIPTION:
URL:https://stjameshanslope.org/event/evening-prayer-ss-simon-and-jude-3/
LOCATION:SS Simon and Jude\, Castlethorpe
END:VEVENT
BEGIN:VEVENT
DTSTART;TZID=UTC:20240215T180000
DTEND;TZID=UTC:20240215T180000
DTSTAMP:20260422T151138
CREATED:20231227T235653Z
LAST-MODIFIED:20231227T235659Z
UID:2467-1708020000-1708020000@stjameshanslope.org
SUMMARY:Choir Practice
DESCRIPTION:
URL:https://stjameshanslope.org/event/choir-practice-43/
LOCATION:St James the Great\, Hanslope
END:VEVENT
BEGIN:VEVENT
DTSTART;TZID=UTC:20240215T193000
DTEND;TZID=UTC:20240215T193000
DTSTAMP:20260422T151138
CREATED:20240127T004752Z
LAST-MODIFIED:20240127T004758Z
UID:2688-1708025400-1708025400@stjameshanslope.org
SUMMARY:Bread of Life LENT Course Week 1 - I am the Bread of Life
DESCRIPTION:
URL:https://stjameshanslope.org/event/bread-of-life-lent-course-week-1-i-am-the-bread-of-life/
END:VEVENT
END:VCALENDAR