BEGIN:VCALENDAR
VERSION:2.0
PRODID:-//St James the Great - ECPv6.15.20//NONSGML v1.0//EN
CALSCALE:GREGORIAN
METHOD:PUBLISH
X-ORIGINAL-URL:https://stjameshanslope.org
X-WR-CALDESC:Events for St James the Great
REFRESH-INTERVAL;VALUE=DURATION:PT1H
X-Robots-Tag:noindex
X-PUBLISHED-TTL:PT1H
BEGIN:VTIMEZONE
TZID:UTC
BEGIN:STANDARD
TZOFFSETFROM:+0000
TZOFFSETTO:+0000
TZNAME:UTC
DTSTART:20230101T000000
END:STANDARD
END:VTIMEZONE
BEGIN:VEVENT
DTSTART;TZID=UTC:20240221T173000
DTEND;TZID=UTC:20240221T173000
DTSTAMP:20260422T212608
CREATED:20231125T214237Z
LAST-MODIFIED:20240218T153404Z
UID:2363-1708536600-1708536600@stjameshanslope.org
SUMMARY:Following the Silence
DESCRIPTION:
URL:https://stjameshanslope.org/event/following-the-silence-43/
LOCATION:11 Weavers End\, United Kingdom
END:VEVENT
BEGIN:VEVENT
DTSTART;TZID=UTC:20240221T210000
DTEND;TZID=UTC:20240221T210000
DTSTAMP:20260422T212608
CREATED:20240127T010853Z
LAST-MODIFIED:20240127T010903Z
UID:2718-1708549200-1708549200@stjameshanslope.org
SUMMARY:Compline by Candlelight St James the Great
DESCRIPTION:
URL:https://stjameshanslope.org/event/compline-by-candlelight-st-james-the-great/
LOCATION:St James the Great\, Hanslope
END:VEVENT
BEGIN:VEVENT
DTSTART;TZID=UTC:20240222T091500
DTEND;TZID=UTC:20240222T093000
DTSTAMP:20260422T212608
CREATED:20240126T234237Z
LAST-MODIFIED:20240126T234243Z
UID:2578-1708593300-1708594200@stjameshanslope.org
SUMMARY:Morning Prayer St James the Great
DESCRIPTION:
URL:https://stjameshanslope.org/event/morning-prayer-st-james-the-great-2/
LOCATION:St James the Great\, Hanslope
END:VEVENT
BEGIN:VEVENT
DTSTART;TZID=UTC:20240222T093000
DTEND;TZID=UTC:20240222T093000
DTSTAMP:20260422T212608
CREATED:20231125T213707Z
LAST-MODIFIED:20231125T213714Z
UID:2353-1708594200-1708594200@stjameshanslope.org
SUMMARY:Said Mass St James the Great
DESCRIPTION:
URL:https://stjameshanslope.org/event/said-mass-st-james-the-great-30/
LOCATION:St James the Great\, Hanslope
END:VEVENT
BEGIN:VEVENT
DTSTART;TZID=UTC:20240222T123000
DTEND;TZID=UTC:20240222T123000
DTSTAMP:20260422T212608
CREATED:20240127T005751Z
LAST-MODIFIED:20240127T005800Z
UID:2702-1708605000-1708605000@stjameshanslope.org
SUMMARY:Community LENT Lunch
DESCRIPTION:
URL:https://stjameshanslope.org/event/community-lent-lunch-2/
LOCATION:St James the Great\, Hanslope
END:VEVENT
BEGIN:VEVENT
DTSTART;TZID=UTC:20240222T170000
DTEND;TZID=UTC:20240222T170000
DTSTAMP:20260422T212608
CREATED:20240127T002825Z
LAST-MODIFIED:20240127T002830Z
UID:2648-1708621200-1708621200@stjameshanslope.org
SUMMARY:Evening Prayer SS Simon and Jude
DESCRIPTION:
URL:https://stjameshanslope.org/event/evening-prayer-ss-simon-and-jude-7/
LOCATION:SS Simon and Jude\, Castlethorpe
END:VEVENT
BEGIN:VEVENT
DTSTART;TZID=UTC:20240222T180000
DTEND;TZID=UTC:20240222T180000
DTSTAMP:20260422T212608
CREATED:20231227T235737Z
LAST-MODIFIED:20231227T235743Z
UID:2469-1708624800-1708624800@stjameshanslope.org
SUMMARY:Choir Practice
DESCRIPTION:
URL:https://stjameshanslope.org/event/choir-practice-44/
LOCATION:St James the Great\, Hanslope
END:VEVENT
BEGIN:VEVENT
DTSTART;TZID=UTC:20240222T193000
DTEND;TZID=UTC:20240222T193000
DTSTAMP:20260422T212608
CREATED:20240127T004844Z
LAST-MODIFIED:20240127T004857Z
UID:2690-1708630200-1708630200@stjameshanslope.org
SUMMARY:Bread of Life LENT Course Week 2 - He has reconciled us to God
DESCRIPTION:
URL:https://stjameshanslope.org/event/bread-of-life-lent-course-week-2-he-has-reconciled-us-to-god/
END:VEVENT
BEGIN:VEVENT
DTSTART;TZID=UTC:20240223T091500
DTEND;TZID=UTC:20240223T091500
DTSTAMP:20260422T212608
CREATED:20240127T000254Z
LAST-MODIFIED:20240127T000258Z
UID:2606-1708679700-1708679700@stjameshanslope.org
SUMMARY:Morning Prayer St James the Great
DESCRIPTION:
URL:https://stjameshanslope.org/event/morning-prayer-st-james-the-great-13/
LOCATION:St James the Great\, Hanslope
END:VEVENT
BEGIN:VEVENT
DTSTART;TZID=UTC:20240223T103000
DTEND;TZID=UTC:20240223T133000
DTSTAMP:20260422T212608
CREATED:20240107T220854Z
LAST-MODIFIED:20240107T220903Z
UID:2534-1708684200-1708695000@stjameshanslope.org
SUMMARY:Warm Hub @ Methodist Chapel
DESCRIPTION:
URL:https://stjameshanslope.org/event/warm-hub-methodist-chapel-8/
LOCATION:Hanslope
END:VEVENT
BEGIN:VEVENT
DTSTART;TZID=UTC:20240223T120000
DTEND;TZID=UTC:20240223T140000
DTSTAMP:20260422T212608
CREATED:20240107T220425Z
LAST-MODIFIED:20240107T220432Z
UID:2528-1708689600-1708696800@stjameshanslope.org
SUMMARY:Warm Space @ SS Simon and Jude
DESCRIPTION:
URL:https://stjameshanslope.org/event/warm-space-ss-simon-and-jude-7/
LOCATION:SS Simon and Jude\, Castlethorpe
END:VEVENT
BEGIN:VEVENT
DTSTART;TZID=UTC:20240223T173000
DTEND;TZID=UTC:20240223T180000
DTSTAMP:20260422T212608
CREATED:20240127T011658Z
LAST-MODIFIED:20240218T152947Z
UID:2730-1708709400-1708711200@stjameshanslope.org
SUMMARY:Evening Prayer and Exposition: Silent Prayer Before the Blessed Sacrament St James the Great
DESCRIPTION:
URL:https://stjameshanslope.org/event/exposition-silent-prayer-before-the-blessed-sacrament-st-james-the-great-2/
LOCATION:St James the Great\, Hanslope
END:VEVENT
BEGIN:VEVENT
DTSTART;TZID=UTC:20240224T100000
DTEND;TZID=UTC:20240224T120000
DTSTAMP:20260422T212608
CREATED:20231118T204349Z
LAST-MODIFIED:20231118T204358Z
UID:2232-1708768800-1708776000@stjameshanslope.org
SUMMARY:Castlethorpe’s Weekly Coffee Morning – LENT 2
DESCRIPTION:
URL:https://stjameshanslope.org/event/castlethorpes-weekly-coffee-morning-lent-2/
LOCATION:SS Simon and Jude\, Castlethorpe
END:VEVENT
BEGIN:VEVENT
DTSTART;TZID=UTC:20240224T163000
DTEND;TZID=UTC:20240224T173000
DTSTAMP:20260422T212608
CREATED:20240127T012226Z
LAST-MODIFIED:20240127T012238Z
UID:2743-1708792200-1708795800@stjameshanslope.org
SUMMARY:Rosary on Tour - Our National Life and Elected Representatives
DESCRIPTION:
URL:https://stjameshanslope.org/event/rosary-on-tour-our-national-life-and-elected-representatives/
END:VEVENT
BEGIN:VEVENT
DTSTART;TZID=UTC:20240225T093000
DTEND;TZID=UTC:20240225T093000
DTSTAMP:20260422T212608
CREATED:20231125T212654Z
LAST-MODIFIED:20231125T212700Z
UID:2331-1708853400-1708853400@stjameshanslope.org
SUMMARY:Sung Mass SS Simon and Jude
DESCRIPTION:
URL:https://stjameshanslope.org/event/sung-mass-ss-simon-and-jude-7/
LOCATION:SS Simon and Jude\, Castlethorpe
END:VEVENT
BEGIN:VEVENT
DTSTART;TZID=UTC:20240225T111500
DTEND;TZID=UTC:20240225T111500
DTSTAMP:20260422T212608
CREATED:20231125T213051Z
LAST-MODIFIED:20231125T213058Z
UID:2339-1708859700-1708859700@stjameshanslope.org
SUMMARY:Sung Mass St James the Great
DESCRIPTION:
URL:https://stjameshanslope.org/event/sung-mass-st-james-the-great-7/
LOCATION:St James the Great\, Hanslope
END:VEVENT
BEGIN:VEVENT
DTSTART;TZID=UTC:20240226T091500
DTEND;TZID=UTC:20240226T093000
DTSTAMP:20260422T212608
CREATED:20240127T000501Z
LAST-MODIFIED:20240127T000506Z
UID:2608-1708938900-1708939800@stjameshanslope.org
SUMMARY:Morning Prayer St James the Great
DESCRIPTION:
URL:https://stjameshanslope.org/event/morning-prayer-st-james-the-great-14/
LOCATION:St James the Great\, Hanslope
END:VEVENT
BEGIN:VEVENT
DTSTART;TZID=UTC:20240226T093000
DTEND;TZID=UTC:20240226T093000
DTSTAMP:20260422T212608
CREATED:20231227T233642Z
LAST-MODIFIED:20231227T233649Z
UID:2436-1708939800-1708939800@stjameshanslope.org
SUMMARY:Little Angels
DESCRIPTION:
URL:https://stjameshanslope.org/event/little-angels-31/
LOCATION:St James the Great\, Hanslope
END:VEVENT
BEGIN:VEVENT
DTSTART;TZID=UTC:20240226T170000
DTEND;TZID=UTC:20240226T170000
DTSTAMP:20260422T212608
CREATED:20240127T002908Z
LAST-MODIFIED:20240127T002914Z
UID:2650-1708966800-1708966800@stjameshanslope.org
SUMMARY:Evening Prayer SS Simon and Jude
DESCRIPTION:
URL:https://stjameshanslope.org/event/evening-prayer-ss-simon-and-jude-8/
LOCATION:SS Simon and Jude\, Castlethorpe
END:VEVENT
BEGIN:VEVENT
DTSTART;TZID=UTC:20240226T173000
DTEND;TZID=UTC:20240226T173000
DTSTAMP:20260422T212608
CREATED:20231125T214319Z
LAST-MODIFIED:20231125T214325Z
UID:2365-1708968600-1708968600@stjameshanslope.org
SUMMARY:Following the Silence
DESCRIPTION:
URL:https://stjameshanslope.org/event/following-the-silence-44/
LOCATION:11 Weavers End\, United Kingdom
END:VEVENT
BEGIN:VEVENT
DTSTART;TZID=UTC:20240227T091500
DTEND;TZID=UTC:20240227T091500
DTSTAMP:20260422T212608
CREATED:20240127T000534Z
LAST-MODIFIED:20240127T000539Z
UID:2610-1709025300-1709025300@stjameshanslope.org
SUMMARY:Morning Prayer St James the Great
DESCRIPTION:
URL:https://stjameshanslope.org/event/morning-prayer-st-james-the-great-15/
LOCATION:St James the Great\, Hanslope
END:VEVENT
BEGIN:VEVENT
DTSTART;TZID=UTC:20240227T170000
DTEND;TZID=UTC:20240227T170000
DTSTAMP:20260422T212608
CREATED:20240127T002939Z
LAST-MODIFIED:20240127T002945Z
UID:2652-1709053200-1709053200@stjameshanslope.org
SUMMARY:Evening Prayer SS Simon and Jude
DESCRIPTION:
URL:https://stjameshanslope.org/event/evening-prayer-ss-simon-and-jude-9/
LOCATION:SS Simon and Jude\, Castlethorpe
END:VEVENT
BEGIN:VEVENT
DTSTART;TZID=UTC:20240228T091500
DTEND;TZID=UTC:20240228T091500
DTSTAMP:20260422T212608
CREATED:20240127T000210Z
LAST-MODIFIED:20240127T000406Z
UID:2604-1709111700-1709111700@stjameshanslope.org
SUMMARY:Morning Prayer St James the Great
DESCRIPTION:
URL:https://stjameshanslope.org/event/morning-prayer-st-james-the-great-12/
LOCATION:St James the Great\, Hanslope
END:VEVENT
BEGIN:VEVENT
DTSTART;TZID=UTC:20240228T103000
DTEND;TZID=UTC:20240228T123000
DTSTAMP:20260422T212608
CREATED:20231227T231904Z
LAST-MODIFIED:20231227T231910Z
UID:2419-1709116200-1709123400@stjameshanslope.org
SUMMARY:Carers’ Support Group
DESCRIPTION:
URL:https://stjameshanslope.org/event/carers-support-group-10/
LOCATION:12 Weavers End
END:VEVENT
BEGIN:VEVENT
DTSTART;TZID=UTC:20240228T170000
DTEND;TZID=UTC:20240228T170000
DTSTAMP:20260422T212608
CREATED:20240127T003026Z
LAST-MODIFIED:20240127T003033Z
UID:2654-1709139600-1709139600@stjameshanslope.org
SUMMARY:Evening Prayer SS Simon and Jude
DESCRIPTION:
URL:https://stjameshanslope.org/event/evening-prayer-ss-simon-and-jude-10/
LOCATION:SS Simon and Jude\, Castlethorpe
END:VEVENT
BEGIN:VEVENT
DTSTART;TZID=UTC:20240228T171500
DTEND;TZID=UTC:20240228T171500
DTSTAMP:20260422T212608
CREATED:20231125T213401Z
LAST-MODIFIED:20240127T004310Z
UID:2345-1709140500-1709140500@stjameshanslope.org
SUMMARY:Said Mass SS Simon and Jude
DESCRIPTION:
URL:https://stjameshanslope.org/event/said-mass-ss-simon-and-jude-21/
LOCATION:SS Simon and Jude\, Castlethorpe
END:VEVENT
BEGIN:VEVENT
DTSTART;TZID=UTC:20240228T210000
DTEND;TZID=UTC:20240228T210000
DTSTAMP:20260422T212608
CREATED:20240127T010940Z
LAST-MODIFIED:20240127T010946Z
UID:2720-1709154000-1709154000@stjameshanslope.org
SUMMARY:Compline by Candlelight St James the Great
DESCRIPTION:
URL:https://stjameshanslope.org/event/compline-by-candlelight-st-james-the-great-2/
LOCATION:St James the Great\, Hanslope
END:VEVENT
BEGIN:VEVENT
DTSTART;TZID=UTC:20240229T091500
DTEND;TZID=UTC:20240229T093000
DTSTAMP:20260422T212608
CREATED:20240126T234316Z
LAST-MODIFIED:20240126T234321Z
UID:2580-1709198100-1709199000@stjameshanslope.org
SUMMARY:Morning Prayer St James the Great
DESCRIPTION:
URL:https://stjameshanslope.org/event/morning-prayer-st-james-the-great-3/
LOCATION:St James the Great\, Hanslope
END:VEVENT
BEGIN:VEVENT
DTSTART;TZID=UTC:20240229T093000
DTEND;TZID=UTC:20240229T093000
DTSTAMP:20260422T212608
CREATED:20231125T213820Z
LAST-MODIFIED:20231125T213826Z
UID:2357-1709199000-1709199000@stjameshanslope.org
SUMMARY:Said Mass St James the Great
DESCRIPTION:
URL:https://stjameshanslope.org/event/said-mass-st-james-the-great-32/
LOCATION:St James the Great\, Hanslope
END:VEVENT
BEGIN:VEVENT
DTSTART;TZID=UTC:20240229T123000
DTEND;TZID=UTC:20240229T123000
DTSTAMP:20260422T212608
CREATED:20240127T005903Z
LAST-MODIFIED:20240127T005910Z
UID:2704-1709209800-1709209800@stjameshanslope.org
SUMMARY:Community LENT Lunch
DESCRIPTION:
URL:https://stjameshanslope.org/event/community-lent-lunch-3/
LOCATION:St James the Great\, Hanslope
END:VEVENT
END:VCALENDAR