BEGIN:VCALENDAR
VERSION:2.0
PRODID:-//St James the Great - ECPv6.15.20//NONSGML v1.0//EN
CALSCALE:GREGORIAN
METHOD:PUBLISH
X-ORIGINAL-URL:https://stjameshanslope.org
X-WR-CALDESC:Events for St James the Great
REFRESH-INTERVAL;VALUE=DURATION:PT1H
X-Robots-Tag:noindex
X-PUBLISHED-TTL:PT1H
BEGIN:VTIMEZONE
TZID:UTC
BEGIN:STANDARD
TZOFFSETFROM:+0000
TZOFFSETTO:+0000
TZNAME:UTC
DTSTART:20230101T000000
END:STANDARD
END:VTIMEZONE
BEGIN:VEVENT
DTSTART;TZID=UTC:20240301T120000
DTEND;TZID=UTC:20240301T140000
DTSTAMP:20260423T021327
CREATED:20240107T221548Z
LAST-MODIFIED:20240107T221555Z
UID:2546-1709294400-1709301600@stjameshanslope.org
SUMMARY:Warm Space @ SS Simon and Jude
DESCRIPTION:
URL:https://stjameshanslope.org/event/warm-space-ss-simon-and-jude-8/
LOCATION:SS Simon and Jude\, Castlethorpe
END:VEVENT
BEGIN:VEVENT
DTSTART;TZID=UTC:20240301T153000
DTEND;TZID=UTC:20240301T173000
DTSTAMP:20260423T021327
CREATED:20231227T232809Z
LAST-MODIFIED:20231227T233237Z
UID:2424-1709307000-1709314200@stjameshanslope.org
SUMMARY:Inspire Youth Group
DESCRIPTION:
URL:https://stjameshanslope.org/event/inspire-youth-group-24/
LOCATION:St James the Great\, Hanslope
END:VEVENT
BEGIN:VEVENT
DTSTART;TZID=UTC:20240301T173000
DTEND;TZID=UTC:20240301T180000
DTSTAMP:20260423T021327
CREATED:20240127T011739Z
LAST-MODIFIED:20240218T152900Z
UID:2732-1709314200-1709316000@stjameshanslope.org
SUMMARY:Evening Prayer and Exposition: Silent Prayer Before the Blessed Sacrament St James the Great
DESCRIPTION:
URL:https://stjameshanslope.org/event/exposition-silent-prayer-before-the-blessed-sacrament-st-james-the-great-3/
LOCATION:St James the Great\, Hanslope
END:VEVENT
BEGIN:VEVENT
DTSTART;TZID=UTC:20240302T100000
DTEND;TZID=UTC:20240302T120000
DTSTAMP:20260423T021327
CREATED:20231118T203716Z
LAST-MODIFIED:20231118T203730Z
UID:2227-1709373600-1709380800@stjameshanslope.org
SUMMARY:Hanslope’s Weekly Coffee Morning for Ho\, Ghana - LENT 3
DESCRIPTION:
URL:https://stjameshanslope.org/event/hanslopes-weekly-coffee-morning-for-ho-ghana-lent-3/
LOCATION:St James the Great\, Hanslope
END:VEVENT
BEGIN:VEVENT
DTSTART;TZID=UTC:20240302T163000
DTEND;TZID=UTC:20240302T173000
DTSTAMP:20260423T021327
CREATED:20240127T012331Z
LAST-MODIFIED:20240127T012352Z
UID:2745-1709397000-1709400600@stjameshanslope.org
SUMMARY:Rosary on Tour - Peace and Justice
DESCRIPTION:
URL:https://stjameshanslope.org/event/rosary-on-tour-peace-and-justice/
END:VEVENT
BEGIN:VEVENT
DTSTART;TZID=UTC:20240303T093000
DTEND;TZID=UTC:20240303T093000
DTSTAMP:20260423T021327
CREATED:20240127T013302Z
LAST-MODIFIED:20240127T013308Z
UID:2754-1709458200-1709458200@stjameshanslope.org
SUMMARY:Sung Mass SS Simon and Jude
DESCRIPTION:
URL:https://stjameshanslope.org/event/sung-mass-ss-simon-and-jude-8/
LOCATION:SS Simon and Jude\, Castlethorpe
END:VEVENT
BEGIN:VEVENT
DTSTART;TZID=UTC:20240303T111500
DTEND;TZID=UTC:20240303T111500
DTSTAMP:20260423T021327
CREATED:20240127T013705Z
LAST-MODIFIED:20240127T013709Z
UID:2765-1709464500-1709464500@stjameshanslope.org
SUMMARY:Sung Mass St James the Great
DESCRIPTION:
URL:https://stjameshanslope.org/event/sung-mass-st-james-the-great-8/
LOCATION:St James the Great\, Hanslope
END:VEVENT
BEGIN:VEVENT
DTSTART;TZID=UTC:20240304T091500
DTEND;TZID=UTC:20240304T093000
DTSTAMP:20260423T021327
CREATED:20240127T000949Z
LAST-MODIFIED:20240127T000953Z
UID:2616-1709543700-1709544600@stjameshanslope.org
SUMMARY:Morning Prayer St James the Great
DESCRIPTION:
URL:https://stjameshanslope.org/event/morning-prayer-st-james-the-great-18/
LOCATION:St James the Great\, Hanslope
END:VEVENT
BEGIN:VEVENT
DTSTART;TZID=UTC:20240304T093000
DTEND;TZID=UTC:20240304T093000
DTSTAMP:20260423T021327
CREATED:20231227T233902Z
LAST-MODIFIED:20231227T233910Z
UID:2440-1709544600-1709544600@stjameshanslope.org
SUMMARY:Little Angels
DESCRIPTION:
URL:https://stjameshanslope.org/event/little-angels-33/
LOCATION:St James the Great\, Hanslope
END:VEVENT
BEGIN:VEVENT
DTSTART;TZID=UTC:20240304T170000
DTEND;TZID=UTC:20240304T170000
DTSTAMP:20260423T021327
CREATED:20240127T003137Z
LAST-MODIFIED:20240127T003148Z
UID:2658-1709571600-1709571600@stjameshanslope.org
SUMMARY:Evening Prayer SS Simon and Jude
DESCRIPTION:
URL:https://stjameshanslope.org/event/evening-prayer-ss-simon-and-jude-12/
LOCATION:SS Simon and Jude\, Castlethorpe
END:VEVENT
BEGIN:VEVENT
DTSTART;TZID=UTC:20240304T173000
DTEND;TZID=UTC:20240304T173000
DTSTAMP:20260423T021327
CREATED:20240127T010549Z
LAST-MODIFIED:20240127T010605Z
UID:2712-1709573400-1709573400@stjameshanslope.org
SUMMARY:Following the Silence
DESCRIPTION:
URL:https://stjameshanslope.org/event/following-the-silence-45/
LOCATION:11 Weavers End\, United Kingdom
END:VEVENT
BEGIN:VEVENT
DTSTART;TZID=UTC:20240305T163000
DTEND;TZID=UTC:20240305T163000
DTSTAMP:20260423T021327
CREATED:20240127T021322Z
LAST-MODIFIED:20240127T021327Z
UID:2812-1709656200-1709656200@stjameshanslope.org
SUMMARY:Castlethorpe’s Standing Committee
DESCRIPTION:
URL:https://stjameshanslope.org/event/castlethorpes-standing-committee/
END:VEVENT
BEGIN:VEVENT
DTSTART;TZID=UTC:20240305T170000
DTEND;TZID=UTC:20240305T170000
DTSTAMP:20260423T021327
CREATED:20240127T003211Z
LAST-MODIFIED:20240127T003217Z
UID:2660-1709658000-1709658000@stjameshanslope.org
SUMMARY:Evening Prayer SS Simon and Jude
DESCRIPTION:
URL:https://stjameshanslope.org/event/evening-prayer-ss-simon-and-jude-13/
LOCATION:SS Simon and Jude\, Castlethorpe
END:VEVENT
BEGIN:VEVENT
DTSTART;TZID=UTC:20240306T091500
DTEND;TZID=UTC:20240306T091500
DTSTAMP:20260423T021327
CREATED:20240127T001102Z
LAST-MODIFIED:20240127T001118Z
UID:2620-1709716500-1709716500@stjameshanslope.org
SUMMARY:Morning Prayer St James the Great
DESCRIPTION:
URL:https://stjameshanslope.org/event/morning-prayer-st-james-the-great-20/
LOCATION:St James the Great\, Hanslope
END:VEVENT
BEGIN:VEVENT
DTSTART;TZID=UTC:20240306T170000
DTEND;TZID=UTC:20240306T170000
DTSTAMP:20260423T021327
CREATED:20240127T003238Z
LAST-MODIFIED:20240127T003250Z
UID:2662-1709744400-1709744400@stjameshanslope.org
SUMMARY:Evening Prayer SS Simon and Jude
DESCRIPTION:
URL:https://stjameshanslope.org/event/evening-prayer-ss-simon-and-jude-14/
LOCATION:SS Simon and Jude\, Castlethorpe
END:VEVENT
BEGIN:VEVENT
DTSTART;TZID=UTC:20240306T171500
DTEND;TZID=UTC:20240306T171500
DTSTAMP:20260423T021327
CREATED:20240127T004444Z
LAST-MODIFIED:20240127T004451Z
UID:2682-1709745300-1709745300@stjameshanslope.org
SUMMARY:Said Mass SS Simon and Jude
DESCRIPTION:
URL:https://stjameshanslope.org/event/said-mass-ss-simon-and-jude-22/
LOCATION:SS Simon and Jude\, Castlethorpe
END:VEVENT
BEGIN:VEVENT
DTSTART;TZID=UTC:20240306T210000
DTEND;TZID=UTC:20240306T210000
DTSTAMP:20260423T021327
CREATED:20240127T011108Z
LAST-MODIFIED:20240127T011123Z
UID:2722-1709758800-1709758800@stjameshanslope.org
SUMMARY:Compline by Candlelight St James the Great
DESCRIPTION:
URL:https://stjameshanslope.org/event/compline-by-candlelight-st-james-the-great-3/
LOCATION:St James the Great\, Hanslope
END:VEVENT
BEGIN:VEVENT
DTSTART;TZID=UTC:20240307T091500
DTEND;TZID=UTC:20240307T093000
DTSTAMP:20260423T021327
CREATED:20240126T234358Z
LAST-MODIFIED:20240126T234404Z
UID:2582-1709802900-1709803800@stjameshanslope.org
SUMMARY:Morning Prayer St James the Great
DESCRIPTION:
URL:https://stjameshanslope.org/event/morning-prayer-st-james-the-great-4/
LOCATION:St James the Great\, Hanslope
END:VEVENT
BEGIN:VEVENT
DTSTART;TZID=UTC:20240307T093000
DTEND;TZID=UTC:20240307T093000
DTSTAMP:20260423T021327
CREATED:20240126T235022Z
LAST-MODIFIED:20240126T235029Z
UID:2590-1709803800-1709803800@stjameshanslope.org
SUMMARY:Said Mass St James the Great
DESCRIPTION:
URL:https://stjameshanslope.org/event/said-mass-st-james-the-great-31/
LOCATION:St James the Great\, Hanslope
END:VEVENT
BEGIN:VEVENT
DTSTART;TZID=UTC:20240307T123000
DTEND;TZID=UTC:20240307T123000
DTSTAMP:20260423T021327
CREATED:20240127T005943Z
LAST-MODIFIED:20240127T005949Z
UID:2706-1709814600-1709814600@stjameshanslope.org
SUMMARY:Community LENT Lunch
DESCRIPTION:
URL:https://stjameshanslope.org/event/community-lent-lunch-4/
LOCATION:St James the Great\, Hanslope
END:VEVENT
BEGIN:VEVENT
DTSTART;TZID=UTC:20240307T170000
DTEND;TZID=UTC:20240307T170000
DTSTAMP:20260423T021327
CREATED:20240127T003320Z
LAST-MODIFIED:20240127T003327Z
UID:2664-1709830800-1709830800@stjameshanslope.org
SUMMARY:Evening Prayer SS Simon and Jude
DESCRIPTION:
URL:https://stjameshanslope.org/event/evening-prayer-ss-simon-and-jude-15/
LOCATION:SS Simon and Jude\, Castlethorpe
END:VEVENT
BEGIN:VEVENT
DTSTART;TZID=UTC:20240307T180000
DTEND;TZID=UTC:20240307T180000
DTSTAMP:20260423T021327
CREATED:20240127T022127Z
LAST-MODIFIED:20240127T022134Z
UID:2826-1709834400-1709834400@stjameshanslope.org
SUMMARY:Choir Practice
DESCRIPTION:
URL:https://stjameshanslope.org/event/choir-practice-46/
LOCATION:Castlethorpe\, United Kingdom
END:VEVENT
BEGIN:VEVENT
DTSTART;TZID=UTC:20240307T193000
DTEND;TZID=UTC:20240307T193000
DTSTAMP:20260423T021327
CREATED:20240127T005152Z
LAST-MODIFIED:20240127T005159Z
UID:2694-1709839800-1709839800@stjameshanslope.org
SUMMARY:Bread of Life LENT Course Week 4 - Hear our prayer
DESCRIPTION:
URL:https://stjameshanslope.org/event/bread-of-life-lent-course-week-4-hear-our-prayer/
END:VEVENT
BEGIN:VEVENT
DTSTART;TZID=UTC:20240308T091500
DTEND;TZID=UTC:20240308T091500
DTSTAMP:20260423T021327
CREATED:20240127T001153Z
LAST-MODIFIED:20240127T001159Z
UID:2622-1709889300-1709889300@stjameshanslope.org
SUMMARY:Morning Prayer St James the Great
DESCRIPTION:
URL:https://stjameshanslope.org/event/morning-prayer-st-james-the-great-21/
LOCATION:St James the Great\, Hanslope
END:VEVENT
BEGIN:VEVENT
DTSTART;TZID=UTC:20240308T100000
DTEND;TZID=UTC:20240308T120000
DTSTAMP:20260423T021327
CREATED:20240127T022720Z
LAST-MODIFIED:20240127T022725Z
UID:2832-1709892000-1709899200@stjameshanslope.org
SUMMARY:Little Lambs
DESCRIPTION:
URL:https://stjameshanslope.org/event/little-lambs-29/
LOCATION:SS Simon and Jude\, Castlethorpe
END:VEVENT
BEGIN:VEVENT
DTSTART;TZID=UTC:20240308T103000
DTEND;TZID=UTC:20240308T133000
DTSTAMP:20260423T021327
CREATED:20240107T221121Z
LAST-MODIFIED:20240107T221128Z
UID:2538-1709893800-1709904600@stjameshanslope.org
SUMMARY:Warm Hub @ Methodist Chapel
DESCRIPTION:
URL:https://stjameshanslope.org/event/warm-hub-methodist-chapel-10/
LOCATION:Hanslope
END:VEVENT
BEGIN:VEVENT
DTSTART;TZID=UTC:20240308T120000
DTEND;TZID=UTC:20240308T140000
DTSTAMP:20260423T021327
CREATED:20240107T221637Z
LAST-MODIFIED:20240107T221647Z
UID:2548-1709899200-1709906400@stjameshanslope.org
SUMMARY:Warm Space @ SS Simon and Jude
DESCRIPTION:
URL:https://stjameshanslope.org/event/warm-space-ss-simon-and-jude-9/
LOCATION:SS Simon and Jude\, Castlethorpe
END:VEVENT
BEGIN:VEVENT
DTSTART;TZID=UTC:20240308T153000
DTEND;TZID=UTC:20240308T173000
DTSTAMP:20260423T021327
CREATED:20240127T023026Z
LAST-MODIFIED:20240127T023057Z
UID:2838-1709911800-1709919000@stjameshanslope.org
SUMMARY:Inspire Youth Group
DESCRIPTION:
URL:https://stjameshanslope.org/event/inspire-youth-group-28/
LOCATION:St James the Great\, Hanslope
END:VEVENT
BEGIN:VEVENT
DTSTART;TZID=UTC:20240308T173000
DTEND;TZID=UTC:20240308T180000
DTSTAMP:20260423T021327
CREATED:20240127T011814Z
LAST-MODIFIED:20240218T152746Z
UID:2734-1709919000-1709920800@stjameshanslope.org
SUMMARY:Evening Prayer and Exposition: Silent Prayer Before the Blessed Sacrament St James the Great
DESCRIPTION:
URL:https://stjameshanslope.org/event/exposition-silent-prayer-before-the-blessed-sacrament-st-james-the-great-4/
LOCATION:St James the Great\, Hanslope
END:VEVENT
BEGIN:VEVENT
DTSTART;TZID=UTC:20240309T100000
DTEND;TZID=UTC:20240309T120000
DTSTAMP:20260423T021327
CREATED:20231118T204502Z
LAST-MODIFIED:20231118T204510Z
UID:2234-1709978400-1709985600@stjameshanslope.org
SUMMARY:Castlethorpe’s Weekly Coffee Morning – LENT 4
DESCRIPTION:
URL:https://stjameshanslope.org/event/castlethorpes-weekly-coffee-morning-lent-4/
LOCATION:SS Simon and Jude\, Castlethorpe
END:VEVENT
END:VCALENDAR