BEGIN:VCALENDAR
VERSION:2.0
PRODID:-//St James the Great - ECPv6.15.20//NONSGML v1.0//EN
CALSCALE:GREGORIAN
METHOD:PUBLISH
X-WR-CALNAME:St James the Great
X-ORIGINAL-URL:https://stjameshanslope.org
X-WR-CALDESC:Events for St James the Great
REFRESH-INTERVAL;VALUE=DURATION:PT1H
X-Robots-Tag:noindex
X-PUBLISHED-TTL:PT1H
BEGIN:VTIMEZONE
TZID:UTC
BEGIN:STANDARD
TZOFFSETFROM:+0000
TZOFFSETTO:+0000
TZNAME:UTC
DTSTART:20220101T000000
END:STANDARD
END:VTIMEZONE
BEGIN:VEVENT
DTSTART;TZID=UTC:20231111T163000
DTEND;TZID=UTC:20231111T163000
DTSTAMP:20260421T165409
CREATED:20230802T220341Z
LAST-MODIFIED:20230802T220345Z
UID:1399-1699720200-1699720200@stjameshanslope.org
SUMMARY:Rosary Group at The Vicarage
DESCRIPTION:
URL:https://stjameshanslope.org/event/rosary-group-at-the-vicarage/
LOCATION:The Vicarage\, United Kingdom
END:VEVENT
BEGIN:VEVENT
DTSTART;TZID=UTC:20231112T091500
DTEND;TZID=UTC:20231112T091500
DTSTAMP:20260421T165409
CREATED:20230802T220613Z
LAST-MODIFIED:20230825T223850Z
UID:1401-1699780500-1699780500@stjameshanslope.org
SUMMARY:Castlethorpe’s Remembrance Day Service at the War Memorial
DESCRIPTION:
URL:https://stjameshanslope.org/event/remembrance-service-at-the-war-memorial/
LOCATION:Castlethorpe\, United Kingdom
END:VEVENT
BEGIN:VEVENT
DTSTART;TZID=UTC:20231112T093000
DTEND;TZID=UTC:20231112T093000
DTSTAMP:20260421T165409
CREATED:20230802T220909Z
LAST-MODIFIED:20230825T223803Z
UID:1405-1699781400-1699781400@stjameshanslope.org
SUMMARY:Remembrance Day Service Mass SS Simon and Jude
DESCRIPTION:
URL:https://stjameshanslope.org/event/remembrance-day-service-mass/
LOCATION:SS Simon and Jude\, Castlethorpe
END:VEVENT
BEGIN:VEVENT
DTSTART;TZID=UTC:20231112T110000
DTEND;TZID=UTC:20231112T110000
DTSTAMP:20260421T165409
CREATED:20230802T220954Z
LAST-MODIFIED:20230921T235150Z
UID:1407-1699786800-1699786800@stjameshanslope.org
SUMMARY:Remembrance Day Service Mass St James the Great
DESCRIPTION:
URL:https://stjameshanslope.org/event/remembrance-day-service-mass-2/
LOCATION:St James the Great\, Hanslope
END:VEVENT
BEGIN:VEVENT
DTSTART;TZID=UTC:20231112T170000
DTEND;TZID=UTC:20231112T170000
DTSTAMP:20260421T165409
CREATED:20230802T221054Z
LAST-MODIFIED:20230825T223700Z
UID:1409-1699808400-1699808400@stjameshanslope.org
SUMMARY:Evening Prayer SS Simon and Jude
DESCRIPTION:
URL:https://stjameshanslope.org/event/evening-prayer-19/
LOCATION:SS Simon and Jude\, Castlethorpe
END:VEVENT
BEGIN:VEVENT
DTSTART;TZID=UTC:20231113T093000
DTEND;TZID=UTC:20231113T093000
DTSTAMP:20260421T165409
CREATED:20231027T212319Z
LAST-MODIFIED:20231027T212324Z
UID:2087-1699867800-1699867800@stjameshanslope.org
SUMMARY:Little Angels
DESCRIPTION:
URL:https://stjameshanslope.org/event/little-angels-20/
LOCATION:St James the Great\, Hanslope
END:VEVENT
BEGIN:VEVENT
DTSTART;TZID=UTC:20231113T173000
DTEND;TZID=UTC:20231113T173000
DTSTAMP:20260421T165409
CREATED:20231009T132258Z
LAST-MODIFIED:20231009T132304Z
UID:1942-1699896600-1699896600@stjameshanslope.org
SUMMARY:Following the Silence
DESCRIPTION:
URL:https://stjameshanslope.org/event/following-the-silence-31/
LOCATION:11 Weavers End\, United Kingdom
END:VEVENT
BEGIN:VEVENT
DTSTART;VALUE=DATE:20231114
DTEND;VALUE=DATE:20231118
DTSTAMP:20260421T165409
CREATED:20231009T213651Z
LAST-MODIFIED:20231009T213704Z
UID:1958-1699920000-1700265599@stjameshanslope.org
SUMMARY:See of Oswestry Clergy Conference
DESCRIPTION:
URL:https://stjameshanslope.org/event/see-of-oswestry-clergy-conference/
LOCATION:Walsingham\, United Kingdom
END:VEVENT
BEGIN:VEVENT
DTSTART;TZID=UTC:20231115T170000
DTEND;TZID=UTC:20231115T170000
DTSTAMP:20260421T165409
CREATED:20230902T210136Z
LAST-MODIFIED:20230902T211232Z
UID:1757-1700067600-1700067600@stjameshanslope.org
SUMMARY:Evening Prayer SS Simon and Jude
DESCRIPTION:← Back Thank you for your response. ✨\n\n\n					\n						\n							\n							\n						\n						\n						\n						\n						\n							\n								\n									\n										\n										\n									\n									\n										\n										\n									\n								\n							\n						\n						\n							\n								\n									\n									\n										\n									\n									\n									\n								\n							\n						\n					\n				\n\n\n\nName(required)\n\n \n			\n				\n					\n						\n						\n						\n					\n				\n				\n			 \n	\n\n\nEmail(required)\n\n \n			\n				\n					\n						\n						\n						\n					\n				\n				\n			 \n	\n\n\nWebsite\n\n \n			\n				\n					\n						\n						\n						\n					\n				\n				\n			 \n	\n\n\nMessage\n\n \n			\n				\n					\n						\n						\n						\n					\n				\n				\n			\n	\n	\n\n				\n					\n				\n						Submit		\n		\n		\n	 \nΔ
URL:https://stjameshanslope.org/event/said-mass-ss-simon-and-jude-10/
LOCATION:SS Simon and Jude\, Castlethorpe
END:VEVENT
BEGIN:VEVENT
DTSTART;TZID=UTC:20231116T093000
DTEND;TZID=UTC:20231116T093000
DTSTAMP:20260421T165409
CREATED:20230902T210811Z
LAST-MODIFIED:20230902T211320Z
UID:1767-1700127000-1700127000@stjameshanslope.org
SUMMARY:Morning Prayer St James the Great
DESCRIPTION:
URL:https://stjameshanslope.org/event/said-mass-st-james-the-great-17/
LOCATION:St James the Great\, Hanslope
END:VEVENT
BEGIN:VEVENT
DTSTART;TZID=UTC:20231116T123000
DTEND;TZID=UTC:20231116T123000
DTSTAMP:20260421T165409
CREATED:20230826T194009Z
LAST-MODIFIED:20230826T194015Z
UID:1712-1700137800-1700137800@stjameshanslope.org
SUMMARY:Community Lunch
DESCRIPTION:
URL:https://stjameshanslope.org/event/community-lunch-4/
LOCATION:St James the Great\, Hanslope
END:VEVENT
BEGIN:VEVENT
DTSTART;TZID=UTC:20231116T180000
DTEND;TZID=UTC:20231116T180000
DTSTAMP:20260421T165409
CREATED:20230902T212010Z
LAST-MODIFIED:20231116T143054Z
UID:1781-1700157600-1700157600@stjameshanslope.org
SUMMARY:Choir Practice SS Simon and Jude
DESCRIPTION:
URL:https://stjameshanslope.org/event/choir-practice-32/
LOCATION:St James the Great\, Hanslope
END:VEVENT
BEGIN:VEVENT
DTSTART;TZID=UTC:20231116T193000
DTEND;TZID=UTC:20231116T210000
DTSTAMP:20260421T165409
CREATED:20230922T003313Z
LAST-MODIFIED:20230922T003321Z
UID:1863-1700163000-1700168400@stjameshanslope.org
SUMMARY:The Chosen – Bible Study Group
DESCRIPTION:
URL:https://stjameshanslope.org/event/the-chosen-bible-study-group-8/
LOCATION:12 Weavers End
END:VEVENT
BEGIN:VEVENT
DTSTART;TZID=UTC:20231117T103000
DTEND;TZID=UTC:20231117T120000
DTSTAMP:20260421T165409
CREATED:20230826T171429Z
LAST-MODIFIED:20230826T171438Z
UID:1683-1700217000-1700222400@stjameshanslope.org
SUMMARY:Little Lambs
DESCRIPTION:
URL:https://stjameshanslope.org/event/little-lambs-24/
LOCATION:SS Simon and Jude\, Castlethorpe
END:VEVENT
BEGIN:VEVENT
DTSTART;TZID=UTC:20231117T153000
DTEND;TZID=UTC:20231117T153000
DTSTAMP:20260421T165409
CREATED:20231125T192038Z
LAST-MODIFIED:20231125T192043Z
UID:2297-1700235000-1700235000@stjameshanslope.org
SUMMARY:Inspire Youth Group
DESCRIPTION:
URL:https://stjameshanslope.org/event/inspire-youth-group-18/
LOCATION:St James the Great\, Hanslope
END:VEVENT
BEGIN:VEVENT
DTSTART;TZID=UTC:20231118T110000
DTEND;TZID=UTC:20231118T150000
DTSTAMP:20260421T165409
CREATED:20230718T235155Z
LAST-MODIFIED:20231017T232806Z
UID:1319-1700305200-1700319600@stjameshanslope.org
SUMMARY:Hanslope’s Christmas Gift Fayre
DESCRIPTION:
URL:https://stjameshanslope.org/event/christmas-gift-fayre/
LOCATION:St James the Great\, Hanslope
END:VEVENT
BEGIN:VEVENT
DTSTART;TZID=UTC:20231119T093000
DTEND;TZID=UTC:20231119T093000
DTSTAMP:20260421T165409
CREATED:20230802T221133Z
LAST-MODIFIED:20230825T221335Z
UID:1411-1700386200-1700386200@stjameshanslope.org
SUMMARY:Sung Mass SS Simon and Jude
DESCRIPTION:
URL:https://stjameshanslope.org/event/sung-mass-63/
LOCATION:SS Simon and Jude\, Castlethorpe
END:VEVENT
BEGIN:VEVENT
DTSTART;TZID=UTC:20231119T111500
DTEND;TZID=UTC:20231119T111500
DTSTAMP:20260421T165409
CREATED:20230802T221221Z
LAST-MODIFIED:20231017T212618Z
UID:1413-1700392500-1700392500@stjameshanslope.org
SUMMARY:Sung Mass St James the Great plus blessing of plaque for the late Roy Keeves
DESCRIPTION:
URL:https://stjameshanslope.org/event/sung-mass-64/
LOCATION:St James the Great\, Hanslope
END:VEVENT
BEGIN:VEVENT
DTSTART;TZID=UTC:20231120T093000
DTEND;TZID=UTC:20231120T093000
DTSTAMP:20260421T165409
CREATED:20231027T212359Z
LAST-MODIFIED:20231027T212404Z
UID:2089-1700472600-1700472600@stjameshanslope.org
SUMMARY:Little Angels
DESCRIPTION:
URL:https://stjameshanslope.org/event/little-angels-21/
LOCATION:St James the Great\, Hanslope
END:VEVENT
BEGIN:VEVENT
DTSTART;TZID=UTC:20231120T173000
DTEND;TZID=UTC:20231120T173000
DTSTAMP:20260421T165409
CREATED:20231009T132324Z
LAST-MODIFIED:20231009T132329Z
UID:1944-1700501400-1700501400@stjameshanslope.org
SUMMARY:Following the Silence
DESCRIPTION:
URL:https://stjameshanslope.org/event/following-the-silence-32/
LOCATION:11 Weavers End\, United Kingdom
END:VEVENT
BEGIN:VEVENT
DTSTART;TZID=UTC:20231120T190000
DTEND;TZID=UTC:20231120T210000
DTSTAMP:20260421T165409
CREATED:20231025T194942Z
LAST-MODIFIED:20231025T194950Z
UID:2031-1700506800-1700514000@stjameshanslope.org
SUMMARY:Hanslope Church cleaning
DESCRIPTION:
URL:https://stjameshanslope.org/event/hanslope-church-cleaning-5/
LOCATION:St James the Great\, Hanslope
END:VEVENT
BEGIN:VEVENT
DTSTART;TZID=UTC:20231120T200000
DTEND;TZID=UTC:20231120T200000
DTSTAMP:20260421T165409
CREATED:20230902T214830Z
LAST-MODIFIED:20231013T203324Z
UID:1785-1700510400-1700510400@stjameshanslope.org
SUMMARY:Cancer Wellbeing & Support Group
DESCRIPTION:
URL:https://stjameshanslope.org/event/cancer-support-group-8/
LOCATION:12 Weavers End
END:VEVENT
BEGIN:VEVENT
DTSTART;TZID=UTC:20231122T103000
DTEND;TZID=UTC:20231122T123000
DTSTAMP:20260421T165409
CREATED:20230902T215053Z
LAST-MODIFIED:20231013T201610Z
UID:1787-1700649000-1700656200@stjameshanslope.org
SUMMARY:Carers’ Support Group
DESCRIPTION:← Back Thank you for your response. ✨\n\n\n					\n						\n							\n							\n						\n						\n						\n						\n						\n							\n								\n									\n										\n										\n									\n									\n										\n										\n									\n								\n							\n						\n						\n							\n								\n									\n									\n										\n									\n									\n									\n								\n							\n						\n					\n				\n\n\n\nName(required)\n\n \n			\n				\n					\n						\n						\n						\n					\n				\n				\n			 \n	\n\n\nEmail(required)\n\n \n			\n				\n					\n						\n						\n						\n					\n				\n				\n			 \n	\n\n\nWebsite\n\n \n			\n				\n					\n						\n						\n						\n					\n				\n				\n			 \n	\n\n\nMessage\n\n \n			\n				\n					\n						\n						\n						\n					\n				\n				\n			\n	\n	\n\n				\n					\n				\n						Submit		\n		\n		\n	 \nΔ
URL:https://stjameshanslope.org/event/carers-support-group-9/
LOCATION:12 Weavers End
END:VEVENT
BEGIN:VEVENT
DTSTART;TZID=UTC:20231122T170000
DTEND;TZID=UTC:20231122T170000
DTSTAMP:20260421T165409
CREATED:20230902T210237Z
LAST-MODIFIED:20230902T210244Z
UID:1759-1700672400-1700672400@stjameshanslope.org
SUMMARY:Said Mass SS Simon and Jude
DESCRIPTION:
URL:https://stjameshanslope.org/event/said-mass-ss-simon-and-jude-11/
LOCATION:SS Simon and Jude\, Castlethorpe
END:VEVENT
BEGIN:VEVENT
DTSTART;VALUE=DATE:20231123
DTEND;VALUE=DATE:20231124
DTSTAMP:20260421T165409
CREATED:20231029T225416Z
LAST-MODIFIED:20231029T225425Z
UID:2165-1700697600-1700783999@stjameshanslope.org
SUMMARY:The Link Magazine – article contributions deadline
DESCRIPTION:
URL:https://stjameshanslope.org/event/the-link-magazine-article-contributions-deadline-11/
END:VEVENT
BEGIN:VEVENT
DTSTART;TZID=UTC:20231123T093000
DTEND;TZID=UTC:20231123T093000
DTSTAMP:20260421T165409
CREATED:20230902T210910Z
LAST-MODIFIED:20230902T210917Z
UID:1769-1700731800-1700731800@stjameshanslope.org
SUMMARY:Said Mass St James the Great
DESCRIPTION:
URL:https://stjameshanslope.org/event/said-mass-st-james-the-great-18/
LOCATION:St James the Great\, Hanslope
END:VEVENT
BEGIN:VEVENT
DTSTART;TZID=UTC:20231123T180000
DTEND;TZID=UTC:20231123T180000
DTSTAMP:20260421T165409
CREATED:20230902T211900Z
LAST-MODIFIED:20230902T211906Z
UID:1779-1700762400-1700762400@stjameshanslope.org
SUMMARY:Choir Practice
DESCRIPTION:
URL:https://stjameshanslope.org/event/choir-practice-31/
LOCATION:St James the Great\, Hanslope
END:VEVENT
BEGIN:VEVENT
DTSTART;VALUE=DATE:20231124
DTEND;VALUE=DATE:20231127
DTSTAMP:20260421T165409
CREATED:20231009T214900Z
LAST-MODIFIED:20231009T214934Z
UID:1962-1700784000-1701043199@stjameshanslope.org
SUMMARY:Walsingham Adoremus Young Adults Pilgrimage
DESCRIPTION:
URL:https://stjameshanslope.org/event/walsingham-adoremus-young-adults-pilgrimage/
LOCATION:Walsingham\, United Kingdom
END:VEVENT
BEGIN:VEVENT
DTSTART;TZID=UTC:20231124T100000
DTEND;TZID=UTC:20231124T120000
DTSTAMP:20260421T165409
CREATED:20230826T171520Z
LAST-MODIFIED:20230826T171526Z
UID:1685-1700820000-1700827200@stjameshanslope.org
SUMMARY:Little Lambs
DESCRIPTION:
URL:https://stjameshanslope.org/event/little-lambs-25/
LOCATION:SS Simon and Jude\, Castlethorpe
END:VEVENT
BEGIN:VEVENT
DTSTART;TZID=UTC:20231124T153000
DTEND;TZID=UTC:20231124T153000
DTSTAMP:20260421T165409
CREATED:20231125T192109Z
LAST-MODIFIED:20231125T192115Z
UID:2299-1700839800-1700839800@stjameshanslope.org
SUMMARY:Inspire Youth Group
DESCRIPTION:
URL:https://stjameshanslope.org/event/inspire-youth-group-19/
LOCATION:St James the Great\, Hanslope
END:VEVENT
END:VCALENDAR