BEGIN:VCALENDAR
VERSION:2.0
PRODID:-//St James the Great - ECPv6.15.20//NONSGML v1.0//EN
CALSCALE:GREGORIAN
METHOD:PUBLISH
X-ORIGINAL-URL:https://stjameshanslope.org
X-WR-CALDESC:Events for St James the Great
REFRESH-INTERVAL;VALUE=DURATION:PT1H
X-Robots-Tag:noindex
X-PUBLISHED-TTL:PT1H
BEGIN:VTIMEZONE
TZID:UTC
BEGIN:STANDARD
TZOFFSETFROM:+0000
TZOFFSETTO:+0000
TZNAME:UTC
DTSTART:20230101T000000
END:STANDARD
END:VTIMEZONE
BEGIN:VEVENT
DTSTART;TZID=UTC:20240318T091500
DTEND;TZID=UTC:20240318T093000
DTSTAMP:20260423T100503
CREATED:20240127T001538Z
LAST-MODIFIED:20240127T001546Z
UID:2632-1710753300-1710754200@stjameshanslope.org
SUMMARY:Morning Prayer St James the Great
DESCRIPTION:
URL:https://stjameshanslope.org/event/morning-prayer-st-james-the-great-26/
LOCATION:St James the Great\, Hanslope
END:VEVENT
BEGIN:VEVENT
DTSTART;TZID=UTC:20240318T093000
DTEND;TZID=UTC:20240318T093000
DTSTAMP:20260423T100503
CREATED:20240127T021838Z
LAST-MODIFIED:20240127T021843Z
UID:2824-1710754200-1710754200@stjameshanslope.org
SUMMARY:Little Angels
DESCRIPTION:
URL:https://stjameshanslope.org/event/little-angels-35/
LOCATION:St James the Great\, Hanslope
END:VEVENT
BEGIN:VEVENT
DTSTART;TZID=UTC:20240318T170000
DTEND;TZID=UTC:20240318T170000
DTSTAMP:20260423T100503
CREATED:20240127T003750Z
LAST-MODIFIED:20240127T003756Z
UID:2674-1710781200-1710781200@stjameshanslope.org
SUMMARY:Evening Prayer SS Simon and Jude
DESCRIPTION:
URL:https://stjameshanslope.org/event/evening-prayer-ss-simon-and-jude-20/
LOCATION:SS Simon and Jude\, Castlethorpe
END:VEVENT
BEGIN:VEVENT
DTSTART;TZID=UTC:20240318T173000
DTEND;TZID=UTC:20240318T173000
DTSTAMP:20260423T100503
CREATED:20240127T010721Z
LAST-MODIFIED:20240127T010726Z
UID:2716-1710783000-1710783000@stjameshanslope.org
SUMMARY:Following the Silence
DESCRIPTION:
URL:https://stjameshanslope.org/event/following-the-silence-47/
LOCATION:11 Weavers End\, United Kingdom
END:VEVENT
BEGIN:VEVENT
DTSTART;TZID=UTC:20240318T200000
DTEND;TZID=UTC:20240318T200000
DTSTAMP:20260423T100503
CREATED:20231227T231718Z
LAST-MODIFIED:20231227T231726Z
UID:2417-1710792000-1710792000@stjameshanslope.org
SUMMARY:Cancer Wellbeing & Support Group
DESCRIPTION:
URL:https://stjameshanslope.org/event/cancer-wellbeing-support-group-4/
LOCATION:12 Weavers End
END:VEVENT
BEGIN:VEVENT
DTSTART;TZID=UTC:20240319T091500
DTEND;TZID=UTC:20240319T091500
DTSTAMP:20260423T100503
CREATED:20240127T001632Z
LAST-MODIFIED:20240127T001638Z
UID:2634-1710839700-1710839700@stjameshanslope.org
SUMMARY:Morning Prayer St James the Great
DESCRIPTION:
URL:https://stjameshanslope.org/event/morning-prayer-st-james-the-great-27/
LOCATION:St James the Great\, Hanslope
END:VEVENT
BEGIN:VEVENT
DTSTART;TZID=UTC:20240319T170000
DTEND;TZID=UTC:20240319T170000
DTSTAMP:20260423T100503
CREATED:20240127T003818Z
LAST-MODIFIED:20240127T003824Z
UID:2676-1710867600-1710867600@stjameshanslope.org
SUMMARY:Evening Prayer SS Simon and Jude
DESCRIPTION:
URL:https://stjameshanslope.org/event/evening-prayer-ss-simon-and-jude-21/
LOCATION:SS Simon and Jude\, Castlethorpe
END:VEVENT
BEGIN:VEVENT
DTSTART;TZID=UTC:20240319T193000
DTEND;TZID=UTC:20240319T193000
DTSTAMP:20260423T100503
CREATED:20231009T221923Z
LAST-MODIFIED:20240127T020952Z
UID:1980-1710876600-1710876600@stjameshanslope.org
SUMMARY:Castlethorpe’s PCC Meeting
DESCRIPTION:
URL:https://stjameshanslope.org/event/castlethorpes-pcc-meeting-2/
END:VEVENT
BEGIN:VEVENT
DTSTART;TZID=UTC:20240320T091500
DTEND;TZID=UTC:20240320T091500
DTSTAMP:20260423T100503
CREATED:20240127T001712Z
LAST-MODIFIED:20240127T001717Z
UID:2636-1710926100-1710926100@stjameshanslope.org
SUMMARY:Morning Prayer St James the Great
DESCRIPTION:
URL:https://stjameshanslope.org/event/morning-prayer-st-james-the-great-28/
LOCATION:St James the Great\, Hanslope
END:VEVENT
BEGIN:VEVENT
DTSTART;TZID=UTC:20240320T170000
DTEND;TZID=UTC:20240320T170000
DTSTAMP:20260423T100503
CREATED:20240127T003847Z
LAST-MODIFIED:20240127T003853Z
UID:2678-1710954000-1710954000@stjameshanslope.org
SUMMARY:Evening Prayer SS Simon and Jude
DESCRIPTION:
URL:https://stjameshanslope.org/event/evening-prayer-ss-simon-and-jude-22/
LOCATION:SS Simon and Jude\, Castlethorpe
END:VEVENT
BEGIN:VEVENT
DTSTART;TZID=UTC:20240320T171500
DTEND;TZID=UTC:20240320T171500
DTSTAMP:20260423T100504
CREATED:20240127T004605Z
LAST-MODIFIED:20240127T004613Z
UID:2686-1710954900-1710954900@stjameshanslope.org
SUMMARY:Said Mass SS Simon and Jude
DESCRIPTION:
URL:https://stjameshanslope.org/event/said-mass-ss-simon-and-jude-24/
LOCATION:SS Simon and Jude\, Castlethorpe
END:VEVENT
BEGIN:VEVENT
DTSTART;TZID=UTC:20240320T210000
DTEND;TZID=UTC:20240320T210000
DTSTAMP:20260423T100504
CREATED:20240127T011223Z
LAST-MODIFIED:20240127T011234Z
UID:2726-1710968400-1710968400@stjameshanslope.org
SUMMARY:Compline by Candlelight St James the Great
DESCRIPTION:
URL:https://stjameshanslope.org/event/compline-by-candlelight-st-james-the-great-5/
LOCATION:St James the Great\, Hanslope
END:VEVENT
BEGIN:VEVENT
DTSTART;TZID=UTC:20240321T091500
DTEND;TZID=UTC:20240321T093000
DTSTAMP:20260423T100504
CREATED:20240126T234811Z
LAST-MODIFIED:20240126T234816Z
UID:2588-1711012500-1711013400@stjameshanslope.org
SUMMARY:Morning Prayer St James the Great
DESCRIPTION:
URL:https://stjameshanslope.org/event/morning-prayer-st-james-the-great-7/
LOCATION:St James the Great\, Hanslope
END:VEVENT
BEGIN:VEVENT
DTSTART;TZID=UTC:20240321T093000
DTEND;TZID=UTC:20240321T093000
DTSTAMP:20260423T100504
CREATED:20240126T235139Z
LAST-MODIFIED:20240126T235209Z
UID:2594-1711013400-1711013400@stjameshanslope.org
SUMMARY:Said Mass St James the Great
DESCRIPTION:
URL:https://stjameshanslope.org/event/said-mass-st-james-the-great-34/
LOCATION:St James the Great\, Hanslope
END:VEVENT
BEGIN:VEVENT
DTSTART;TZID=UTC:20240321T123000
DTEND;TZID=UTC:20240321T123000
DTSTAMP:20260423T100504
CREATED:20240127T010052Z
LAST-MODIFIED:20240127T010059Z
UID:2710-1711024200-1711024200@stjameshanslope.org
SUMMARY:Community LENT Lunch
DESCRIPTION:
URL:https://stjameshanslope.org/event/community-lent-lunch-6/
LOCATION:St James the Great\, Hanslope
END:VEVENT
BEGIN:VEVENT
DTSTART;TZID=UTC:20240321T170000
DTEND;TZID=UTC:20240321T170000
DTSTAMP:20260423T100504
CREATED:20240127T003919Z
LAST-MODIFIED:20240127T003924Z
UID:2680-1711040400-1711040400@stjameshanslope.org
SUMMARY:Evening Prayer SS Simon and Jude
DESCRIPTION:
URL:https://stjameshanslope.org/event/evening-prayer-ss-simon-and-jude-23/
LOCATION:SS Simon and Jude\, Castlethorpe
END:VEVENT
BEGIN:VEVENT
DTSTART;TZID=UTC:20240321T180000
DTEND;TZID=UTC:20240321T180000
DTSTAMP:20260423T100504
CREATED:20240127T022247Z
LAST-MODIFIED:20240315T001127Z
UID:2830-1711044000-1711044000@stjameshanslope.org
SUMMARY:Choir Practice
DESCRIPTION:
URL:https://stjameshanslope.org/event/choir-practice-48/
LOCATION:St James the Great\, Hanslope
END:VEVENT
BEGIN:VEVENT
DTSTART;TZID=UTC:20240321T193000
DTEND;TZID=UTC:20240321T193000
DTSTAMP:20260423T100504
CREATED:20240127T005335Z
LAST-MODIFIED:20240127T005340Z
UID:2698-1711049400-1711049400@stjameshanslope.org
SUMMARY:Bread of Life LENT Course Week 6 - Go in peace to love and serve the Lord
DESCRIPTION:
URL:https://stjameshanslope.org/event/bread-of-life-lent-course-week-6-go-in-peace-to-love-and-serve-the-lord/
END:VEVENT
BEGIN:VEVENT
DTSTART;TZID=UTC:20240322T091500
DTEND;TZID=UTC:20240322T093000
DTSTAMP:20260423T100504
CREATED:20240126T234517Z
LAST-MODIFIED:20240126T234529Z
UID:2586-1711098900-1711099800@stjameshanslope.org
SUMMARY:Morning Prayer St James the Great
DESCRIPTION:
URL:https://stjameshanslope.org/event/morning-prayer-st-james-the-great-6/
LOCATION:St James the Great\, Hanslope
END:VEVENT
BEGIN:VEVENT
DTSTART;TZID=UTC:20240322T100000
DTEND;TZID=UTC:20240322T100000
DTSTAMP:20260423T100504
CREATED:20250125T151345Z
LAST-MODIFIED:20250125T151345Z
UID:4160-1711101600-1711101600@stjameshanslope.org
SUMMARY:Castlethorpe's LENT Coffee Morning
DESCRIPTION:
URL:https://stjameshanslope.org/event/castlethorpes-lent-coffee-morning/
LOCATION:SS Simon and Jude\, Castlethorpe
END:VEVENT
BEGIN:VEVENT
DTSTART;TZID=UTC:20240322T100000
DTEND;TZID=UTC:20240322T120000
DTSTAMP:20260423T100504
CREATED:20240127T022847Z
LAST-MODIFIED:20240127T022852Z
UID:2836-1711101600-1711108800@stjameshanslope.org
SUMMARY:Little Lambs
DESCRIPTION:
URL:https://stjameshanslope.org/event/little-lambs-40/
LOCATION:SS Simon and Jude\, Castlethorpe
END:VEVENT
BEGIN:VEVENT
DTSTART;TZID=UTC:20240322T103000
DTEND;TZID=UTC:20240322T133000
DTSTAMP:20260423T100504
CREATED:20240107T221209Z
LAST-MODIFIED:20240107T221217Z
UID:2540-1711103400-1711114200@stjameshanslope.org
SUMMARY:Warm Hub @ Methodist Chapel
DESCRIPTION:
URL:https://stjameshanslope.org/event/warm-hub-methodist-chapel-11/
LOCATION:Hanslope
END:VEVENT
BEGIN:VEVENT
DTSTART;TZID=UTC:20240322T120000
DTEND;TZID=UTC:20240322T140000
DTSTAMP:20260423T100504
CREATED:20240107T221911Z
LAST-MODIFIED:20240107T221918Z
UID:2552-1711108800-1711116000@stjameshanslope.org
SUMMARY:Warm Space @ SS Simon and Jude
DESCRIPTION:
URL:https://stjameshanslope.org/event/warm-space-ss-simon-and-jude-11/
LOCATION:SS Simon and Jude\, Castlethorpe
END:VEVENT
BEGIN:VEVENT
DTSTART;TZID=UTC:20240322T153000
DTEND;TZID=UTC:20240322T173000
DTSTAMP:20260423T100504
CREATED:20240127T023217Z
LAST-MODIFIED:20240127T023224Z
UID:2842-1711121400-1711128600@stjameshanslope.org
SUMMARY:Inspire Youth Group
DESCRIPTION:
URL:https://stjameshanslope.org/event/inspire-youth-group-30/
LOCATION:St James the Great\, Hanslope
END:VEVENT
BEGIN:VEVENT
DTSTART;TZID=UTC:20240322T173000
DTEND;TZID=UTC:20240322T180000
DTSTAMP:20260423T100504
CREATED:20240127T011919Z
LAST-MODIFIED:20240218T152452Z
UID:2738-1711128600-1711130400@stjameshanslope.org
SUMMARY:Evening Prayer and Exposition: Silent Prayer Before the Blessed Sacrament St James the Great
DESCRIPTION:
URL:https://stjameshanslope.org/event/exposition-silent-prayer-before-the-blessed-sacrament-st-james-the-great-6/
LOCATION:St James the Great\, Hanslope
END:VEVENT
BEGIN:VEVENT
DTSTART;TZID=UTC:20240322T190000
DTEND;TZID=UTC:20240322T190000
DTSTAMP:20260423T100504
CREATED:20240315T002720Z
LAST-MODIFIED:20240315T002725Z
UID:2883-1711134000-1711134000@stjameshanslope.org
SUMMARY:Tutored Wine Tasting Event in aid of the Lullaby Trust Charity
DESCRIPTION:
URL:https://stjameshanslope.org/event/tutored-wine-tasting-event-in-aid-of-the-lullaby-trust-charity/
LOCATION:SS Simon and Jude\, Castlethorpe
END:VEVENT
BEGIN:VEVENT
DTSTART;TZID=UTC:20240323T100000
DTEND;TZID=UTC:20240323T120000
DTSTAMP:20260423T100504
CREATED:20231118T204610Z
LAST-MODIFIED:20231118T204617Z
UID:2236-1711188000-1711195200@stjameshanslope.org
SUMMARY:Castlethorpe’s Weekly Coffee Morning – LENT 6
DESCRIPTION:
URL:https://stjameshanslope.org/event/castlethorpes-weekly-coffee-morning-lent-6/
LOCATION:SS Simon and Jude\, Castlethorpe
END:VEVENT
BEGIN:VEVENT
DTSTART;TZID=UTC:20240323T163000
DTEND;TZID=UTC:20240323T173000
DTSTAMP:20260423T100504
CREATED:20240127T012726Z
LAST-MODIFIED:20240127T012731Z
UID:2752-1711211400-1711215000@stjameshanslope.org
SUMMARY:Rosary on Tour - Rural Life\, Farming and the Environment
DESCRIPTION:
URL:https://stjameshanslope.org/event/rosary-on-tour-rural-life-farming-and-the-environment/
END:VEVENT
BEGIN:VEVENT
DTSTART;TZID=UTC:20240324T093000
DTEND;TZID=UTC:20240324T093000
DTSTAMP:20260423T100504
CREATED:20240127T013438Z
LAST-MODIFIED:20240127T013512Z
UID:2760-1711272600-1711272600@stjameshanslope.org
SUMMARY:Palm Sunday Sung Mass SS Simon and Jude
DESCRIPTION:
URL:https://stjameshanslope.org/event/sung-mass-ss-simon-and-jude-11/
LOCATION:SS Simon and Jude\, Castlethorpe
END:VEVENT
BEGIN:VEVENT
DTSTART;TZID=UTC:20240324T111500
DTEND;TZID=UTC:20240324T111500
DTSTAMP:20260423T100504
CREATED:20240127T014112Z
LAST-MODIFIED:20240127T014119Z
UID:2771-1711278900-1711278900@stjameshanslope.org
SUMMARY:Palm Sunday Procession & Sung Mass St James the Great
DESCRIPTION:
URL:https://stjameshanslope.org/event/palm-sunday-procession-sung-mass-st-james-the-great/
LOCATION:St James the Great\, Hanslope
END:VEVENT
END:VCALENDAR