BEGIN:VCALENDAR
VERSION:2.0
PRODID:-//St James the Great - ECPv6.15.20//NONSGML v1.0//EN
CALSCALE:GREGORIAN
METHOD:PUBLISH
X-WR-CALNAME:St James the Great
X-ORIGINAL-URL:https://stjameshanslope.org
X-WR-CALDESC:Events for St James the Great
REFRESH-INTERVAL;VALUE=DURATION:PT1H
X-Robots-Tag:noindex
X-PUBLISHED-TTL:PT1H
BEGIN:VTIMEZONE
TZID:UTC
BEGIN:STANDARD
TZOFFSETFROM:+0000
TZOFFSETTO:+0000
TZNAME:UTC
DTSTART:20230101T000000
END:STANDARD
END:VTIMEZONE
BEGIN:VEVENT
DTSTART;TZID=UTC:20240322T173000
DTEND;TZID=UTC:20240322T180000
DTSTAMP:20260423T124901
CREATED:20240127T011919Z
LAST-MODIFIED:20240218T152452Z
UID:2738-1711128600-1711130400@stjameshanslope.org
SUMMARY:Evening Prayer and Exposition: Silent Prayer Before the Blessed Sacrament St James the Great
DESCRIPTION:
URL:https://stjameshanslope.org/event/exposition-silent-prayer-before-the-blessed-sacrament-st-james-the-great-6/
LOCATION:St James the Great\, Hanslope
END:VEVENT
BEGIN:VEVENT
DTSTART;TZID=UTC:20240322T190000
DTEND;TZID=UTC:20240322T190000
DTSTAMP:20260423T124901
CREATED:20240315T002720Z
LAST-MODIFIED:20240315T002725Z
UID:2883-1711134000-1711134000@stjameshanslope.org
SUMMARY:Tutored Wine Tasting Event in aid of the Lullaby Trust Charity
DESCRIPTION:
URL:https://stjameshanslope.org/event/tutored-wine-tasting-event-in-aid-of-the-lullaby-trust-charity/
LOCATION:SS Simon and Jude\, Castlethorpe
END:VEVENT
BEGIN:VEVENT
DTSTART;TZID=UTC:20240323T100000
DTEND;TZID=UTC:20240323T120000
DTSTAMP:20260423T124901
CREATED:20231118T204610Z
LAST-MODIFIED:20231118T204617Z
UID:2236-1711188000-1711195200@stjameshanslope.org
SUMMARY:Castlethorpe’s Weekly Coffee Morning – LENT 6
DESCRIPTION:
URL:https://stjameshanslope.org/event/castlethorpes-weekly-coffee-morning-lent-6/
LOCATION:SS Simon and Jude\, Castlethorpe
END:VEVENT
BEGIN:VEVENT
DTSTART;TZID=UTC:20240323T163000
DTEND;TZID=UTC:20240323T173000
DTSTAMP:20260423T124901
CREATED:20240127T012726Z
LAST-MODIFIED:20240127T012731Z
UID:2752-1711211400-1711215000@stjameshanslope.org
SUMMARY:Rosary on Tour - Rural Life\, Farming and the Environment
DESCRIPTION:
URL:https://stjameshanslope.org/event/rosary-on-tour-rural-life-farming-and-the-environment/
END:VEVENT
BEGIN:VEVENT
DTSTART;TZID=UTC:20240324T093000
DTEND;TZID=UTC:20240324T093000
DTSTAMP:20260423T124901
CREATED:20240127T013438Z
LAST-MODIFIED:20240127T013512Z
UID:2760-1711272600-1711272600@stjameshanslope.org
SUMMARY:Palm Sunday Sung Mass SS Simon and Jude
DESCRIPTION:
URL:https://stjameshanslope.org/event/sung-mass-ss-simon-and-jude-11/
LOCATION:SS Simon and Jude\, Castlethorpe
END:VEVENT
BEGIN:VEVENT
DTSTART;TZID=UTC:20240324T111500
DTEND;TZID=UTC:20240324T111500
DTSTAMP:20260423T124901
CREATED:20240127T014112Z
LAST-MODIFIED:20240127T014119Z
UID:2771-1711278900-1711278900@stjameshanslope.org
SUMMARY:Palm Sunday Procession & Sung Mass St James the Great
DESCRIPTION:
URL:https://stjameshanslope.org/event/palm-sunday-procession-sung-mass-st-james-the-great/
LOCATION:St James the Great\, Hanslope
END:VEVENT
BEGIN:VEVENT
DTSTART;TZID=UTC:20240325T110000
DTEND;TZID=UTC:20240325T110000
DTSTAMP:20260423T124901
CREATED:20240127T014417Z
LAST-MODIFIED:20240127T020648Z
UID:2775-1711364400-1711364400@stjameshanslope.org
SUMMARY:Holy Monday - The Bishop's Annual Chrism Mass @ Lichfield Cathedral
DESCRIPTION:
URL:https://stjameshanslope.org/event/holy-monday-the-bishops-annual-chrism-mass-lichfield-cathedral/
END:VEVENT
BEGIN:VEVENT
DTSTART;TZID=UTC:20240325T193000
DTEND;TZID=UTC:20240325T200000
DTSTAMP:20260423T124901
CREATED:20240127T014525Z
LAST-MODIFIED:20240127T014530Z
UID:2777-1711395000-1711396800@stjameshanslope.org
SUMMARY:Holy Monday - Said Mass St James the Great
DESCRIPTION:
URL:https://stjameshanslope.org/event/holy-monday-said-mass-st-james-the-great/
LOCATION:St James the Great\, Hanslope
END:VEVENT
BEGIN:VEVENT
DTSTART;TZID=UTC:20240325T200000
DTEND;TZID=UTC:20240325T200000
DTSTAMP:20260423T124901
CREATED:20240127T014612Z
LAST-MODIFIED:20240127T014619Z
UID:2779-1711396800-1711396800@stjameshanslope.org
SUMMARY:Holy Monday - Stations of the Cross St James the Great
DESCRIPTION:
URL:https://stjameshanslope.org/event/holy-monday-stations-of-the-cross-st-james-the-great/
LOCATION:St James the Great\, Hanslope
END:VEVENT
BEGIN:VEVENT
DTSTART;TZID=UTC:20240326T100000
DTEND;TZID=UTC:20240326T100000
DTSTAMP:20260423T124901
CREATED:20240127T020336Z
LAST-MODIFIED:20240127T020341Z
UID:2801-1711447200-1711447200@stjameshanslope.org
SUMMARY:Holy Tuesday - Morning Prayer St James the Great
DESCRIPTION:
URL:https://stjameshanslope.org/event/holy-tuesday-morning-prayer-st-james-the-great/
LOCATION:St James the Great\, Hanslope
END:VEVENT
BEGIN:VEVENT
DTSTART;TZID=UTC:20240326T193000
DTEND;TZID=UTC:20240326T193000
DTSTAMP:20260423T124901
CREATED:20240127T014749Z
LAST-MODIFIED:20240127T014754Z
UID:2781-1711481400-1711481400@stjameshanslope.org
SUMMARY:Holy Tuesday - Said Mass SS Simon and Jude
DESCRIPTION:
URL:https://stjameshanslope.org/event/holy-tuesday-said-mass-ss-simon-and-jude/
LOCATION:SS Simon and Jude\, Castlethorpe
END:VEVENT
BEGIN:VEVENT
DTSTART;TZID=UTC:20240326T210000
DTEND;TZID=UTC:20240326T210000
DTSTAMP:20260423T124901
CREATED:20240127T014857Z
LAST-MODIFIED:20240127T014902Z
UID:2783-1711486800-1711486800@stjameshanslope.org
SUMMARY:Holy Tuesday - Compline by Candlelight St James the Great
DESCRIPTION:
URL:https://stjameshanslope.org/event/holy-tuesday-compline-by-candlelight-st-james-the-great/
LOCATION:St James the Great\, Hanslope
END:VEVENT
BEGIN:VEVENT
DTSTART;TZID=UTC:20240327T100000
DTEND;TZID=UTC:20240327T100000
DTSTAMP:20260423T124901
CREATED:20240127T020423Z
LAST-MODIFIED:20240127T020428Z
UID:2803-1711533600-1711533600@stjameshanslope.org
SUMMARY:Holy Wednesday - Morning Prayer St James the Great
DESCRIPTION:
URL:https://stjameshanslope.org/event/holy-wednesday-morning-prayer-st-james-the-great/
LOCATION:St James the Great\, Hanslope
END:VEVENT
BEGIN:VEVENT
DTSTART;TZID=UTC:20240327T103000
DTEND;TZID=UTC:20240327T123000
DTSTAMP:20260423T124901
CREATED:20231227T232503Z
LAST-MODIFIED:20231227T232512Z
UID:2422-1711535400-1711542600@stjameshanslope.org
SUMMARY:Carers’ Support Group
DESCRIPTION:
URL:https://stjameshanslope.org/event/carers-support-group-11/
LOCATION:12 Weavers End
END:VEVENT
BEGIN:VEVENT
DTSTART;TZID=UTC:20240327T193000
DTEND;TZID=UTC:20240327T193000
DTSTAMP:20260423T124901
CREATED:20240127T015037Z
LAST-MODIFIED:20240127T015042Z
UID:2785-1711567800-1711567800@stjameshanslope.org
SUMMARY:Holy Wednesday - Mass for Wholeness & Healing (and Confession) St James the Great
DESCRIPTION:
URL:https://stjameshanslope.org/event/holy-wednesday-mass-for-wholeness-healing-and-confession-st-james-the-great/
LOCATION:St James the Great\, Hanslope
END:VEVENT
BEGIN:VEVENT
DTSTART;TZID=UTC:20240328T100000
DTEND;TZID=UTC:20240328T100000
DTSTAMP:20260423T124901
CREATED:20240127T020506Z
LAST-MODIFIED:20240127T020510Z
UID:2805-1711620000-1711620000@stjameshanslope.org
SUMMARY:Maundy Thursday - Morning Prayer St James the Great
DESCRIPTION:
URL:https://stjameshanslope.org/event/maundy-thursday-morning-prayer-st-james-the-great/
LOCATION:St James the Great\, Hanslope
END:VEVENT
BEGIN:VEVENT
DTSTART;TZID=UTC:20240328T193000
DTEND;TZID=UTC:20240328T193000
DTSTAMP:20260423T124901
CREATED:20240127T015151Z
LAST-MODIFIED:20240127T015155Z
UID:2787-1711654200-1711654200@stjameshanslope.org
SUMMARY:Maundy Thursday - Mass of the Last Supper SS Simon and Jude
DESCRIPTION:
URL:https://stjameshanslope.org/event/maundy-thursday-mass-of-the-last-supper-ss-simon-and-jude/
LOCATION:SS Simon and Jude\, Castlethorpe
END:VEVENT
BEGIN:VEVENT
DTSTART;TZID=UTC:20240328T204500
DTEND;TZID=UTC:20240328T204500
DTSTAMP:20260423T124901
CREATED:20240127T015326Z
LAST-MODIFIED:20240127T015335Z
UID:2789-1711658700-1711658700@stjameshanslope.org
SUMMARY:Maundy Thursday - Vigil of Silent Prayer ending with Compline by Candlelight SS Simon and Jude
DESCRIPTION:
URL:https://stjameshanslope.org/event/maundy-thursday-vigil-of-silent-prayer-ending-with-compline-by-candlelight-ss-simon-and-jude/
LOCATION:SS Simon and Jude\, Castlethorpe
END:VEVENT
BEGIN:VEVENT
DTSTART;TZID=UTC:20240329T100000
DTEND;TZID=UTC:20240329T100000
DTSTAMP:20260423T124901
CREATED:20240127T015506Z
LAST-MODIFIED:20240127T015511Z
UID:2791-1711706400-1711706400@stjameshanslope.org
SUMMARY:Good Friday - Morning Prayer SS Simon and Jude
DESCRIPTION:
URL:https://stjameshanslope.org/event/good-friday-morning-prayer-ss-simon-and-jude/
LOCATION:SS Simon and Jude\, Castlethorpe
END:VEVENT
BEGIN:VEVENT
DTSTART;TZID=UTC:20240329T100000
DTEND;TZID=UTC:20240329T100000
DTSTAMP:20260423T124901
CREATED:20240127T015544Z
LAST-MODIFIED:20240127T015549Z
UID:2793-1711706400-1711706400@stjameshanslope.org
SUMMARY:Good Friday - Morning Prayer St James the Great
DESCRIPTION:
URL:https://stjameshanslope.org/event/good-friday-morning-prayer-st-james-the-great/
LOCATION:St James the Great\, Hanslope
END:VEVENT
BEGIN:VEVENT
DTSTART;TZID=UTC:20240329T110000
DTEND;TZID=UTC:20240329T110000
DTSTAMP:20260423T124901
CREATED:20240127T015818Z
LAST-MODIFIED:20240127T015824Z
UID:2795-1711710000-1711710000@stjameshanslope.org
SUMMARY:Good Friday Family Walk from Castlethorpe to Hanslope
DESCRIPTION:
URL:https://stjameshanslope.org/event/good-friday-family-walk-from-castlethorpe-to-hanslope/
LOCATION:SS Simon and Jude\, Castlethorpe
END:VEVENT
BEGIN:VEVENT
DTSTART;TZID=UTC:20240329T140000
DTEND;TZID=UTC:20240329T140000
DTSTAMP:20260423T124901
CREATED:20240127T015908Z
LAST-MODIFIED:20240127T015913Z
UID:2797-1711720800-1711720800@stjameshanslope.org
SUMMARY:The Good Friday Liturgy SS Simon and Jude
DESCRIPTION:
URL:https://stjameshanslope.org/event/the-good-friday-liturgy-ss-simon-and-jude/
LOCATION:SS Simon and Jude\, Castlethorpe
END:VEVENT
BEGIN:VEVENT
DTSTART;TZID=UTC:20240330T203000
DTEND;TZID=UTC:20240330T203000
DTSTAMP:20260423T124901
CREATED:20240127T020114Z
LAST-MODIFIED:20240127T020120Z
UID:2799-1711830600-1711830600@stjameshanslope.org
SUMMARY:Holy Saturday Easter Vigil and Candlelit First Mass in the Resurrection Night St James the Great
DESCRIPTION:
URL:https://stjameshanslope.org/event/holy-saturday-easter-vigil-and-candlelit-first-mass-in-the-resurrection-night-st-james-the-great/
LOCATION:St James the Great\, Hanslope
END:VEVENT
BEGIN:VEVENT
DTSTART;TZID=UTC:20240331T093000
DTEND;TZID=UTC:20240331T093000
DTSTAMP:20260423T124901
CREATED:20240127T013549Z
LAST-MODIFIED:20240127T013554Z
UID:2763-1711877400-1711877400@stjameshanslope.org
SUMMARY:Easter Day Sung Mass SS Simon and Jude
DESCRIPTION:
URL:https://stjameshanslope.org/event/easter-day-sung-mass-ss-simon-and-jude/
END:VEVENT
BEGIN:VEVENT
DTSTART;TZID=UTC:20240331T111500
DTEND;TZID=UTC:20240331T111500
DTSTAMP:20260423T124901
CREATED:20240127T014200Z
LAST-MODIFIED:20240127T014205Z
UID:2773-1711883700-1711883700@stjameshanslope.org
SUMMARY:Easter Day Sung Mass St James the Great
DESCRIPTION:
URL:https://stjameshanslope.org/event/easter-day-sung-mass-st-james-the-great/
LOCATION:St James the Great\, Hanslope
END:VEVENT
BEGIN:VEVENT
DTSTART;TZID=UTC:20240403T190000
DTEND;TZID=UTC:20240403T213000
DTSTAMP:20260423T124901
CREATED:20240315T002948Z
LAST-MODIFIED:20240315T002955Z
UID:2885-1712170800-1712179800@stjameshanslope.org
SUMMARY:Board Game Night
DESCRIPTION:
URL:https://stjameshanslope.org/event/board-game-night/
LOCATION:SS Simon and Jude\, Castlethorpe
END:VEVENT
BEGIN:VEVENT
DTSTART;TZID=UTC:20240404T123000
DTEND;TZID=UTC:20240404T123000
DTSTAMP:20260423T124901
CREATED:20231227T234314Z
LAST-MODIFIED:20231227T234320Z
UID:2446-1712233800-1712233800@stjameshanslope.org
SUMMARY:SS Simon and Jude’s Soup and a roll
DESCRIPTION:
URL:https://stjameshanslope.org/event/ss-simon-and-judes-soup-and-a-roll-6/
LOCATION:SS Simon and Jude\, Castlethorpe
END:VEVENT
BEGIN:VEVENT
DTSTART;TZID=UTC:20240406T093000
DTEND;TZID=UTC:20240406T093000
DTSTAMP:20260423T124901
CREATED:20250228T234747Z
LAST-MODIFIED:20250228T234747Z
UID:4302-1712395800-1712395800@stjameshanslope.org
SUMMARY:LENT 5 Passion Sunday Sung Mass\, SS Simon and Jude
DESCRIPTION:
URL:https://stjameshanslope.org/event/lent-5-passion-sunday-sung-mass-ss-simon-and-jude/
LOCATION:SS Simon and Jude\, Castlethorpe
END:VEVENT
BEGIN:VEVENT
DTSTART;TZID=UTC:20240406T111500
DTEND;TZID=UTC:20240406T111500
DTSTAMP:20260423T124901
CREATED:20250228T234747Z
LAST-MODIFIED:20250228T234747Z
UID:4303-1712402100-1712402100@stjameshanslope.org
SUMMARY:LENT 5 Passion Sunday Sung Mass\, St James the Great
DESCRIPTION:
URL:https://stjameshanslope.org/event/lent-5-passion-sunday-sung-mass-st-james-the-great/
LOCATION:St James the Great\, Hanslope
END:VEVENT
BEGIN:VEVENT
DTSTART;TZID=UTC:20240413T100000
DTEND;TZID=UTC:20240413T160000
DTSTAMP:20260423T124901
CREATED:20231112T001421Z
LAST-MODIFIED:20231112T001429Z
UID:2202-1713002400-1713024000@stjameshanslope.org
SUMMARY:Castlethorpe Craft Day
DESCRIPTION:
URL:https://stjameshanslope.org/event/castlethorpe-craft-day/
LOCATION:SS Simon and Jude\, Castlethorpe
END:VEVENT
END:VCALENDAR