BEGIN:VCALENDAR
VERSION:2.0
PRODID:-//St James the Great - ECPv6.15.20//NONSGML v1.0//EN
CALSCALE:GREGORIAN
METHOD:PUBLISH
X-WR-CALNAME:St James the Great
X-ORIGINAL-URL:https://stjameshanslope.org
X-WR-CALDESC:Events for St James the Great
REFRESH-INTERVAL;VALUE=DURATION:PT1H
X-Robots-Tag:noindex
X-PUBLISHED-TTL:PT1H
BEGIN:VTIMEZONE
TZID:UTC
BEGIN:STANDARD
TZOFFSETFROM:+0000
TZOFFSETTO:+0000
TZNAME:UTC
DTSTART:20230101T000000
END:STANDARD
END:VTIMEZONE
BEGIN:VEVENT
DTSTART;TZID=UTC:20240331T111500
DTEND;TZID=UTC:20240331T111500
DTSTAMP:20260423T154439
CREATED:20240127T014200Z
LAST-MODIFIED:20240127T014205Z
UID:2773-1711883700-1711883700@stjameshanslope.org
SUMMARY:Easter Day Sung Mass St James the Great
DESCRIPTION:
URL:https://stjameshanslope.org/event/easter-day-sung-mass-st-james-the-great/
LOCATION:St James the Great\, Hanslope
END:VEVENT
BEGIN:VEVENT
DTSTART;TZID=UTC:20240403T190000
DTEND;TZID=UTC:20240403T213000
DTSTAMP:20260423T154439
CREATED:20240315T002948Z
LAST-MODIFIED:20240315T002955Z
UID:2885-1712170800-1712179800@stjameshanslope.org
SUMMARY:Board Game Night
DESCRIPTION:
URL:https://stjameshanslope.org/event/board-game-night/
LOCATION:SS Simon and Jude\, Castlethorpe
END:VEVENT
BEGIN:VEVENT
DTSTART;TZID=UTC:20240404T123000
DTEND;TZID=UTC:20240404T123000
DTSTAMP:20260423T154439
CREATED:20231227T234314Z
LAST-MODIFIED:20231227T234320Z
UID:2446-1712233800-1712233800@stjameshanslope.org
SUMMARY:SS Simon and Jude’s Soup and a roll
DESCRIPTION:
URL:https://stjameshanslope.org/event/ss-simon-and-judes-soup-and-a-roll-6/
LOCATION:SS Simon and Jude\, Castlethorpe
END:VEVENT
BEGIN:VEVENT
DTSTART;TZID=UTC:20240406T093000
DTEND;TZID=UTC:20240406T093000
DTSTAMP:20260423T154439
CREATED:20250228T234747Z
LAST-MODIFIED:20250228T234747Z
UID:4302-1712395800-1712395800@stjameshanslope.org
SUMMARY:LENT 5 Passion Sunday Sung Mass\, SS Simon and Jude
DESCRIPTION:
URL:https://stjameshanslope.org/event/lent-5-passion-sunday-sung-mass-ss-simon-and-jude/
LOCATION:SS Simon and Jude\, Castlethorpe
END:VEVENT
BEGIN:VEVENT
DTSTART;TZID=UTC:20240406T111500
DTEND;TZID=UTC:20240406T111500
DTSTAMP:20260423T154439
CREATED:20250228T234747Z
LAST-MODIFIED:20250228T234747Z
UID:4303-1712402100-1712402100@stjameshanslope.org
SUMMARY:LENT 5 Passion Sunday Sung Mass\, St James the Great
DESCRIPTION:
URL:https://stjameshanslope.org/event/lent-5-passion-sunday-sung-mass-st-james-the-great/
LOCATION:St James the Great\, Hanslope
END:VEVENT
BEGIN:VEVENT
DTSTART;TZID=UTC:20240413T100000
DTEND;TZID=UTC:20240413T160000
DTSTAMP:20260423T154439
CREATED:20231112T001421Z
LAST-MODIFIED:20231112T001429Z
UID:2202-1713002400-1713024000@stjameshanslope.org
SUMMARY:Castlethorpe Craft Day
DESCRIPTION:
URL:https://stjameshanslope.org/event/castlethorpe-craft-day/
LOCATION:SS Simon and Jude\, Castlethorpe
END:VEVENT
BEGIN:VEVENT
DTSTART;TZID=UTC:20240416T193000
DTEND;TZID=UTC:20240416T193000
DTSTAMP:20260423T154439
CREATED:20231009T223348Z
LAST-MODIFIED:20231009T223358Z
UID:1994-1713295800-1713295800@stjameshanslope.org
SUMMARY:Hanslope’s PCC Meeting
DESCRIPTION:
URL:https://stjameshanslope.org/event/hanslopes-pcc-meeting-2/
LOCATION:St James the Great\, Hanslope
END:VEVENT
BEGIN:VEVENT
DTSTART;TZID=UTC:20240418T123000
DTEND;TZID=UTC:20240418T123000
DTSTAMP:20260423T154439
CREATED:20231227T234916Z
LAST-MODIFIED:20231227T235030Z
UID:2456-1713443400-1713443400@stjameshanslope.org
SUMMARY:Community Lunch
DESCRIPTION:
URL:https://stjameshanslope.org/event/community-lunch-9/
LOCATION:St James the Great\, Hanslope
END:VEVENT
BEGIN:VEVENT
DTSTART;TZID=UTC:20240424T080000
DTEND;TZID=UTC:20240424T170000
DTSTAMP:20260423T154439
CREATED:20231111T235907Z
LAST-MODIFIED:20231111T235914Z
UID:2190-1713945600-1713978000@stjameshanslope.org
SUMMARY:APCM Time TBC SS Simon and Jude
DESCRIPTION:
URL:https://stjameshanslope.org/event/apcm-time-tbc-ss-simon-and-jude/
END:VEVENT
BEGIN:VEVENT
DTSTART;TZID=UTC:20240429T130000
DTEND;TZID=UTC:20240429T130000
DTSTAMP:20260423T154439
CREATED:20240801T075408Z
LAST-MODIFIED:20240801T075414Z
UID:3277-1714395600-1714395600@stjameshanslope.org
SUMMARY:Burial of ashes of the late Joan Evelyn Godfrey\, SS Simon and Jude
DESCRIPTION:
URL:https://stjameshanslope.org/event/burial-of-ashes-of-the-late-joan-evelyn-godfrey-ss-simon-and-jude/
LOCATION:SS Simon and Jude\, Castlethorpe
END:VEVENT
BEGIN:VEVENT
DTSTART;TZID=UTC:20240430T163000
DTEND;TZID=UTC:20240430T163000
DTSTAMP:20260423T154439
CREATED:20240127T021356Z
LAST-MODIFIED:20240127T021400Z
UID:2814-1714494600-1714494600@stjameshanslope.org
SUMMARY:Castlethorpe’s Standing Committee
DESCRIPTION:
URL:https://stjameshanslope.org/event/castlethorpes-standing-committee-2/
END:VEVENT
BEGIN:VEVENT
DTSTART;TZID=UTC:20240502T123000
DTEND;TZID=UTC:20240502T123000
DTSTAMP:20260423T154439
CREATED:20231227T234455Z
LAST-MODIFIED:20231227T234501Z
UID:2448-1714653000-1714653000@stjameshanslope.org
SUMMARY:SS Simon and Jude’s Soup and a roll
DESCRIPTION:
URL:https://stjameshanslope.org/event/ss-simon-and-judes-soup-and-a-roll-7/
LOCATION:SS Simon and Jude\, Castlethorpe
END:VEVENT
BEGIN:VEVENT
DTSTART;VALUE=DATE:20240504
DTEND;VALUE=DATE:20240505
DTSTAMP:20260423T154439
CREATED:20230902T205607Z
LAST-MODIFIED:20240106T211708Z
UID:1751-1714780800-1714867199@stjameshanslope.org
SUMMARY:Musical Day hosted by Louise Crane plus concert SS Simon and Jude
DESCRIPTION:
URL:https://stjameshanslope.org/event/musical-educational-weekend-hosted-by-louise-crane-plus-concert-ss-simon-and-jude/
LOCATION:SS Simon and Jude\, Castlethorpe
END:VEVENT
BEGIN:VEVENT
DTSTART;TZID=UTC:20240512T123000
DTEND;TZID=UTC:20240512T133000
DTSTAMP:20260423T154439
CREATED:20231009T224051Z
LAST-MODIFIED:20231009T224100Z
UID:2002-1715517000-1715520600@stjameshanslope.org
SUMMARY:Hanslope’s APCM Meeting
DESCRIPTION:
URL:https://stjameshanslope.org/event/hanslopes-apcm-meeting/
LOCATION:St James the Great\, Hanslope
END:VEVENT
BEGIN:VEVENT
DTSTART;TZID=UTC:20240512T170000
DTEND;TZID=UTC:20240512T170000
DTSTAMP:20260423T154439
CREATED:20240526T181738Z
LAST-MODIFIED:20240526T181745Z
UID:3068-1715533200-1715533200@stjameshanslope.org
SUMMARY:Evening Prayer SS Simon and Jude
DESCRIPTION:
URL:https://stjameshanslope.org/event/evening-prayer-ss-simon-and-jude-29/
LOCATION:SS Simon and Jude\, Castlethorpe
END:VEVENT
BEGIN:VEVENT
DTSTART;TZID=UTC:20240514T193000
DTEND;TZID=UTC:20240514T193000
DTSTAMP:20260423T154439
CREATED:20231009T222101Z
LAST-MODIFIED:20240127T021247Z
UID:1982-1715715000-1715715000@stjameshanslope.org
SUMMARY:Castlethorpe’s PCC Meeting
DESCRIPTION:
URL:https://stjameshanslope.org/event/castlethorpes-pcc-meeting-3/
END:VEVENT
BEGIN:VEVENT
DTSTART;TZID=UTC:20240516T123000
DTEND;TZID=UTC:20240516T123000
DTSTAMP:20260423T154439
CREATED:20231227T235157Z
LAST-MODIFIED:20231227T235204Z
UID:2459-1715862600-1715862600@stjameshanslope.org
SUMMARY:Community Lunch
DESCRIPTION:
URL:https://stjameshanslope.org/event/community-lunch-10/
LOCATION:St James the Great\, Hanslope
END:VEVENT
BEGIN:VEVENT
DTSTART;TZID=UTC:20240518T100000
DTEND;TZID=UTC:20240518T120000
DTSTAMP:20260423T154439
CREATED:20240523T213108Z
LAST-MODIFIED:20240523T213115Z
UID:3010-1716026400-1716033600@stjameshanslope.org
SUMMARY:Castlethorpe’s Monthly Coffee Morning
DESCRIPTION:
URL:https://stjameshanslope.org/event/castlethorpes-monthly-coffee-morning/
LOCATION:SS Simon and Jude\, Castlethorpe
END:VEVENT
BEGIN:VEVENT
DTSTART;VALUE=DATE:20240523
DTEND;VALUE=DATE:20240524
DTSTAMP:20260423T154439
CREATED:20231029T224632Z
LAST-MODIFIED:20231029T224641Z
UID:2149-1716422400-1716508799@stjameshanslope.org
SUMMARY:The Link Magazine – article contributions deadline
DESCRIPTION:
URL:https://stjameshanslope.org/event/the-link-magazine-article-contributions-deadline-3/
END:VEVENT
BEGIN:VEVENT
DTSTART;TZID=UTC:20240526T093000
DTEND;TZID=UTC:20240526T093000
DTSTAMP:20260423T154439
CREATED:20240523T205244Z
LAST-MODIFIED:20240523T205251Z
UID:2934-1716715800-1716715800@stjameshanslope.org
SUMMARY:Trinity Sunday Sung Mass SS Simon and Jude
DESCRIPTION:
URL:https://stjameshanslope.org/event/trinity-sunday-sung-mass-ss-simon-and-jude/
LOCATION:SS Simon and Jude\, Castlethorpe
END:VEVENT
BEGIN:VEVENT
DTSTART;TZID=UTC:20240526T111500
DTEND;TZID=UTC:20240526T111500
DTSTAMP:20260423T154439
CREATED:20240523T205132Z
LAST-MODIFIED:20240523T205142Z
UID:2932-1716722100-1716722100@stjameshanslope.org
SUMMARY:Trinity Sunday Sung Mass St James the Great
DESCRIPTION:
URL:https://stjameshanslope.org/event/trinity-sunday-sung-mass-st-james-the-great/
LOCATION:St James the Great\, Hanslope
END:VEVENT
BEGIN:VEVENT
DTSTART;TZID=UTC:20240526T170000
DTEND;TZID=UTC:20240526T170000
DTSTAMP:20260423T154439
CREATED:20240526T181707Z
LAST-MODIFIED:20240526T181716Z
UID:3066-1716742800-1716742800@stjameshanslope.org
SUMMARY:Evening Prayer SS Simon and Jude
DESCRIPTION:
URL:https://stjameshanslope.org/event/evening-prayer-ss-simon-and-jude-28/
LOCATION:SS Simon and Jude\, Castlethorpe
END:VEVENT
BEGIN:VEVENT
DTSTART;VALUE=DATE:20240527
DTEND;VALUE=DATE:20240528
DTSTAMP:20260423T154439
CREATED:20240526T182035Z
LAST-MODIFIED:20240526T182113Z
UID:3070-1716768000-1716854399@stjameshanslope.org
SUMMARY:Walsingham's National Pilgrimage 2024
DESCRIPTION:
URL:https://stjameshanslope.org/event/walsinghams-national-pilgrimage-2024/
LOCATION:Walsingham\, United Kingdom
END:VEVENT
BEGIN:VEVENT
DTSTART;VALUE=DATE:20240529
DTEND;VALUE=DATE:20240530
DTSTAMP:20260423T154439
CREATED:20240526T181516Z
LAST-MODIFIED:20240526T181616Z
UID:3064-1716940800-1717027199@stjameshanslope.org
SUMMARY:NB NO Said Mass at 5pm at SS Simon and Jude
DESCRIPTION:
URL:https://stjameshanslope.org/event/nb-no-said-mass-at-5pm-at-ss-simon-and-jude/
LOCATION:SS Simon and Jude\, Castlethorpe
END:VEVENT
BEGIN:VEVENT
DTSTART;TZID=UTC:20240529T193000
DTEND;TZID=UTC:20240529T193000
DTSTAMP:20260423T154439
CREATED:20240526T180803Z
LAST-MODIFIED:20240526T180810Z
UID:3058-1717011000-1717011000@stjameshanslope.org
SUMMARY:Mass for Wholeness & Healing St James the Great
DESCRIPTION:
URL:https://stjameshanslope.org/event/mass-for-wholeness-healing-st-james-the-great/
LOCATION:St James the Great\, Hanslope
END:VEVENT
BEGIN:VEVENT
DTSTART;TZID=UTC:20240530T093000
DTEND;TZID=UTC:20240530T093000
DTSTAMP:20260423T154439
CREATED:20240526T181340Z
LAST-MODIFIED:20240526T181346Z
UID:3062-1717061400-1717061400@stjameshanslope.org
SUMMARY:Corpus Christi Morning Prayer St James the Great
DESCRIPTION:
URL:https://stjameshanslope.org/event/corpus-christi-morning-prayer-st-james-the-great/
LOCATION:St James the Great\, Hanslope
END:VEVENT
BEGIN:VEVENT
DTSTART;TZID=UTC:20240530T190000
DTEND;TZID=UTC:20240530T190000
DTSTAMP:20260423T154439
CREATED:20240526T181153Z
LAST-MODIFIED:20240526T181205Z
UID:3060-1717095600-1717095600@stjameshanslope.org
SUMMARY:The Feast of Corpus Christi Benefice Solemn Mass and Procession\, St James the Great
DESCRIPTION:
URL:https://stjameshanslope.org/event/the-feast-of-corpus-christi-benefice-solemn-mass-and-procession-st-james-the-great/
LOCATION:St James the Great\, Hanslope
END:VEVENT
BEGIN:VEVENT
DTSTART;TZID=UTC:20240531T173000
DTEND;TZID=UTC:20240531T173000
DTSTAMP:20260423T154439
CREATED:20240526T223438Z
LAST-MODIFIED:20240526T223444Z
UID:3075-1717176600-1717176600@stjameshanslope.org
SUMMARY:Wedding rehearsal for Joel and Isy St James the Great
DESCRIPTION:
URL:https://stjameshanslope.org/event/wedding-rehearsal-for-joel-and-isy-st-james-the-great/
LOCATION:St James the Great\, Hanslope
END:VEVENT
BEGIN:VEVENT
DTSTART;TZID=UTC:20240601T120000
DTEND;TZID=UTC:20240601T120000
DTSTAMP:20260423T154439
CREATED:20240526T182252Z
LAST-MODIFIED:20240526T223333Z
UID:3072-1717243200-1717243200@stjameshanslope.org
SUMMARY:Nuptial Mass of Joel and Isy St James the Great
DESCRIPTION:
URL:https://stjameshanslope.org/event/marriage-of-joel-and-isy-st-james-the-great/
LOCATION:St James the Great\, Hanslope
END:VEVENT
BEGIN:VEVENT
DTSTART;TZID=UTC:20240602T093000
DTEND;TZID=UTC:20240602T093000
DTSTAMP:20260423T154439
CREATED:20240523T205352Z
LAST-MODIFIED:20240523T205401Z
UID:2936-1717320600-1717320600@stjameshanslope.org
SUMMARY:Sung Mass SS Simon and Jude
DESCRIPTION:
URL:https://stjameshanslope.org/event/sung-mass-ss-simon-and-jude-12/
LOCATION:SS Simon and Jude\, Castlethorpe
END:VEVENT
END:VCALENDAR