BEGIN:VCALENDAR
VERSION:2.0
PRODID:-//St James the Great - ECPv6.15.20//NONSGML v1.0//EN
CALSCALE:GREGORIAN
METHOD:PUBLISH
X-WR-CALNAME:St James the Great
X-ORIGINAL-URL:https://stjameshanslope.org
X-WR-CALDESC:Events for St James the Great
REFRESH-INTERVAL;VALUE=DURATION:PT1H
X-Robots-Tag:noindex
X-PUBLISHED-TTL:PT1H
BEGIN:VTIMEZONE
TZID:UTC
BEGIN:STANDARD
TZOFFSETFROM:+0000
TZOFFSETTO:+0000
TZNAME:UTC
DTSTART:20230101T000000
END:STANDARD
END:VTIMEZONE
BEGIN:VEVENT
DTSTART;TZID=UTC:20240615T100000
DTEND;TZID=UTC:20240615T120000
DTSTAMP:20260423T220252
CREATED:20240523T213146Z
LAST-MODIFIED:20240523T213153Z
UID:3012-1718445600-1718452800@stjameshanslope.org
SUMMARY:Castlethorpe’s Monthly Coffee Morning
DESCRIPTION:
URL:https://stjameshanslope.org/event/castlethorpes-monthly-coffee-morning-2/
LOCATION:SS Simon and Jude\, Castlethorpe
END:VEVENT
BEGIN:VEVENT
DTSTART;TZID=UTC:20240616T093000
DTEND;TZID=UTC:20240616T093000
DTSTAMP:20260423T220252
CREATED:20240523T205500Z
LAST-MODIFIED:20240523T205509Z
UID:2940-1718530200-1718530200@stjameshanslope.org
SUMMARY:Sung Mass SS Simon and Jude
DESCRIPTION:
URL:https://stjameshanslope.org/event/sung-mass-ss-simon-and-jude-14/
LOCATION:SS Simon and Jude\, Castlethorpe
END:VEVENT
BEGIN:VEVENT
DTSTART;TZID=UTC:20240616T111500
DTEND;TZID=UTC:20240616T111500
DTSTAMP:20260423T220252
CREATED:20240523T205923Z
LAST-MODIFIED:20240523T205942Z
UID:2951-1718536500-1718536500@stjameshanslope.org
SUMMARY:Sung Mass St James the Great
DESCRIPTION:
URL:https://stjameshanslope.org/event/sung-mass-st-james-the-great-13/
LOCATION:St James the Great\, Hanslope
END:VEVENT
BEGIN:VEVENT
DTSTART;TZID=UTC:20240617T093000
DTEND;TZID=UTC:20240617T093000
DTSTAMP:20260423T220252
CREATED:20240523T211851Z
LAST-MODIFIED:20240523T211904Z
UID:2987-1718616600-1718616600@stjameshanslope.org
SUMMARY:Little Angels
DESCRIPTION:
URL:https://stjameshanslope.org/event/little-angels-37/
LOCATION:St James the Great\, Hanslope
END:VEVENT
BEGIN:VEVENT
DTSTART;TZID=UTC:20240618T193000
DTEND;TZID=UTC:20240618T193000
DTSTAMP:20260423T220252
CREATED:20231009T223524Z
LAST-MODIFIED:20240528T182226Z
UID:1996-1718739000-1718739000@stjameshanslope.org
SUMMARY:Hanslope’s PCC Meeting
DESCRIPTION:
URL:https://stjameshanslope.org/event/hanslopes-pcc-meeting-3/
LOCATION:St James the Great\, Hanslope
END:VEVENT
BEGIN:VEVENT
DTSTART;TZID=UTC:20240619T170000
DTEND;TZID=UTC:20240619T170000
DTSTAMP:20260423T220252
CREATED:20240523T211112Z
LAST-MODIFIED:20240523T211118Z
UID:2971-1718816400-1718816400@stjameshanslope.org
SUMMARY:Said Mass SS Simon and Jude
DESCRIPTION:
URL:https://stjameshanslope.org/event/said-mass-ss-simon-and-jude-27/
LOCATION:SS Simon and Jude\, Castlethorpe
END:VEVENT
BEGIN:VEVENT
DTSTART;TZID=UTC:20240620T093000
DTEND;TZID=UTC:20240620T093000
DTSTAMP:20260423T220252
CREATED:20240523T211412Z
LAST-MODIFIED:20240523T211531Z
UID:2979-1718875800-1718875800@stjameshanslope.org
SUMMARY:Said Mass St James the Great
DESCRIPTION:
URL:https://stjameshanslope.org/event/said-mass-st-james-the-great-37/
LOCATION:St James the Great\, Hanslope
END:VEVENT
BEGIN:VEVENT
DTSTART;TZID=UTC:20240620T123000
DTEND;TZID=UTC:20240620T123000
DTSTAMP:20260423T220252
CREATED:20231227T235244Z
LAST-MODIFIED:20231227T235252Z
UID:2461-1718886600-1718886600@stjameshanslope.org
SUMMARY:Community Lunch
DESCRIPTION:
URL:https://stjameshanslope.org/event/community-lunch-11/
LOCATION:St James the Great\, Hanslope
END:VEVENT
BEGIN:VEVENT
DTSTART;TZID=UTC:20240621T140000
DTEND;TZID=UTC:20240621T150000
DTSTAMP:20260423T220252
CREATED:20240523T212400Z
LAST-MODIFIED:20240523T212415Z
UID:2998-1718978400-1718982000@stjameshanslope.org
SUMMARY:Little Lambs - pre school children
DESCRIPTION:
URL:https://stjameshanslope.org/event/little-lambs-pre-school-children-3/
LOCATION:SS Simon and Jude\, Castlethorpe
END:VEVENT
BEGIN:VEVENT
DTSTART;TZID=UTC:20240621T153000
DTEND;TZID=UTC:20240621T163000
DTSTAMP:20260423T220252
CREATED:20240523T212819Z
LAST-MODIFIED:20240523T212826Z
UID:3006-1718983800-1718987400@stjameshanslope.org
SUMMARY:Little Lambs LEGO for Primary School age children
DESCRIPTION:
URL:https://stjameshanslope.org/event/little-lambs-lego-for-primary-school-age-children-3/
LOCATION:SS Simon and Jude\, Castlethorpe
END:VEVENT
BEGIN:VEVENT
DTSTART;TZID=UTC:20240623T093000
DTEND;TZID=UTC:20240623T093000
DTSTAMP:20260423T220252
CREATED:20240523T205535Z
LAST-MODIFIED:20240523T205556Z
UID:2942-1719135000-1719135000@stjameshanslope.org
SUMMARY:Sung Mass SS Simon and Jude
DESCRIPTION:
URL:https://stjameshanslope.org/event/sung-mass-ss-simon-and-jude-15/
LOCATION:SS Simon and Jude\, Castlethorpe
END:VEVENT
BEGIN:VEVENT
DTSTART;TZID=UTC:20240623T111500
DTEND;TZID=UTC:20240623T111500
DTSTAMP:20260423T220252
CREATED:20240523T210012Z
LAST-MODIFIED:20240523T210024Z
UID:2953-1719141300-1719141300@stjameshanslope.org
SUMMARY:Sung Mass St James the Great
DESCRIPTION:
URL:https://stjameshanslope.org/event/sung-mass-st-james-the-great-14/
LOCATION:St James the Great\, Hanslope
END:VEVENT
BEGIN:VEVENT
DTSTART;TZID=UTC:20240623T123000
DTEND;TZID=UTC:20240623T123000
DTSTAMP:20260423T220252
CREATED:20240801T081648Z
LAST-MODIFIED:20240801T081654Z
UID:3279-1719145800-1719145800@stjameshanslope.org
SUMMARY:Burial of ashes of the late Freda Kathleen Mary Wilks\, SS Simon and Jude
DESCRIPTION:
URL:https://stjameshanslope.org/event/burial-of-ashes-of-the-late-freda-kathleen-mary-wilks-ss-simon-and-jude/
LOCATION:SS Simon and Jude\, Castlethorpe
END:VEVENT
BEGIN:VEVENT
DTSTART;TZID=UTC:20240623T170000
DTEND;TZID=UTC:20240623T170000
DTSTAMP:20260423T220252
CREATED:20240523T210631Z
LAST-MODIFIED:20240523T210638Z
UID:2961-1719162000-1719162000@stjameshanslope.org
SUMMARY:Evening Prayer SS Simon and Jude
DESCRIPTION:
URL:https://stjameshanslope.org/event/evening-prayer-ss-simon-and-jude-25/
LOCATION:SS Simon and Jude\, Castlethorpe
END:VEVENT
BEGIN:VEVENT
DTSTART;TZID=UTC:20240624T093000
DTEND;TZID=UTC:20240624T093000
DTSTAMP:20260423T220252
CREATED:20240523T211943Z
LAST-MODIFIED:20240523T211956Z
UID:2989-1719221400-1719221400@stjameshanslope.org
SUMMARY:Little Angels
DESCRIPTION:
URL:https://stjameshanslope.org/event/little-angels-38/
LOCATION:St James the Great\, Hanslope
END:VEVENT
BEGIN:VEVENT
DTSTART;TZID=UTC:20240626T170000
DTEND;TZID=UTC:20240626T170000
DTSTAMP:20260423T220252
CREATED:20240523T211144Z
LAST-MODIFIED:20240523T211201Z
UID:2973-1719421200-1719421200@stjameshanslope.org
SUMMARY:Said Mass SS Simon and Jude
DESCRIPTION:
URL:https://stjameshanslope.org/event/said-mass-ss-simon-and-jude-28/
LOCATION:SS Simon and Jude\, Castlethorpe
END:VEVENT
BEGIN:VEVENT
DTSTART;VALUE=DATE:20240627
DTEND;VALUE=DATE:20240628
DTSTAMP:20260423T220252
CREATED:20231029T224721Z
LAST-MODIFIED:20231029T224730Z
UID:2151-1719446400-1719532799@stjameshanslope.org
SUMMARY:The Link Magazine – article contributions deadline
DESCRIPTION:
URL:https://stjameshanslope.org/event/the-link-magazine-article-contributions-deadline-4/
END:VEVENT
BEGIN:VEVENT
DTSTART;TZID=UTC:20240627T093000
DTEND;TZID=UTC:20240627T093000
DTSTAMP:20260423T220252
CREATED:20240523T211604Z
LAST-MODIFIED:20240523T211619Z
UID:2981-1719480600-1719480600@stjameshanslope.org
SUMMARY:Said Mass St James the Great
DESCRIPTION:
URL:https://stjameshanslope.org/event/said-mass-st-james-the-great-38/
LOCATION:St James the Great\, Hanslope
END:VEVENT
BEGIN:VEVENT
DTSTART;TZID=UTC:20240628T140000
DTEND;TZID=UTC:20240628T150000
DTSTAMP:20260423T220252
CREATED:20240523T212443Z
LAST-MODIFIED:20240523T212450Z
UID:3000-1719583200-1719586800@stjameshanslope.org
SUMMARY:Little Lambs - pre school children
DESCRIPTION:
URL:https://stjameshanslope.org/event/little-lambs-pre-school-children-4/
LOCATION:SS Simon and Jude\, Castlethorpe
END:VEVENT
BEGIN:VEVENT
DTSTART;TZID=UTC:20240628T153000
DTEND;TZID=UTC:20240628T163000
DTSTAMP:20260423T220252
CREATED:20240523T212909Z
LAST-MODIFIED:20240523T212924Z
UID:3008-1719588600-1719592200@stjameshanslope.org
SUMMARY:Little Lambs LEGO for Primary School age children
DESCRIPTION:
URL:https://stjameshanslope.org/event/little-lambs-lego-for-primary-school-age-children-4/
LOCATION:SS Simon and Jude\, Castlethorpe
END:VEVENT
BEGIN:VEVENT
DTSTART;TZID=UTC:20240630T093000
DTEND;TZID=UTC:20240630T093000
DTSTAMP:20260423T220252
CREATED:20240523T205622Z
LAST-MODIFIED:20240523T205628Z
UID:2945-1719739800-1719739800@stjameshanslope.org
SUMMARY:Sung Mass SS Simon and Jude
DESCRIPTION:
URL:https://stjameshanslope.org/event/sung-mass-ss-simon-and-jude-16/
LOCATION:SS Simon and Jude\, Castlethorpe
END:VEVENT
BEGIN:VEVENT
DTSTART;TZID=UTC:20240630T111500
DTEND;TZID=UTC:20240630T111500
DTSTAMP:20260423T220252
CREATED:20240523T210052Z
LAST-MODIFIED:20240526T180320Z
UID:2955-1719746100-1719746100@stjameshanslope.org
SUMMARY:Sung Mass plus Baptism St James the Great
DESCRIPTION:
URL:https://stjameshanslope.org/event/sung-mass-st-james-the-great-15/
LOCATION:St James the Great\, Hanslope
END:VEVENT
BEGIN:VEVENT
DTSTART;TZID=UTC:20240630T120000
DTEND;TZID=UTC:20240630T170000
DTSTAMP:20260423T220252
CREATED:20231112T001621Z
LAST-MODIFIED:20231112T001628Z
UID:2204-1719748800-1719766800@stjameshanslope.org
SUMMARY:Castlethorpe Duck Race by the River Tove
DESCRIPTION:
URL:https://stjameshanslope.org/event/castlethorpe-duck-race-by-the-river-tove/
LOCATION:Castlethorpe\, United Kingdom
END:VEVENT
BEGIN:VEVENT
DTSTART;TZID=UTC:20240701T093000
DTEND;TZID=UTC:20240701T093000
DTSTAMP:20260423T220252
CREATED:20240523T212024Z
LAST-MODIFIED:20240523T212029Z
UID:2991-1719826200-1719826200@stjameshanslope.org
SUMMARY:Little Angels
DESCRIPTION:
URL:https://stjameshanslope.org/event/little-angels-39/
LOCATION:St James the Great\, Hanslope
END:VEVENT
BEGIN:VEVENT
DTSTART;TZID=UTC:20240702T163000
DTEND;TZID=UTC:20240702T163000
DTSTAMP:20260423T220252
CREATED:20240127T021425Z
LAST-MODIFIED:20240523T214444Z
UID:2816-1719937800-1719937800@stjameshanslope.org
SUMMARY:Castlethorpe’s Standing Committee
DESCRIPTION:
URL:https://stjameshanslope.org/event/castlethorpes-standing-committee-3/
END:VEVENT
BEGIN:VEVENT
DTSTART;TZID=UTC:20240703T190000
DTEND;TZID=UTC:20240703T213000
DTSTAMP:20260423T220252
CREATED:20240523T213819Z
LAST-MODIFIED:20240523T213825Z
UID:3026-1720033200-1720042200@stjameshanslope.org
SUMMARY:Castlethorpe Games Night
DESCRIPTION:
URL:https://stjameshanslope.org/event/castlethorpe-games-night-2/
LOCATION:SS Simon and Jude\, Castlethorpe
END:VEVENT
BEGIN:VEVENT
DTSTART;TZID=UTC:20240709T140000
DTEND;TZID=UTC:20240709T140000
DTSTAMP:20260423T220252
CREATED:20240801T075049Z
LAST-MODIFIED:20240801T075054Z
UID:3275-1720533600-1720533600@stjameshanslope.org
SUMMARY:Funeral of the late Ron Wilson\, SS Simon and Jude
DESCRIPTION:
URL:https://stjameshanslope.org/event/funeral-of-the-late-ron-wilson-ss-simon-and-jude/
LOCATION:SS Simon and Jude\, Castlethorpe
END:VEVENT
BEGIN:VEVENT
DTSTART;TZID=UTC:20240710T193000
DTEND;TZID=UTC:20240710T213000
DTSTAMP:20260423T220252
CREATED:20240607T114840Z
LAST-MODIFIED:20240607T114858Z
UID:3091-1720639800-1720647000@stjameshanslope.org
SUMMARY:Hart and Soul concert rehearsal
DESCRIPTION:
URL:https://stjameshanslope.org/event/hart-and-soul-concert-rehearsal/
LOCATION:St James the Great\, Hanslope
END:VEVENT
BEGIN:VEVENT
DTSTART;TZID=UTC:20240714T170000
DTEND;TZID=UTC:20240714T170000
DTSTAMP:20260423T220252
CREATED:20240523T210703Z
LAST-MODIFIED:20240523T210716Z
UID:2963-1720976400-1720976400@stjameshanslope.org
SUMMARY:Evening Prayer SS Simon and Jude
DESCRIPTION:
URL:https://stjameshanslope.org/event/evening-prayer-ss-simon-and-jude-26/
LOCATION:SS Simon and Jude\, Castlethorpe
END:VEVENT
BEGIN:VEVENT
DTSTART;TZID=UTC:20240717T170000
DTEND;TZID=UTC:20240717T170000
DTSTAMP:20260423T220252
CREATED:20240715T233616Z
LAST-MODIFIED:20240715T233616Z
UID:3177-1721235600-1721235600@stjameshanslope.org
SUMMARY:Said Mass\, SS Simon and Jude
DESCRIPTION:
URL:https://stjameshanslope.org/event/said-mass-ss-simon-and-jude-29/
LOCATION:SS Simon and Jude\, Castlethorpe
END:VEVENT
END:VCALENDAR