BEGIN:VCALENDAR
VERSION:2.0
PRODID:-//St James the Great - ECPv6.15.20//NONSGML v1.0//EN
CALSCALE:GREGORIAN
METHOD:PUBLISH
X-WR-CALNAME:St James the Great
X-ORIGINAL-URL:https://stjameshanslope.org
X-WR-CALDESC:Events for St James the Great
REFRESH-INTERVAL;VALUE=DURATION:PT1H
X-Robots-Tag:noindex
X-PUBLISHED-TTL:PT1H
BEGIN:VTIMEZONE
TZID:UTC
BEGIN:STANDARD
TZOFFSETFROM:+0000
TZOFFSETTO:+0000
TZNAME:UTC
DTSTART:20230101T000000
END:STANDARD
END:VTIMEZONE
BEGIN:VEVENT
DTSTART;TZID=UTC:20240727T140000
DTEND;TZID=UTC:20240727T140000
DTSTAMP:20260424T034849
CREATED:20240715T233633Z
LAST-MODIFIED:20240715T233633Z
UID:3192-1722088800-1722088800@stjameshanslope.org
SUMMARY:Restoration Station\, Holiday Club briefing session
DESCRIPTION:
URL:https://stjameshanslope.org/event/restoration-station-holiday-club-briefing-session-2/
LOCATION:St James the Great\, Hanslope
END:VEVENT
BEGIN:VEVENT
DTSTART;TZID=UTC:20240728T093000
DTEND;TZID=UTC:20240728T093000
DTSTAMP:20260424T034849
CREATED:20240715T233633Z
LAST-MODIFIED:20240715T233633Z
UID:3193-1722159000-1722159000@stjameshanslope.org
SUMMARY:Sung Mass\, SS Simon and Jude
DESCRIPTION:
URL:https://stjameshanslope.org/event/sung-mass-ss-simon-and-jude-18/
LOCATION:SS Simon and Jude\, Castlethorpe
END:VEVENT
BEGIN:VEVENT
DTSTART;TZID=UTC:20240728T111500
DTEND;TZID=UTC:20240728T111500
DTSTAMP:20260424T034849
CREATED:20240715T233633Z
LAST-MODIFIED:20240715T233633Z
UID:3194-1722165300-1722165300@stjameshanslope.org
SUMMARY:Sung Mass\, St James the Great
DESCRIPTION:
URL:https://stjameshanslope.org/event/sung-mass-st-james-the-great-17/
LOCATION:St James the Great\, Hanslope
END:VEVENT
BEGIN:VEVENT
DTSTART;TZID=UTC:20240728T123000
DTEND;TZID=UTC:20240728T123000
DTSTAMP:20260424T034849
CREATED:20240715T233633Z
LAST-MODIFIED:20240715T233633Z
UID:3195-1722169800-1722169800@stjameshanslope.org
SUMMARY:Restoration Station\, Holiday Club set up session
DESCRIPTION:
URL:https://stjameshanslope.org/event/restoration-station-holiday-club-set-up-session/
LOCATION:St James the Great\, Hanslope
END:VEVENT
BEGIN:VEVENT
DTSTART;TZID=UTC:20240728T170000
DTEND;TZID=UTC:20240728T170000
DTSTAMP:20260424T034849
CREATED:20240523T210745Z
LAST-MODIFIED:20240523T210751Z
UID:2965-1722186000-1722186000@stjameshanslope.org
SUMMARY:Evening Prayer SS Simon and Jude
DESCRIPTION:
URL:https://stjameshanslope.org/event/evening-prayer-ss-simon-and-jude-27/
LOCATION:SS Simon and Jude\, Castlethorpe
END:VEVENT
BEGIN:VEVENT
DTSTART;TZID=UTC:20240729T083000
DTEND;TZID=UTC:20240802T143000
DTSTAMP:20260424T034849
CREATED:20240715T231911Z
LAST-MODIFIED:20240715T232025Z
UID:3171-1722241800-1722609000@stjameshanslope.org
SUMMARY:Restoration Station Holiday Club @ St James the Great Church - 8.30am to 2.30pm
DESCRIPTION:
URL:https://stjameshanslope.org/event/restoration-station-holiday-club/
LOCATION:St James the Great\, Hanslope
END:VEVENT
BEGIN:VEVENT
DTSTART;TZID=UTC:20240729T173000
DTEND;TZID=UTC:20240729T173000
DTSTAMP:20260424T034849
CREATED:20240719T215217Z
LAST-MODIFIED:20240719T215225Z
UID:3201-1722274200-1722274200@stjameshanslope.org
SUMMARY:Following the Silence
DESCRIPTION:
URL:https://stjameshanslope.org/event/following-the-silence-53/
LOCATION:11 Weavers End\, United Kingdom
END:VEVENT
BEGIN:VEVENT
DTSTART;TZID=UTC:20240801T093000
DTEND;TZID=UTC:20240801T093000
DTSTAMP:20260424T034849
CREATED:20240715T231342Z
LAST-MODIFIED:20240719T215433Z
UID:3128-1722504600-1722504600@stjameshanslope.org
SUMMARY:Said Mass SS Simon and Jude
DESCRIPTION:
URL:https://stjameshanslope.org/event/said-mass-44/
LOCATION:SS Simon and Jude\, Castlethorpe
END:VEVENT
BEGIN:VEVENT
DTSTART;TZID=UTC:20240801T180000
DTEND;TZID=UTC:20240801T180000
DTSTAMP:20260424T034849
CREATED:20240715T231342Z
LAST-MODIFIED:20240715T231342Z
UID:3129-1722535200-1722535200@stjameshanslope.org
SUMMARY:Choir Practice
DESCRIPTION:
URL:https://stjameshanslope.org/event/choir-practice-49/
LOCATION:St James the Great\, Hanslope
END:VEVENT
BEGIN:VEVENT
DTSTART;TZID=UTC:20240802T100000
DTEND;TZID=UTC:20240802T100000
DTSTAMP:20260424T034849
CREATED:20240715T231343Z
LAST-MODIFIED:20240715T231343Z
UID:3130-1722592800-1722592800@stjameshanslope.org
SUMMARY:Craftivists
DESCRIPTION:
URL:https://stjameshanslope.org/event/craftivists-15/
LOCATION:St James the Great\, Hanslope
END:VEVENT
BEGIN:VEVENT
DTSTART;TZID=UTC:20240803T163000
DTEND;TZID=UTC:20240803T163000
DTSTAMP:20260424T034849
CREATED:20240715T231343Z
LAST-MODIFIED:20240715T231343Z
UID:3131-1722702600-1722702600@stjameshanslope.org
SUMMARY:Rosary Group
DESCRIPTION:
URL:https://stjameshanslope.org/event/rosary-group-12/
END:VEVENT
BEGIN:VEVENT
DTSTART;TZID=UTC:20240804T093000
DTEND;TZID=UTC:20240804T093000
DTSTAMP:20260424T034849
CREATED:20240715T231343Z
LAST-MODIFIED:20240715T231343Z
UID:3132-1722763800-1722763800@stjameshanslope.org
SUMMARY:Sung Mass
DESCRIPTION:
URL:https://stjameshanslope.org/event/sung-mass-67/
LOCATION:SS Simon and Jude\, Castlethorpe
END:VEVENT
BEGIN:VEVENT
DTSTART;TZID=UTC:20240804T111500
DTEND;TZID=UTC:20240804T111500
DTSTAMP:20260424T034849
CREATED:20240715T231344Z
LAST-MODIFIED:20240715T231344Z
UID:3133-1722770100-1722770100@stjameshanslope.org
SUMMARY:Sung Mass
DESCRIPTION:
URL:https://stjameshanslope.org/event/sung-mass-68/
LOCATION:St James the Great\, Hanslope
END:VEVENT
BEGIN:VEVENT
DTSTART;TZID=UTC:20240804T150000
DTEND;TZID=UTC:20240804T150000
DTSTAMP:20260424T034849
CREATED:20240715T231344Z
LAST-MODIFIED:20240715T231344Z
UID:3134-1722783600-1722783600@stjameshanslope.org
SUMMARY:Sunday Afternoon Tea & Cake
DESCRIPTION:
URL:https://stjameshanslope.org/event/sunday-afternoon-tea-cake/
LOCATION:St James the Great\, Hanslope
END:VEVENT
BEGIN:VEVENT
DTSTART;VALUE=DATE:20240805
DTEND;VALUE=DATE:20240810
DTSTAMP:20260424T034849
CREATED:20240719T220017Z
LAST-MODIFIED:20240719T220017Z
UID:3204-1722816000-1723247999@stjameshanslope.org
SUMMARY:Walsingham Youth Pilgrimage
DESCRIPTION:
URL:https://stjameshanslope.org/event/walsingham-youth-pilgrimage-2/
LOCATION:Walsingham\, United Kingdom
END:VEVENT
BEGIN:VEVENT
DTSTART;TZID=UTC:20240805T140000
DTEND;TZID=UTC:20240805T140000
DTSTAMP:20260424T034849
CREATED:20240715T231344Z
LAST-MODIFIED:20240715T231344Z
UID:3135-1722866400-1722866400@stjameshanslope.org
SUMMARY:Teatime Treats
DESCRIPTION:
URL:https://stjameshanslope.org/event/teatime-treats-2/
END:VEVENT
BEGIN:VEVENT
DTSTART;TZID=UTC:20240805T173000
DTEND;TZID=UTC:20240805T173000
DTSTAMP:20260424T034849
CREATED:20240715T231344Z
LAST-MODIFIED:20240715T231344Z
UID:3136-1722879000-1722879000@stjameshanslope.org
SUMMARY:Following the Silence
DESCRIPTION:
URL:https://stjameshanslope.org/event/following-the-silence-48/
END:VEVENT
BEGIN:VEVENT
DTSTART;TZID=UTC:20240807T083000
DTEND;TZID=UTC:20240807T183000
DTSTAMP:20260424T034849
CREATED:20240801T073928Z
LAST-MODIFIED:20240801T074039Z
UID:3268-1723019400-1723055400@stjameshanslope.org
SUMMARY:CHURCH NOT OPEN - Electrical checks (EICR) taking place - between 8.30am to 6.30pm - St James the Great
DESCRIPTION:
URL:https://stjameshanslope.org/event/church-not-open-electrical-checks-eicr-taking-place-between-8-30am-to-6-30pm/
LOCATION:St James the Great\, Hanslope
END:VEVENT
BEGIN:VEVENT
DTSTART;TZID=UTC:20240807T170000
DTEND;TZID=UTC:20240807T170000
DTSTAMP:20260424T034849
CREATED:20240715T231344Z
LAST-MODIFIED:20240715T231344Z
UID:3137-1723050000-1723050000@stjameshanslope.org
SUMMARY:Said Mass
DESCRIPTION:
URL:https://stjameshanslope.org/event/said-mass-45/
LOCATION:SS Simon and Jude\, Castlethorpe
END:VEVENT
BEGIN:VEVENT
DTSTART;TZID=UTC:20240807T190000
DTEND;TZID=UTC:20240807T213000
DTSTAMP:20260424T034849
CREATED:20240804T175011Z
LAST-MODIFIED:20240804T175022Z
UID:3283-1723057200-1723066200@stjameshanslope.org
SUMMARY:Castlethorpe Games Night
DESCRIPTION:
URL:https://stjameshanslope.org/event/castlethorpe-games-night-4/
LOCATION:SS Simon and Jude\, Castlethorpe
END:VEVENT
BEGIN:VEVENT
DTSTART;TZID=UTC:20240808T093000
DTEND;TZID=UTC:20240808T093000
DTSTAMP:20260424T034849
CREATED:20240715T231345Z
LAST-MODIFIED:20240715T231345Z
UID:3138-1723109400-1723109400@stjameshanslope.org
SUMMARY:Said Mass
DESCRIPTION:
URL:https://stjameshanslope.org/event/said-mass-46/
LOCATION:St James the Great\, Hanslope
END:VEVENT
BEGIN:VEVENT
DTSTART;TZID=UTC:20240808T180000
DTEND;TZID=UTC:20240808T180000
DTSTAMP:20260424T034849
CREATED:20240715T231345Z
LAST-MODIFIED:20240715T231345Z
UID:3139-1723140000-1723140000@stjameshanslope.org
SUMMARY:Choir Practice
DESCRIPTION:
URL:https://stjameshanslope.org/event/choir-practice-50/
LOCATION:St James the Great\, Hanslope
END:VEVENT
BEGIN:VEVENT
DTSTART;TZID=UTC:20240809T100000
DTEND;TZID=UTC:20240809T100000
DTSTAMP:20260424T034849
CREATED:20240715T231345Z
LAST-MODIFIED:20240715T231345Z
UID:3140-1723197600-1723197600@stjameshanslope.org
SUMMARY:Craftivists
DESCRIPTION:
URL:https://stjameshanslope.org/event/craftivists-16/
LOCATION:St James the Great\, Hanslope
END:VEVENT
BEGIN:VEVENT
DTSTART;TZID=UTC:20240810T160000
DTEND;TZID=UTC:20240810T160000
DTSTAMP:20260424T034849
CREATED:20240715T231345Z
LAST-MODIFIED:20240715T231345Z
UID:3141-1723305600-1723305600@stjameshanslope.org
SUMMARY:Vicarage BBQ
DESCRIPTION:
URL:https://stjameshanslope.org/event/vicarage-bbq-2/
END:VEVENT
BEGIN:VEVENT
DTSTART;TZID=UTC:20240811T093000
DTEND;TZID=UTC:20240811T093000
DTSTAMP:20260424T034849
CREATED:20240715T231345Z
LAST-MODIFIED:20240715T231345Z
UID:3142-1723368600-1723368600@stjameshanslope.org
SUMMARY:Sung Mass
DESCRIPTION:
URL:https://stjameshanslope.org/event/sung-mass-69/
LOCATION:SS Simon and Jude\, Castlethorpe
END:VEVENT
BEGIN:VEVENT
DTSTART;TZID=UTC:20240811T111500
DTEND;TZID=UTC:20240811T111500
DTSTAMP:20260424T034849
CREATED:20240715T231401Z
LAST-MODIFIED:20240715T231401Z
UID:3143-1723374900-1723374900@stjameshanslope.org
SUMMARY:Sung Mass
DESCRIPTION:
URL:https://stjameshanslope.org/event/sung-mass-70/
LOCATION:St James the Great\, Hanslope
END:VEVENT
BEGIN:VEVENT
DTSTART;TZID=UTC:20240811T150000
DTEND;TZID=UTC:20240811T150000
DTSTAMP:20260424T034849
CREATED:20240715T231401Z
LAST-MODIFIED:20240715T231401Z
UID:3144-1723388400-1723388400@stjameshanslope.org
SUMMARY:Sunday Afternoon Tea & Cake
DESCRIPTION:
URL:https://stjameshanslope.org/event/sunday-afternoon-tea-cake-2/
LOCATION:St James the Great\, Hanslope
END:VEVENT
BEGIN:VEVENT
DTSTART;TZID=UTC:20240811T170000
DTEND;TZID=UTC:20240811T170000
DTSTAMP:20260424T034849
CREATED:20240715T231401Z
LAST-MODIFIED:20240715T231401Z
UID:3145-1723395600-1723395600@stjameshanslope.org
SUMMARY:Evening Prayer
DESCRIPTION:
URL:https://stjameshanslope.org/event/evening-prayer-20/
LOCATION:SS Simon and Jude\, Castlethorpe
END:VEVENT
BEGIN:VEVENT
DTSTART;TZID=UTC:20240812T120000
DTEND;TZID=UTC:20240812T120000
DTSTAMP:20260424T034849
CREATED:20240801T074631Z
LAST-MODIFIED:20240801T074637Z
UID:3271-1723464000-1723464000@stjameshanslope.org
SUMMARY:Funeral of the late Jonathan Peter Luck\, St James the Great
DESCRIPTION:
URL:https://stjameshanslope.org/event/funeral-of-the-late-jonathan-peter-luck-st-james-the-great/
LOCATION:St James the Great\, Hanslope
END:VEVENT
BEGIN:VEVENT
DTSTART;TZID=UTC:20240812T173000
DTEND;TZID=UTC:20240812T173000
DTSTAMP:20260424T034849
CREATED:20240715T231401Z
LAST-MODIFIED:20240715T231401Z
UID:3146-1723483800-1723483800@stjameshanslope.org
SUMMARY:Following the Silence
DESCRIPTION:
URL:https://stjameshanslope.org/event/following-the-silence-49/
END:VEVENT
END:VCALENDAR