BEGIN:VCALENDAR
VERSION:2.0
PRODID:-//St James the Great - ECPv6.15.20//NONSGML v1.0//EN
CALSCALE:GREGORIAN
METHOD:PUBLISH
X-WR-CALNAME:St James the Great
X-ORIGINAL-URL:https://stjameshanslope.org
X-WR-CALDESC:Events for St James the Great
REFRESH-INTERVAL;VALUE=DURATION:PT1H
X-Robots-Tag:noindex
X-PUBLISHED-TTL:PT1H
BEGIN:VTIMEZONE
TZID:UTC
BEGIN:STANDARD
TZOFFSETFROM:+0000
TZOFFSETTO:+0000
TZNAME:UTC
DTSTART:20220101T000000
END:STANDARD
END:VTIMEZONE
BEGIN:VEVENT
DTSTART;TZID=UTC:20231009T180000
DTEND;TZID=UTC:20231009T200000
DTSTAMP:20260421T210911
CREATED:20231002T223343Z
LAST-MODIFIED:20231002T223349Z
UID:1873-1696874400-1696881600@stjameshanslope.org
SUMMARY:Hanslope Church Cleaning
DESCRIPTION:
URL:https://stjameshanslope.org/event/hanslope-church-cleaning-3/
LOCATION:St James the Great\, Hanslope
END:VEVENT
BEGIN:VEVENT
DTSTART;TZID=UTC:20231009T173000
DTEND;TZID=UTC:20231009T173000
DTSTAMP:20260421T210911
CREATED:20230824T135105Z
LAST-MODIFIED:20230824T135105Z
UID:1434-1696872600-1696872600@stjameshanslope.org
SUMMARY:Following the Silence
DESCRIPTION:
URL:https://stjameshanslope.org/event/following-the-silence-23/
LOCATION:11 Weavers End\, United Kingdom
END:VEVENT
BEGIN:VEVENT
DTSTART;TZID=UTC:20231009T093000
DTEND;TZID=UTC:20231009T093000
DTSTAMP:20260421T210911
CREATED:20230824T151712Z
LAST-MODIFIED:20230824T151720Z
UID:1548-1696843800-1696843800@stjameshanslope.org
SUMMARY:Little Angels
DESCRIPTION:
URL:https://stjameshanslope.org/event/little-angels-15/
LOCATION:St James the Great\, Hanslope
END:VEVENT
BEGIN:VEVENT
DTSTART;TZID=UTC:20231008T170000
DTEND;TZID=UTC:20231008T170000
DTSTAMP:20260421T210911
CREATED:20230802T215507Z
LAST-MODIFIED:20230825T224407Z
UID:1391-1696784400-1696784400@stjameshanslope.org
SUMMARY:Evening Prayer SS Simon and Jude
DESCRIPTION:
URL:https://stjameshanslope.org/event/evening-prayer-16/
LOCATION:SS Simon and Jude\, Castlethorpe
END:VEVENT
BEGIN:VEVENT
DTSTART;TZID=UTC:20231008T111500
DTEND;TZID=UTC:20231008T111500
DTSTAMP:20260421T210911
CREATED:20230802T214148Z
LAST-MODIFIED:20230922T001212Z
UID:1380-1696763700-1696763700@stjameshanslope.org
SUMMARY:Sung Mass plus Baptism St James the Great
DESCRIPTION:
URL:https://stjameshanslope.org/event/sung-mass-56/
LOCATION:St James the Great\, Hanslope
END:VEVENT
BEGIN:VEVENT
DTSTART;TZID=UTC:20231008T093000
DTEND;TZID=UTC:20231008T093000
DTSTAMP:20260421T210911
CREATED:20230802T214310Z
LAST-MODIFIED:20230825T221638Z
UID:1382-1696757400-1696757400@stjameshanslope.org
SUMMARY:Sung Mass SS Simon and Jude
DESCRIPTION:
URL:https://stjameshanslope.org/event/sung-mass-57/
LOCATION:SS Simon and Jude\, Castlethorpe
END:VEVENT
BEGIN:VEVENT
DTSTART;TZID=UTC:20231007T163000
DTEND;TZID=UTC:20231007T163000
DTSTAMP:20260421T210911
CREATED:20230718T234306Z
LAST-MODIFIED:20230825T224442Z
UID:1309-1696696200-1696696200@stjameshanslope.org
SUMMARY:Rosary Group at The Vicarage
DESCRIPTION:
URL:https://stjameshanslope.org/event/rosary-group-11/
LOCATION:The Vicarage\, United Kingdom
END:VEVENT
BEGIN:VEVENT
DTSTART;TZID=UTC:20231007T120000
DTEND;TZID=UTC:20231007T220000
DTSTAMP:20260421T210911
CREATED:20230911T182427Z
LAST-MODIFIED:20230911T182529Z
UID:1819-1696680000-1696716000@stjameshanslope.org
SUMMARY:Octoberfest Beer Festival in partnership with The Club
DESCRIPTION:
URL:https://stjameshanslope.org/event/octoberfest-beer-festival-in-partnership-with-the-club-2/
LOCATION:St James the Great\, Hanslope
END:VEVENT
BEGIN:VEVENT
DTSTART;TZID=UTC:20231007T100000
DTEND;TZID=UTC:20231007T120000
DTSTAMP:20260421T210911
CREATED:20230718T234705Z
LAST-MODIFIED:20230921T234951Z
UID:1311-1696672800-1696680000@stjameshanslope.org
SUMMARY:Hanslope’s Harvest Coffee Morning - Tower open
DESCRIPTION:
URL:https://stjameshanslope.org/event/harvest-coffee-morning/
LOCATION:St James the Great\, Hanslope
END:VEVENT
BEGIN:VEVENT
DTSTART;TZID=UTC:20231006T180000
DTEND;TZID=UTC:20231006T220000
DTSTAMP:20260421T210911
CREATED:20230911T182304Z
LAST-MODIFIED:20230911T182654Z
UID:1817-1696615200-1696629600@stjameshanslope.org
SUMMARY:Octoberfest Beer Festival in partnership with The Club
DESCRIPTION:
URL:https://stjameshanslope.org/event/octoberfest-beer-festival-in-partnership-with-the-club/
LOCATION:St James the Great\, Hanslope
END:VEVENT
BEGIN:VEVENT
DTSTART;TZID=UTC:20231006T153000
DTEND;TZID=UTC:20231006T153000
DTSTAMP:20260421T210911
CREATED:20230826T194935Z
LAST-MODIFIED:20230826T194940Z
UID:1716-1696606200-1696606200@stjameshanslope.org
SUMMARY:Inspire Youth Group
DESCRIPTION:
URL:https://stjameshanslope.org/event/inspire-youth-group-10/
LOCATION:St James the Great\, Hanslope
END:VEVENT
BEGIN:VEVENT
DTSTART;TZID=UTC:20231006T100000
DTEND;TZID=UTC:20231006T120000
DTSTAMP:20260421T210911
CREATED:20230824T212936Z
LAST-MODIFIED:20230824T212943Z
UID:1586-1696586400-1696593600@stjameshanslope.org
SUMMARY:Little Lambs
DESCRIPTION:
URL:https://stjameshanslope.org/event/little-lambs-19/
LOCATION:SS Simon and Jude\, Castlethorpe
END:VEVENT
BEGIN:VEVENT
DTSTART;TZID=UTC:20231006T093000
DTEND;TZID=UTC:20231006T093000
DTSTAMP:20260421T210911
CREATED:20230824T150554Z
LAST-MODIFIED:20230824T150601Z
UID:1532-1696584600-1696584600@stjameshanslope.org
SUMMARY:Craftivists
DESCRIPTION:
URL:https://stjameshanslope.org/event/craftivists-11/
LOCATION:St James the Great\, Hanslope
END:VEVENT
BEGIN:VEVENT
DTSTART;TZID=UTC:20231005T193000
DTEND;TZID=UTC:20231005T210000
DTSTAMP:20260421T210911
CREATED:20230922T002252Z
LAST-MODIFIED:20230922T002300Z
UID:1853-1696534200-1696539600@stjameshanslope.org
SUMMARY:The Chosen – Bible Study Group
DESCRIPTION:
URL:https://stjameshanslope.org/event/the-chosen-bible-study-group-3/
LOCATION:12 Weavers End
END:VEVENT
BEGIN:VEVENT
DTSTART;TZID=UTC:20231005T180000
DTEND;TZID=UTC:20231005T180000
DTSTAMP:20260421T210911
CREATED:20230824T153502Z
LAST-MODIFIED:20230824T153517Z
UID:1554-1696528800-1696528800@stjameshanslope.org
SUMMARY:Choir Practice
DESCRIPTION:
URL:https://stjameshanslope.org/event/choir-practice-23/
LOCATION:St James the Great\, Hanslope
END:VEVENT
BEGIN:VEVENT
DTSTART;TZID=UTC:20231005T123000
DTEND;TZID=UTC:20231005T123000
DTSTAMP:20260421T210911
CREATED:20230826T170641Z
LAST-MODIFIED:20230826T170648Z
UID:1675-1696509000-1696509000@stjameshanslope.org
SUMMARY:SS Simon and Jude’s Soup and a roll
DESCRIPTION:
URL:https://stjameshanslope.org/event/ss-simon-and-judes-soup-and-a-roll/
LOCATION:SS Simon and Jude\, Castlethorpe
END:VEVENT
BEGIN:VEVENT
DTSTART;TZID=UTC:20231005T100000
DTEND;TZID=UTC:20231005T100000
DTSTAMP:20260421T210911
CREATED:20231009T220051Z
LAST-MODIFIED:20231009T220101Z
UID:1967-1696500000-1696500000@stjameshanslope.org
SUMMARY:Castlethorpe First School Harvest Service
DESCRIPTION:
URL:https://stjameshanslope.org/event/castlethorpe-first-school-harvest-service/
LOCATION:SS Simon and Jude\, Castlethorpe
END:VEVENT
BEGIN:VEVENT
DTSTART;TZID=UTC:20231005T093000
DTEND;TZID=UTC:20231005T093000
DTSTAMP:20260421T210911
CREATED:20230824T143310Z
LAST-MODIFIED:20230824T143315Z
UID:1503-1696498200-1696498200@stjameshanslope.org
SUMMARY:Said Mass St James the Great
DESCRIPTION:
URL:https://stjameshanslope.org/event/said-mass-st-james-the-great-13/
LOCATION:St James the Great\, Hanslope
END:VEVENT
BEGIN:VEVENT
DTSTART;TZID=UTC:20231004T170000
DTEND;TZID=UTC:20231004T170000
DTSTAMP:20260421T210911
CREATED:20230824T141402Z
LAST-MODIFIED:20230824T141402Z
UID:1470-1696438800-1696438800@stjameshanslope.org
SUMMARY:Said Mass SS Simon and Jude
DESCRIPTION:
URL:https://stjameshanslope.org/event/said-mass-ss-simon-and-jude-5/
LOCATION:SS Simon and Jude\, Castlethorpe
END:VEVENT
BEGIN:VEVENT
DTSTART;TZID=UTC:20231004T163000
DTEND;TZID=UTC:20231004T170000
DTSTAMP:20260421T210911
CREATED:20231002T225222Z
LAST-MODIFIED:20231002T225235Z
UID:1883-1696437000-1696438800@stjameshanslope.org
SUMMARY:Burial of ashes - the late William Brian Denton
DESCRIPTION:
URL:https://stjameshanslope.org/event/burial-of-ashes-the-late-william-brian-denton/
LOCATION:SS Simon and Jude\, Castlethorpe
END:VEVENT
BEGIN:VEVENT
DTSTART;TZID=UTC:20231002T173000
DTEND;TZID=UTC:20231002T173000
DTSTAMP:20260421T210911
CREATED:20230824T135012Z
LAST-MODIFIED:20230824T135012Z
UID:1432-1696267800-1696267800@stjameshanslope.org
SUMMARY:Following the Silence
DESCRIPTION:
URL:https://stjameshanslope.org/event/following-the-silence-22/
LOCATION:11 Weavers End\, United Kingdom
END:VEVENT
BEGIN:VEVENT
DTSTART;TZID=UTC:20231002T150000
DTEND;TZID=UTC:20231002T150000
DTSTAMP:20260421T210911
CREATED:20230826T165725Z
LAST-MODIFIED:20230826T165741Z
UID:1668-1696258800-1696258800@stjameshanslope.org
SUMMARY:Burial of Ashes - the late John Pearson
DESCRIPTION:
URL:https://stjameshanslope.org/event/burial-of-ashes-the-late-john-pearson/
LOCATION:SS Simon and Jude\, Castlethorpe
END:VEVENT
BEGIN:VEVENT
DTSTART;TZID=UTC:20231002T140000
DTEND;TZID=UTC:20231002T160000
DTSTAMP:20260421T210911
CREATED:20230902T215313Z
LAST-MODIFIED:20230902T215320Z
UID:1789-1696255200-1696262400@stjameshanslope.org
SUMMARY:Teatime Treats at Lincoln Court
DESCRIPTION:
URL:https://stjameshanslope.org/event/teatime-treats-at-lincoln-court-2/
LOCATION:Hanslope
END:VEVENT
BEGIN:VEVENT
DTSTART;TZID=UTC:20231002T093000
DTEND;TZID=UTC:20231002T093000
DTSTAMP:20260421T210911
CREATED:20230824T151634Z
LAST-MODIFIED:20230824T151639Z
UID:1546-1696239000-1696239000@stjameshanslope.org
SUMMARY:Little Angels
DESCRIPTION:
URL:https://stjameshanslope.org/event/little-angels-14/
LOCATION:St James the Great\, Hanslope
END:VEVENT
BEGIN:VEVENT
DTSTART;TZID=UTC:20231001T111500
DTEND;TZID=UTC:20231001T111500
DTSTAMP:20260421T210911
CREATED:20230802T214541Z
LAST-MODIFIED:20230825T222307Z
UID:1384-1696158900-1696158900@stjameshanslope.org
SUMMARY:Sung Mass St James the Great
DESCRIPTION:
URL:https://stjameshanslope.org/event/sung-mass-58/
LOCATION:St James the Great\, Hanslope
END:VEVENT
BEGIN:VEVENT
DTSTART;TZID=UTC:20231001T093000
DTEND;TZID=UTC:20231001T093000
DTSTAMP:20260421T210911
CREATED:20230802T214114Z
LAST-MODIFIED:20230825T221700Z
UID:1378-1696152600-1696152600@stjameshanslope.org
SUMMARY:Sung Mass SS Simon and Jude
DESCRIPTION:
URL:https://stjameshanslope.org/event/sung-mass-55/
LOCATION:SS Simon and Jude\, Castlethorpe
END:VEVENT
BEGIN:VEVENT
DTSTART;TZID=UTC:20230929T153000
DTEND;TZID=UTC:20230929T153000
DTSTAMP:20260421T210911
CREATED:20230826T163412Z
LAST-MODIFIED:20230826T163418Z
UID:1657-1696001400-1696001400@stjameshanslope.org
SUMMARY:Inspire Youth Group
DESCRIPTION:
URL:https://stjameshanslope.org/event/inspire-youth-group-9/
LOCATION:St James the Great\, Hanslope
END:VEVENT
BEGIN:VEVENT
DTSTART;TZID=UTC:20230929T100000
DTEND;TZID=UTC:20230929T120000
DTSTAMP:20260421T210911
CREATED:20230824T212633Z
LAST-MODIFIED:20230824T212644Z
UID:1584-1695981600-1695988800@stjameshanslope.org
SUMMARY:Little Lambs
DESCRIPTION:
URL:https://stjameshanslope.org/event/little-lambs-18/
LOCATION:SS Simon and Jude\, Castlethorpe
END:VEVENT
BEGIN:VEVENT
DTSTART;TZID=UTC:20230929T093000
DTEND;TZID=UTC:20230929T093000
DTSTAMP:20260421T210911
CREATED:20230824T150409Z
LAST-MODIFIED:20230824T150415Z
UID:1528-1695979800-1695979800@stjameshanslope.org
SUMMARY:Craftivists
DESCRIPTION:
URL:https://stjameshanslope.org/event/craftivists-9/
LOCATION:St James the Great\, Hanslope
END:VEVENT
BEGIN:VEVENT
DTSTART;TZID=UTC:20230928T193000
DTEND;TZID=UTC:20230928T210000
DTSTAMP:20260421T210911
CREATED:20230922T002149Z
LAST-MODIFIED:20230922T002158Z
UID:1851-1695929400-1695934800@stjameshanslope.org
SUMMARY:The Chosen – Bible Study Group
DESCRIPTION:
URL:https://stjameshanslope.org/event/the-chosen-bible-study-group-2/
LOCATION:12 Weavers End
END:VEVENT
END:VCALENDAR