BEGIN:VCALENDAR
VERSION:2.0
PRODID:-//St James the Great - ECPv6.15.20//NONSGML v1.0//EN
CALSCALE:GREGORIAN
METHOD:PUBLISH
X-WR-CALNAME:St James the Great
X-ORIGINAL-URL:https://stjameshanslope.org
X-WR-CALDESC:Events for St James the Great
REFRESH-INTERVAL;VALUE=DURATION:PT1H
X-Robots-Tag:noindex
X-PUBLISHED-TTL:PT1H
BEGIN:VTIMEZONE
TZID:UTC
BEGIN:STANDARD
TZOFFSETFROM:+0000
TZOFFSETTO:+0000
TZNAME:UTC
DTSTART:20220101T000000
END:STANDARD
END:VTIMEZONE
BEGIN:VEVENT
DTSTART;TZID=UTC:20240110T170000
DTEND;TZID=UTC:20240110T170000
DTSTAMP:20260419T133044
CREATED:20231027T210319Z
LAST-MODIFIED:20231027T210326Z
UID:2046-1704906000-1704906000@stjameshanslope.org
SUMMARY:Said Mass SS Simon and Jude
DESCRIPTION:
URL:https://stjameshanslope.org/event/said-mass-ss-simon-and-jude-15/
LOCATION:SS Simon and Jude\, Castlethorpe
END:VEVENT
BEGIN:VEVENT
DTSTART;TZID=UTC:20240109T183000
DTEND;TZID=UTC:20240109T183000
DTSTAMP:20260419T133044
CREATED:20231009T221746Z
LAST-MODIFIED:20231111T234749Z
UID:1978-1704825000-1704825000@stjameshanslope.org
SUMMARY:Castlethorpe’s Standing Committee/PCC Meeting
DESCRIPTION:
URL:https://stjameshanslope.org/event/castlethorpes-pcc-meeting/
END:VEVENT
BEGIN:VEVENT
DTSTART;TZID=UTC:20240108T173000
DTEND;TZID=UTC:20240108T173000
DTSTAMP:20260419T133044
CREATED:20231027T211759Z
LAST-MODIFIED:20231027T211806Z
UID:2077-1704735000-1704735000@stjameshanslope.org
SUMMARY:Following the Silence
DESCRIPTION:
URL:https://stjameshanslope.org/event/following-the-silence-37/
LOCATION:11 Weavers End\, United Kingdom
END:VEVENT
BEGIN:VEVENT
DTSTART;TZID=UTC:20240107T111500
DTEND;TZID=UTC:20240107T111500
DTSTAMP:20260419T133044
CREATED:20231027T210118Z
LAST-MODIFIED:20231027T210127Z
UID:2042-1704626100-1704626100@stjameshanslope.org
SUMMARY:The Baptism of the Lord Sung Mass St James the Great
DESCRIPTION:
URL:https://stjameshanslope.org/event/the-baptism-of-the-lord-sung-mass-st-james-the-great/
LOCATION:St James the Great\, Hanslope
END:VEVENT
BEGIN:VEVENT
DTSTART;TZID=UTC:20240107T093000
DTEND;TZID=UTC:20240107T093000
DTSTAMP:20260419T133044
CREATED:20231027T205940Z
LAST-MODIFIED:20231027T210014Z
UID:2040-1704619800-1704619800@stjameshanslope.org
SUMMARY:The Baptism of the Lord Sung Mass SS Simon and Jude
DESCRIPTION:
URL:https://stjameshanslope.org/event/the-baptism-of-the-lord-sung-mass-ss-simon-and-jude/
LOCATION:SS Simon and Jude\, Castlethorpe
END:VEVENT
BEGIN:VEVENT
DTSTART;TZID=UTC:20240106T163000
DTEND;TZID=UTC:20240106T163000
DTSTAMP:20260419T133044
CREATED:20231227T221203Z
LAST-MODIFIED:20231227T221211Z
UID:2406-1704558600-1704558600@stjameshanslope.org
SUMMARY:Rosary Group at The Vicarage
DESCRIPTION:
URL:https://stjameshanslope.org/event/rosary-group-at-the-vicarage-3/
LOCATION:The Vicarage\, United Kingdom
END:VEVENT
BEGIN:VEVENT
DTSTART;TZID=UTC:20240106T100000
DTEND;TZID=UTC:20240106T120000
DTSTAMP:20260419T133044
CREATED:20231118T201122Z
LAST-MODIFIED:20231118T201130Z
UID:2221-1704535200-1704542400@stjameshanslope.org
SUMMARY:Hanslope’s Monthly Coffee Morning
DESCRIPTION:
URL:https://stjameshanslope.org/event/hanslopes-monthly-coffee-morning-2/
LOCATION:St James the Great\, Hanslope
END:VEVENT
BEGIN:VEVENT
DTSTART;TZID=UTC:20240105T180000
DTEND;TZID=UTC:20240105T180000
DTSTAMP:20260419T133044
CREATED:20231027T205802Z
LAST-MODIFIED:20231124T222458Z
UID:2038-1704477600-1704477600@stjameshanslope.org
SUMMARY:Eve of the Epiphany - Solemn Sung Mass & Procession St James the Great (followed by Refreshments)
DESCRIPTION:
URL:https://stjameshanslope.org/event/eve-of-the-epiphany-solemn-sung-mass-st-james-the-great/
LOCATION:St James the Great\, Hanslope
END:VEVENT
BEGIN:VEVENT
DTSTART;TZID=UTC:20240105T103000
DTEND;TZID=UTC:20240105T133000
DTSTAMP:20260419T133044
CREATED:20231227T175908Z
LAST-MODIFIED:20231227T175919Z
UID:2393-1704450600-1704461400@stjameshanslope.org
SUMMARY:Warm Hub @ Methodist Chapel
DESCRIPTION:
URL:https://stjameshanslope.org/event/warm-hub-methodist-chapel/
END:VEVENT
BEGIN:VEVENT
DTSTART;TZID=UTC:20240104T180000
DTEND;TZID=UTC:20240104T180000
DTSTAMP:20260419T133044
CREATED:20231027T213842Z
LAST-MODIFIED:20231027T213852Z
UID:2109-1704391200-1704391200@stjameshanslope.org
SUMMARY:Choir Practice
DESCRIPTION:
URL:https://stjameshanslope.org/event/choir-practice-37/
LOCATION:St James the Great\, Hanslope
END:VEVENT
BEGIN:VEVENT
DTSTART;TZID=UTC:20240104T123000
DTEND;TZID=UTC:20240104T123000
DTSTAMP:20260419T133044
CREATED:20231027T211708Z
LAST-MODIFIED:20231027T211712Z
UID:2075-1704371400-1704371400@stjameshanslope.org
SUMMARY:SS Simon and Jude’s Soup and a roll
DESCRIPTION:
URL:https://stjameshanslope.org/event/ss-simon-and-judes-soup-and-a-roll-4/
LOCATION:SS Simon and Jude\, Castlethorpe
END:VEVENT
BEGIN:VEVENT
DTSTART;TZID=UTC:20240104T093000
DTEND;TZID=UTC:20240104T093000
DTSTAMP:20260419T133044
CREATED:20231027T210748Z
LAST-MODIFIED:20231027T210753Z
UID:2055-1704360600-1704360600@stjameshanslope.org
SUMMARY:Said Mass St James the Great
DESCRIPTION:
URL:https://stjameshanslope.org/event/said-mass-st-james-the-great-23/
LOCATION:St James the Great\, Hanslope
END:VEVENT
BEGIN:VEVENT
DTSTART;TZID=UTC:20240103T170000
DTEND;TZID=UTC:20240103T170000
DTSTAMP:20260419T133044
CREATED:20231027T210250Z
LAST-MODIFIED:20231027T210256Z
UID:2044-1704301200-1704301200@stjameshanslope.org
SUMMARY:Said Mass SS Simon and Jude
DESCRIPTION:
URL:https://stjameshanslope.org/event/said-mass-ss-simon-and-jude-14/
LOCATION:SS Simon and Jude\, Castlethorpe
END:VEVENT
BEGIN:VEVENT
DTSTART;TZID=UTC:20240101T120000
DTEND;TZID=UTC:20240101T120000
DTSTAMP:20260419T133044
CREATED:20231124T222053Z
LAST-MODIFIED:20231124T222110Z
UID:2271-1704110400-1704110400@stjameshanslope.org
SUMMARY:Mass of Our Lady of Walsingham St James the Great (followed by drinks)
DESCRIPTION:
URL:https://stjameshanslope.org/event/mass-of-our-lady-of-walsingham-st-james-the-great-followed-by-drinks/
LOCATION:St James the Great\, Hanslope
END:VEVENT
BEGIN:VEVENT
DTSTART;TZID=UTC:20231231T111500
DTEND;TZID=UTC:20231231T111500
DTSTAMP:20260419T133044
CREATED:20231124T221455Z
LAST-MODIFIED:20231124T221506Z
UID:2267-1704021300-1704021300@stjameshanslope.org
SUMMARY:Sung Mass with Carols St James the Great
DESCRIPTION:
URL:https://stjameshanslope.org/event/sung-mass-with-carols-st-james-the-great/
LOCATION:St James the Great\, Hanslope
END:VEVENT
BEGIN:VEVENT
DTSTART;TZID=UTC:20231231T093000
DTEND;TZID=UTC:20231231T093000
DTSTAMP:20260419T133044
CREATED:20231124T221655Z
LAST-MODIFIED:20231124T221714Z
UID:2269-1704015000-1704015000@stjameshanslope.org
SUMMARY:Sung Mass with Carols SS Simon and Jude
DESCRIPTION:
URL:https://stjameshanslope.org/event/sung-mass-with-carols-ss-simon-and-jude/
LOCATION:SS Simon and Jude\, Castlethorpe
END:VEVENT
BEGIN:VEVENT
DTSTART;TZID=UTC:20231230T103000
DTEND;TZID=UTC:20231230T103000
DTSTAMP:20260419T133044
CREATED:20231124T221002Z
LAST-MODIFIED:20231124T221018Z
UID:2265-1703932200-1703932200@stjameshanslope.org
SUMMARY:Said Mass (6th Day of Christmas) St James the Great
DESCRIPTION:
URL:https://stjameshanslope.org/event/said-mass-6th-day-of-christmas-st-james-the-great/
LOCATION:St James the Great\, Hanslope
END:VEVENT
BEGIN:VEVENT
DTSTART;TZID=UTC:20231229T103000
DTEND;TZID=UTC:20231229T103000
DTSTAMP:20260419T133044
CREATED:20231124T220140Z
LAST-MODIFIED:20231124T220151Z
UID:2261-1703845800-1703845800@stjameshanslope.org
SUMMARY:Said Mass (St Thomas Becket) St James the Great
DESCRIPTION:
URL:https://stjameshanslope.org/event/said-mass-st-thomas-becket-st-james-the-great/
LOCATION:St James the Great\, Hanslope
END:VEVENT
BEGIN:VEVENT
DTSTART;TZID=UTC:20231228T103000
DTEND;TZID=UTC:20231228T103000
DTSTAMP:20260419T133044
CREATED:20231124T215921Z
LAST-MODIFIED:20231124T215948Z
UID:2259-1703759400-1703759400@stjameshanslope.org
SUMMARY:Said Mass (Holy Innocents) St James the Great
DESCRIPTION:
URL:https://stjameshanslope.org/event/said-mass-holy-innocents-st-james-the-great/
LOCATION:St James the Great\, Hanslope
END:VEVENT
BEGIN:VEVENT
DTSTART;VALUE=DATE:20231228
DTEND;VALUE=DATE:20231229
DTSTAMP:20260419T133044
CREATED:20231029T224130Z
LAST-MODIFIED:20231029T224310Z
UID:2141-1703721600-1703807999@stjameshanslope.org
SUMMARY:The Link Magazine - article contributions deadline
DESCRIPTION:
URL:https://stjameshanslope.org/event/the-link-magazine-copy-deadline/
END:VEVENT
BEGIN:VEVENT
DTSTART;TZID=UTC:20231227T103000
DTEND;TZID=UTC:20231227T103000
DTSTAMP:20260419T133044
CREATED:20231124T220631Z
LAST-MODIFIED:20231124T220641Z
UID:2263-1703673000-1703673000@stjameshanslope.org
SUMMARY:Said Mass (St John the Evangelist) SS Simon and Jude
DESCRIPTION:
URL:https://stjameshanslope.org/event/said-mass-st-john-the-evangelist-ss-simon-and-jude/
LOCATION:SS Simon and Jude\, Castlethorpe
END:VEVENT
BEGIN:VEVENT
DTSTART;TZID=UTC:20231226T103000
DTEND;TZID=UTC:20231226T103000
DTSTAMP:20260419T133044
CREATED:20231124T215619Z
LAST-MODIFIED:20231124T215630Z
UID:2257-1703586600-1703586600@stjameshanslope.org
SUMMARY:Said Mass (St Stephen) St James the Great
DESCRIPTION:
URL:https://stjameshanslope.org/event/said-mass-st-stephen-st-james-the-great/
LOCATION:St James the Great\, Hanslope
END:VEVENT
BEGIN:VEVENT
DTSTART;TZID=UTC:20231225T100000
DTEND;TZID=UTC:20231225T100000
DTSTAMP:20260419T133044
CREATED:20231009T130800Z
LAST-MODIFIED:20231124T222858Z
UID:1920-1703498400-1703498400@stjameshanslope.org
SUMMARY:Mass of Christmas Morning with Carols St James the Great
DESCRIPTION:
URL:https://stjameshanslope.org/event/mass-of-christmas-morning-st-james-the-great/
LOCATION:St James the Great\, Hanslope
END:VEVENT
BEGIN:VEVENT
DTSTART;TZID=UTC:20231224T233000
DTEND;TZID=UTC:20231224T233000
DTSTAMP:20260419T133044
CREATED:20231009T130627Z
LAST-MODIFIED:20231009T130632Z
UID:1918-1703460600-1703460600@stjameshanslope.org
SUMMARY:Midnight Mass St James the Great
DESCRIPTION:
URL:https://stjameshanslope.org/event/midnight-mass-st-james-the-great/
LOCATION:St James the Great\, Hanslope
END:VEVENT
BEGIN:VEVENT
DTSTART;TZID=UTC:20231224T210000
DTEND;TZID=UTC:20231224T210000
DTSTAMP:20260419T133044
CREATED:20231009T130349Z
LAST-MODIFIED:20231009T130355Z
UID:1914-1703451600-1703451600@stjameshanslope.org
SUMMARY:First Mass of Christmas SS Simon and Jude
DESCRIPTION:
URL:https://stjameshanslope.org/event/first-mass-of-christmas-ss-simon-and-jude/
LOCATION:SS Simon and Jude\, Castlethorpe
END:VEVENT
BEGIN:VEVENT
DTSTART;TZID=UTC:20231224T170000
DTEND;TZID=UTC:20231224T180000
DTSTAMP:20260419T133044
CREATED:20231009T130248Z
LAST-MODIFIED:20231009T130255Z
UID:1912-1703437200-1703440800@stjameshanslope.org
SUMMARY:Castlethorpe Crib Service SS Simon and Jude
DESCRIPTION:
URL:https://stjameshanslope.org/event/castlethorpe-crib-service-ss-simon-and-jude/
LOCATION:SS Simon and Jude\, Castlethorpe
END:VEVENT
BEGIN:VEVENT
DTSTART;TZID=UTC:20231224T150000
DTEND;TZID=UTC:20231224T150000
DTSTAMP:20260419T133044
CREATED:20231009T130514Z
LAST-MODIFIED:20231009T130549Z
UID:1916-1703430000-1703430000@stjameshanslope.org
SUMMARY:Hanslope Crib Service St James the Great
DESCRIPTION:
URL:https://stjameshanslope.org/event/hanslope-crib-service-st-james-the-great/
LOCATION:St James the Great\, Hanslope
END:VEVENT
BEGIN:VEVENT
DTSTART;VALUE=DATE:20231224
DTEND;VALUE=DATE:20231225
DTSTAMP:20260419T133044
CREATED:20231027T201124Z
LAST-MODIFIED:20231027T201131Z
UID:2036-1703376000-1703462399@stjameshanslope.org
SUMMARY:NOTE - NO Sunday Morning Services on December 24th
DESCRIPTION:
URL:https://stjameshanslope.org/event/note-no-sunday-morning-services-on-december-24th/
END:VEVENT
BEGIN:VEVENT
DTSTART;TZID=UTC:20231223T170000
DTEND;TZID=UTC:20231223T170000
DTSTAMP:20260419T133044
CREATED:20231009T125650Z
LAST-MODIFIED:20231029T223753Z
UID:1902-1703350800-1703350800@stjameshanslope.org
SUMMARY:Joint Parish Sung Mass SS Simon and Jude - Eve of Advent 4
DESCRIPTION:
URL:https://stjameshanslope.org/event/joint-parish-sung-mass-st-james-the-great-eve-of-advent-4/
LOCATION:SS Simon and Jude\, Castlethorpe
END:VEVENT
BEGIN:VEVENT
DTSTART;TZID=UTC:20231223T140000
DTEND;TZID=UTC:20231223T160000
DTSTAMP:20260419T133044
CREATED:20231125T193959Z
LAST-MODIFIED:20231125T194007Z
UID:2301-1703340000-1703347200@stjameshanslope.org
SUMMARY:Sunday School dress rehearsal of The Angel and Star's Nativity
DESCRIPTION:
URL:https://stjameshanslope.org/event/sunday-school-dress-rehearsal-of-the-angel-and-stars-nativity/
LOCATION:St James the Great\, Hanslope
END:VEVENT
END:VCALENDAR