BEGIN:VCALENDAR
VERSION:2.0
PRODID:-//St James the Great - ECPv6.15.20//NONSGML v1.0//EN
CALSCALE:GREGORIAN
METHOD:PUBLISH
X-WR-CALNAME:St James the Great
X-ORIGINAL-URL:https://stjameshanslope.org
X-WR-CALDESC:Events for St James the Great
REFRESH-INTERVAL;VALUE=DURATION:PT1H
X-Robots-Tag:noindex
X-PUBLISHED-TTL:PT1H
BEGIN:VTIMEZONE
TZID:UTC
BEGIN:STANDARD
TZOFFSETFROM:+0000
TZOFFSETTO:+0000
TZNAME:UTC
DTSTART:20220101T000000
END:STANDARD
END:VTIMEZONE
BEGIN:VEVENT
DTSTART;VALUE=DATE:20231123
DTEND;VALUE=DATE:20231124
DTSTAMP:20260421T194837
CREATED:20231029T225416Z
LAST-MODIFIED:20231029T225425Z
UID:2165-1700697600-1700783999@stjameshanslope.org
SUMMARY:The Link Magazine – article contributions deadline
DESCRIPTION:
URL:https://stjameshanslope.org/event/the-link-magazine-article-contributions-deadline-11/
END:VEVENT
BEGIN:VEVENT
DTSTART;TZID=UTC:20231123T093000
DTEND;TZID=UTC:20231123T093000
DTSTAMP:20260421T194837
CREATED:20230902T210910Z
LAST-MODIFIED:20230902T210917Z
UID:1769-1700731800-1700731800@stjameshanslope.org
SUMMARY:Said Mass St James the Great
DESCRIPTION:
URL:https://stjameshanslope.org/event/said-mass-st-james-the-great-18/
LOCATION:St James the Great\, Hanslope
END:VEVENT
BEGIN:VEVENT
DTSTART;TZID=UTC:20231123T180000
DTEND;TZID=UTC:20231123T180000
DTSTAMP:20260421T194837
CREATED:20230902T211900Z
LAST-MODIFIED:20230902T211906Z
UID:1779-1700762400-1700762400@stjameshanslope.org
SUMMARY:Choir Practice
DESCRIPTION:
URL:https://stjameshanslope.org/event/choir-practice-31/
LOCATION:St James the Great\, Hanslope
END:VEVENT
BEGIN:VEVENT
DTSTART;VALUE=DATE:20231124
DTEND;VALUE=DATE:20231127
DTSTAMP:20260421T194837
CREATED:20231009T214900Z
LAST-MODIFIED:20231009T214934Z
UID:1962-1700784000-1701043199@stjameshanslope.org
SUMMARY:Walsingham Adoremus Young Adults Pilgrimage
DESCRIPTION:
URL:https://stjameshanslope.org/event/walsingham-adoremus-young-adults-pilgrimage/
LOCATION:Walsingham\, United Kingdom
END:VEVENT
BEGIN:VEVENT
DTSTART;TZID=UTC:20231124T100000
DTEND;TZID=UTC:20231124T120000
DTSTAMP:20260421T194837
CREATED:20230826T171520Z
LAST-MODIFIED:20230826T171526Z
UID:1685-1700820000-1700827200@stjameshanslope.org
SUMMARY:Little Lambs
DESCRIPTION:
URL:https://stjameshanslope.org/event/little-lambs-25/
LOCATION:SS Simon and Jude\, Castlethorpe
END:VEVENT
BEGIN:VEVENT
DTSTART;TZID=UTC:20231124T153000
DTEND;TZID=UTC:20231124T153000
DTSTAMP:20260421T194837
CREATED:20231125T192109Z
LAST-MODIFIED:20231125T192115Z
UID:2299-1700839800-1700839800@stjameshanslope.org
SUMMARY:Inspire Youth Group
DESCRIPTION:
URL:https://stjameshanslope.org/event/inspire-youth-group-19/
LOCATION:St James the Great\, Hanslope
END:VEVENT
BEGIN:VEVENT
DTSTART;TZID=UTC:20231125T110000
DTEND;TZID=UTC:20231125T153000
DTSTAMP:20260421T194837
CREATED:20230802T163644Z
LAST-MODIFIED:20231009T124750Z
UID:1352-1700910000-1700926200@stjameshanslope.org
SUMMARY:Castlethorpe's Autumn Fair in the Village Hall
DESCRIPTION:
URL:https://stjameshanslope.org/event/castlethorpes-autumn-fair/
LOCATION:Castlethorpe Village Hall\, United Kingdom
END:VEVENT
BEGIN:VEVENT
DTSTART;TZID=UTC:20231126T093000
DTEND;TZID=UTC:20231126T093000
DTSTAMP:20260421T194837
CREATED:20230802T221257Z
LAST-MODIFIED:20230922T000334Z
UID:1415-1700991000-1700991000@stjameshanslope.org
SUMMARY:Sung Mass for Christ the King SS Simon and Jude
DESCRIPTION:
URL:https://stjameshanslope.org/event/sung-mass-65/
LOCATION:SS Simon and Jude\, Castlethorpe
END:VEVENT
BEGIN:VEVENT
DTSTART;TZID=UTC:20231126T111500
DTEND;TZID=UTC:20231126T111500
DTSTAMP:20260421T194837
CREATED:20230802T221341Z
LAST-MODIFIED:20230922T000235Z
UID:1417-1700997300-1700997300@stjameshanslope.org
SUMMARY:Sung Mass for Christ the King St James the Great
DESCRIPTION:
URL:https://stjameshanslope.org/event/sung-mass-66/
LOCATION:St James the Great\, Hanslope
END:VEVENT
BEGIN:VEVENT
DTSTART;TZID=UTC:20231126T170000
DTEND;TZID=UTC:20231126T170000
DTSTAMP:20260421T194837
CREATED:20230922T000525Z
LAST-MODIFIED:20230922T000533Z
UID:1840-1701018000-1701018000@stjameshanslope.org
SUMMARY:Evening Prayer SS Simon and Jude
DESCRIPTION:
URL:https://stjameshanslope.org/event/evening-prayer-ss-simon-and-jude/
LOCATION:SS Simon and Jude\, Castlethorpe
END:VEVENT
BEGIN:VEVENT
DTSTART;TZID=UTC:20231127T093000
DTEND;TZID=UTC:20231127T093000
DTSTAMP:20260421T194837
CREATED:20231027T212441Z
LAST-MODIFIED:20231027T212510Z
UID:2091-1701077400-1701077400@stjameshanslope.org
SUMMARY:Little Angels
DESCRIPTION:
URL:https://stjameshanslope.org/event/little-angels-22/
LOCATION:St James the Great\, Hanslope
END:VEVENT
BEGIN:VEVENT
DTSTART;TZID=UTC:20231127T173000
DTEND;TZID=UTC:20231127T173000
DTSTAMP:20260421T194837
CREATED:20231009T132350Z
LAST-MODIFIED:20231009T132355Z
UID:1946-1701106200-1701106200@stjameshanslope.org
SUMMARY:Following the Silence
DESCRIPTION:
URL:https://stjameshanslope.org/event/following-the-silence-33/
LOCATION:11 Weavers End\, United Kingdom
END:VEVENT
BEGIN:VEVENT
DTSTART;TZID=UTC:20231128T193000
DTEND;TZID=UTC:20231128T193000
DTSTAMP:20260421T194837
CREATED:20230723T204905Z
LAST-MODIFIED:20230825T224027Z
UID:1340-1701199800-1701199800@stjameshanslope.org
SUMMARY:Hanslope’s PCC Meeting
DESCRIPTION:
URL:https://stjameshanslope.org/event/pcc-meeting-3/
LOCATION:St James the Great\, Hanslope
END:VEVENT
BEGIN:VEVENT
DTSTART;TZID=UTC:20231129T140000
DTEND;TZID=UTC:20231129T140000
DTSTAMP:20260421T194837
CREATED:20231102T110132Z
LAST-MODIFIED:20231102T110137Z
UID:2174-1701266400-1701266400@stjameshanslope.org
SUMMARY:Burial of Ashes for the Late Peter William Mahoney
DESCRIPTION:
URL:https://stjameshanslope.org/event/burial-of-ashes-for-the-late-peter-william-mahoney/
LOCATION:St James the Great\, Hanslope
END:VEVENT
BEGIN:VEVENT
DTSTART;TZID=UTC:20231129T193000
DTEND;TZID=UTC:20231129T193000
DTSTAMP:20260421T194837
CREATED:20230902T210433Z
LAST-MODIFIED:20230902T210440Z
UID:1761-1701286200-1701286200@stjameshanslope.org
SUMMARY:Mass for Wholeness and Healing St James the Great
DESCRIPTION:
URL:https://stjameshanslope.org/event/mass-for-wholeness-and-healing-st-james-the-great/
LOCATION:St James the Great\, Hanslope
END:VEVENT
BEGIN:VEVENT
DTSTART;TZID=UTC:20231130T093000
DTEND;TZID=UTC:20231130T093000
DTSTAMP:20260421T194837
CREATED:20230902T211454Z
LAST-MODIFIED:20230902T211505Z
UID:1773-1701336600-1701336600@stjameshanslope.org
SUMMARY:Said Mass St James the Great
DESCRIPTION:
URL:https://stjameshanslope.org/event/said-mass-st-james-the-great-19/
LOCATION:St James the Great\, Hanslope
END:VEVENT
BEGIN:VEVENT
DTSTART;TZID=UTC:20231130T180000
DTEND;TZID=UTC:20231130T180000
DTSTAMP:20260421T194837
CREATED:20230902T212124Z
LAST-MODIFIED:20230902T212131Z
UID:1783-1701367200-1701367200@stjameshanslope.org
SUMMARY:Choir Practice
DESCRIPTION:
URL:https://stjameshanslope.org/event/choir-practice-33/
LOCATION:St James the Great\, Hanslope
END:VEVENT
BEGIN:VEVENT
DTSTART;TZID=UTC:20231130T193000
DTEND;TZID=UTC:20231130T193000
DTSTAMP:20260421T194837
CREATED:20231118T200623Z
LAST-MODIFIED:20231118T200632Z
UID:2217-1701372600-1701372600@stjameshanslope.org
SUMMARY:Reflecting on Loss - Bishop Paul - St James the Great
DESCRIPTION:
URL:https://stjameshanslope.org/event/reflecting-on-loss-bishop-paul-st-james-the-great/
LOCATION:St James the Great\, Hanslope
END:VEVENT
BEGIN:VEVENT
DTSTART;TZID=UTC:20231201T100000
DTEND;TZID=UTC:20231201T123000
DTSTAMP:20260421T194837
CREATED:20230826T171625Z
LAST-MODIFIED:20230826T171631Z
UID:1687-1701424800-1701433800@stjameshanslope.org
SUMMARY:Little Lambs
DESCRIPTION:
URL:https://stjameshanslope.org/event/little-lambs-26/
LOCATION:SS Simon and Jude\, Castlethorpe
END:VEVENT
BEGIN:VEVENT
DTSTART;TZID=UTC:20231201T153000
DTEND;TZID=UTC:20231201T153000
DTSTAMP:20260421T194837
CREATED:20231125T171423Z
LAST-MODIFIED:20231125T171429Z
UID:2277-1701444600-1701444600@stjameshanslope.org
SUMMARY:Inspire Youth Group
DESCRIPTION:
URL:https://stjameshanslope.org/event/inspire-youth-group-6/
LOCATION:St James the Great\, Hanslope
END:VEVENT
BEGIN:VEVENT
DTSTART;TZID=UTC:20231202T100000
DTEND;TZID=UTC:20231202T120000
DTSTAMP:20260421T194837
CREATED:20231118T200923Z
LAST-MODIFIED:20231118T200931Z
UID:2219-1701511200-1701518400@stjameshanslope.org
SUMMARY:Hanslope’s Monthly Coffee Morning
DESCRIPTION:
URL:https://stjameshanslope.org/event/hanslopes-monthly-coffee-morning/
LOCATION:St James the Great\, Hanslope
END:VEVENT
BEGIN:VEVENT
DTSTART;TZID=UTC:20231202T163000
DTEND;TZID=UTC:20231202T173000
DTSTAMP:20260421T194837
CREATED:20231125T212033Z
LAST-MODIFIED:20231125T212041Z
UID:2323-1701534600-1701538200@stjameshanslope.org
SUMMARY:Rosary Group at the Vicarage
DESCRIPTION:
URL:https://stjameshanslope.org/event/rosary-group-at-the-vicarage-2/
LOCATION:St James the Great\, Hanslope
END:VEVENT
BEGIN:VEVENT
DTSTART;TZID=UTC:20231202T190000
DTEND;TZID=UTC:20231202T190000
DTSTAMP:20260421T194838
CREATED:20230718T235407Z
LAST-MODIFIED:20231125T173949Z
UID:1323-1701543600-1701543600@stjameshanslope.org
SUMMARY:MK Brass Band and Hanslope Primary School Choir Concert
DESCRIPTION:
URL:https://stjameshanslope.org/event/mk-brass-band-and-hanslope-primary-school-choir/
LOCATION:St James the Great\, Hanslope
END:VEVENT
BEGIN:VEVENT
DTSTART;TZID=UTC:20231202T193000
DTEND;TZID=UTC:20231202T193000
DTSTAMP:20260421T194838
CREATED:20230826T172451Z
LAST-MODIFIED:20230902T222109Z
UID:1695-1701545400-1701545400@stjameshanslope.org
SUMMARY:Castlethorpe’s Christmas Quiz in the Village Hall
DESCRIPTION:
URL:https://stjameshanslope.org/event/castlethorpes-christmas-quiz/
LOCATION:Castlethorpe Village Hall\, United Kingdom
END:VEVENT
BEGIN:VEVENT
DTSTART;TZID=UTC:20231203T093000
DTEND;TZID=UTC:20231203T093000
DTSTAMP:20260421T194838
CREATED:20231009T125118Z
LAST-MODIFIED:20231009T125135Z
UID:1896-1701595800-1701595800@stjameshanslope.org
SUMMARY:Sung Mass SS Simon and Jude - Advent 1
DESCRIPTION:
URL:https://stjameshanslope.org/event/sung-mass-ss-simon-and-jude-advent-1/
LOCATION:SS Simon and Jude\, Castlethorpe
END:VEVENT
BEGIN:VEVENT
DTSTART;TZID=UTC:20231203T111500
DTEND;TZID=UTC:20231203T111500
DTSTAMP:20260421T194838
CREATED:20231009T125827Z
LAST-MODIFIED:20231009T125832Z
UID:1904-1701602100-1701602100@stjameshanslope.org
SUMMARY:Sung Mass St James the Great - Advent 1
DESCRIPTION:
URL:https://stjameshanslope.org/event/sung-mass-st-james-the-great-advent-1/
LOCATION:St James the Great\, Hanslope
END:VEVENT
BEGIN:VEVENT
DTSTART;TZID=UTC:20231204T093000
DTEND;TZID=UTC:20231204T093000
DTSTAMP:20260421T194838
CREATED:20231027T212549Z
LAST-MODIFIED:20231027T212554Z
UID:2093-1701682200-1701682200@stjameshanslope.org
SUMMARY:Little Angels
DESCRIPTION:
URL:https://stjameshanslope.org/event/little-angels-23/
LOCATION:St James the Great\, Hanslope
END:VEVENT
BEGIN:VEVENT
DTSTART;TZID=UTC:20231204T140000
DTEND;TZID=UTC:20231204T160000
DTSTAMP:20260421T194838
CREATED:20231027T212823Z
LAST-MODIFIED:20231027T212830Z
UID:2099-1701698400-1701705600@stjameshanslope.org
SUMMARY:Teatime Treats at Lincoln Court
DESCRIPTION:
URL:https://stjameshanslope.org/event/teatime-treats-at-lincoln-court-4/
LOCATION:Hanslope
END:VEVENT
BEGIN:VEVENT
DTSTART;TZID=UTC:20231204T173000
DTEND;TZID=UTC:20231204T173000
DTSTAMP:20260421T194838
CREATED:20231009T132438Z
LAST-MODIFIED:20231009T132442Z
UID:1948-1701711000-1701711000@stjameshanslope.org
SUMMARY:Following the Silence
DESCRIPTION:
URL:https://stjameshanslope.org/event/following-the-silence-34/
LOCATION:11 Weavers End\, United Kingdom
END:VEVENT
BEGIN:VEVENT
DTSTART;TZID=UTC:20231205T193000
DTEND;TZID=UTC:20231205T210000
DTSTAMP:20260421T194838
CREATED:20231125T194903Z
LAST-MODIFIED:20231125T194909Z
UID:2307-1701804600-1701810000@stjameshanslope.org
SUMMARY:Music of Eternity - Advent Course - Week 1
DESCRIPTION:
URL:https://stjameshanslope.org/event/music-of-eternity-advent-course-week-1/
END:VEVENT
END:VCALENDAR