BEGIN:VCALENDAR
VERSION:2.0
PRODID:-//St James the Great - ECPv6.15.20//NONSGML v1.0//EN
CALSCALE:GREGORIAN
METHOD:PUBLISH
X-WR-CALNAME:St James the Great
X-ORIGINAL-URL:https://stjameshanslope.org
X-WR-CALDESC:Events for St James the Great
REFRESH-INTERVAL;VALUE=DURATION:PT1H
X-Robots-Tag:noindex
X-PUBLISHED-TTL:PT1H
BEGIN:VTIMEZONE
TZID:UTC
BEGIN:STANDARD
TZOFFSETFROM:+0000
TZOFFSETTO:+0000
TZNAME:UTC
DTSTART:20220101T000000
END:STANDARD
END:VTIMEZONE
BEGIN:VEVENT
DTSTART;TZID=UTC:20231001T111500
DTEND;TZID=UTC:20231001T111500
DTSTAMP:20260422T000404
CREATED:20230802T214541Z
LAST-MODIFIED:20230825T222307Z
UID:1384-1696158900-1696158900@stjameshanslope.org
SUMMARY:Sung Mass St James the Great
DESCRIPTION:
URL:https://stjameshanslope.org/event/sung-mass-58/
LOCATION:St James the Great\, Hanslope
END:VEVENT
BEGIN:VEVENT
DTSTART;TZID=UTC:20231001T093000
DTEND;TZID=UTC:20231001T093000
DTSTAMP:20260422T000404
CREATED:20230802T214114Z
LAST-MODIFIED:20230825T221700Z
UID:1378-1696152600-1696152600@stjameshanslope.org
SUMMARY:Sung Mass SS Simon and Jude
DESCRIPTION:
URL:https://stjameshanslope.org/event/sung-mass-55/
LOCATION:SS Simon and Jude\, Castlethorpe
END:VEVENT
BEGIN:VEVENT
DTSTART;TZID=UTC:20230929T153000
DTEND;TZID=UTC:20230929T153000
DTSTAMP:20260422T000404
CREATED:20230826T163412Z
LAST-MODIFIED:20230826T163418Z
UID:1657-1696001400-1696001400@stjameshanslope.org
SUMMARY:Inspire Youth Group
DESCRIPTION:
URL:https://stjameshanslope.org/event/inspire-youth-group-9/
LOCATION:St James the Great\, Hanslope
END:VEVENT
BEGIN:VEVENT
DTSTART;TZID=UTC:20230929T100000
DTEND;TZID=UTC:20230929T120000
DTSTAMP:20260422T000404
CREATED:20230824T212633Z
LAST-MODIFIED:20230824T212644Z
UID:1584-1695981600-1695988800@stjameshanslope.org
SUMMARY:Little Lambs
DESCRIPTION:
URL:https://stjameshanslope.org/event/little-lambs-18/
LOCATION:SS Simon and Jude\, Castlethorpe
END:VEVENT
BEGIN:VEVENT
DTSTART;TZID=UTC:20230929T093000
DTEND;TZID=UTC:20230929T093000
DTSTAMP:20260422T000404
CREATED:20230824T150409Z
LAST-MODIFIED:20230824T150415Z
UID:1528-1695979800-1695979800@stjameshanslope.org
SUMMARY:Craftivists
DESCRIPTION:
URL:https://stjameshanslope.org/event/craftivists-9/
LOCATION:St James the Great\, Hanslope
END:VEVENT
BEGIN:VEVENT
DTSTART;TZID=UTC:20230928T193000
DTEND;TZID=UTC:20230928T210000
DTSTAMP:20260422T000404
CREATED:20230922T002149Z
LAST-MODIFIED:20230922T002158Z
UID:1851-1695929400-1695934800@stjameshanslope.org
SUMMARY:The Chosen – Bible Study Group
DESCRIPTION:
URL:https://stjameshanslope.org/event/the-chosen-bible-study-group-2/
LOCATION:12 Weavers End
END:VEVENT
BEGIN:VEVENT
DTSTART;TZID=UTC:20230928T180000
DTEND;TZID=UTC:20230928T180000
DTSTAMP:20260422T000404
CREATED:20230824T140621Z
LAST-MODIFIED:20230824T140621Z
UID:1460-1695924000-1695924000@stjameshanslope.org
SUMMARY:Choir Practice
DESCRIPTION:
URL:https://stjameshanslope.org/event/choir-practice-25/
LOCATION:St James the Great\, Hanslope
END:VEVENT
BEGIN:VEVENT
DTSTART;TZID=UTC:20230928T093000
DTEND;TZID=UTC:20230928T093000
DTSTAMP:20260422T000404
CREATED:20230824T143133Z
LAST-MODIFIED:20230824T143142Z
UID:1501-1695893400-1695893400@stjameshanslope.org
SUMMARY:Said Mass St James the Great
DESCRIPTION:
URL:https://stjameshanslope.org/event/said-mass-st-james-the-great-12/
LOCATION:St James the Great\, Hanslope
END:VEVENT
BEGIN:VEVENT
DTSTART;TZID=UTC:20230927T193000
DTEND;TZID=UTC:20230927T193000
DTSTAMP:20260422T000404
CREATED:20230718T232059Z
LAST-MODIFIED:20230825T224635Z
UID:1289-1695843000-1695843000@stjameshanslope.org
SUMMARY:Mass for Wholeness and Healing St James the Great
DESCRIPTION:
URL:https://stjameshanslope.org/event/mass-for-wholeness-and-healing-4/
LOCATION:St James the Great\, Hanslope
END:VEVENT
BEGIN:VEVENT
DTSTART;TZID=UTC:20230927T103000
DTEND;TZID=UTC:20230927T123000
DTSTAMP:20260422T000404
CREATED:20230824T144327Z
LAST-MODIFIED:20230824T144341Z
UID:1511-1695810600-1695817800@stjameshanslope.org
SUMMARY:Carers’ Support Group
DESCRIPTION:← Back Thank you for your response. ✨\n\n\n					\n						\n							\n							\n						\n						\n						\n						\n						\n							\n								\n									\n										\n										\n									\n									\n										\n										\n									\n								\n							\n						\n						\n							\n								\n									\n									\n										\n									\n									\n									\n								\n							\n						\n					\n				\n\n\n\nName(required)\n\n \n			\n				\n					\n						\n						\n						\n					\n				\n				\n			 \n	\n\n\nEmail(required)\n\n \n			\n				\n					\n						\n						\n						\n					\n				\n				\n			 \n	\n\n\nWebsite\n\n \n			\n				\n					\n						\n						\n						\n					\n				\n				\n			 \n	\n\n\nMessage\n\n \n			\n				\n					\n						\n						\n						\n					\n				\n				\n			\n	\n	\n\n				\n					\n				\n						Submit		\n		\n		\n	 \nΔ
URL:https://stjameshanslope.org/event/carers-support-group-6/
LOCATION:St James the Great\, Hanslope
END:VEVENT
BEGIN:VEVENT
DTSTART;TZID=UTC:20230926T193000
DTEND;TZID=UTC:20230926T193000
DTSTAMP:20260422T000404
CREATED:20230723T204811Z
LAST-MODIFIED:20230825T224741Z
UID:1338-1695756600-1695756600@stjameshanslope.org
SUMMARY:Hanslope’s PCC Meeting
DESCRIPTION:
URL:https://stjameshanslope.org/event/pcc-meeting-2/
LOCATION:St James the Great\, Hanslope
END:VEVENT
BEGIN:VEVENT
DTSTART;TZID=UTC:20230926T130000
DTEND;TZID=UTC:20230926T130000
DTSTAMP:20260422T000404
CREATED:20231002T225441Z
LAST-MODIFIED:20231002T225446Z
UID:1885-1695733200-1695733200@stjameshanslope.org
SUMMARY:Burial of ashes - the late Peter John Boss
DESCRIPTION:
URL:https://stjameshanslope.org/event/burial-of-ashes-the-late-peter-john-boss/
LOCATION:St James the Great\, Hanslope
END:VEVENT
BEGIN:VEVENT
DTSTART;TZID=UTC:20230925T173000
DTEND;TZID=UTC:20230925T173000
DTSTAMP:20260422T000404
CREATED:20230824T135820Z
LAST-MODIFIED:20230824T135820Z
UID:1448-1695663000-1695663000@stjameshanslope.org
SUMMARY:Following the Silence
DESCRIPTION:
URL:https://stjameshanslope.org/event/following-the-silence-30/
LOCATION:11 Weavers End\, United Kingdom
END:VEVENT
BEGIN:VEVENT
DTSTART;TZID=UTC:20230925T093000
DTEND;TZID=UTC:20230925T093000
DTSTAMP:20260422T000404
CREATED:20230824T151508Z
LAST-MODIFIED:20230824T151514Z
UID:1544-1695634200-1695634200@stjameshanslope.org
SUMMARY:Little Angels
DESCRIPTION:
URL:https://stjameshanslope.org/event/little-angels-13/
LOCATION:St James the Great\, Hanslope
END:VEVENT
BEGIN:VEVENT
DTSTART;TZID=UTC:20230924T170000
DTEND;TZID=UTC:20230924T170000
DTSTAMP:20260422T000404
CREATED:20230802T164921Z
LAST-MODIFIED:20230802T164925Z
UID:1374-1695574800-1695574800@stjameshanslope.org
SUMMARY:Evening Prayer
DESCRIPTION:
URL:https://stjameshanslope.org/event/evening-prayer-17/
LOCATION:SS Simon and Jude\, Castlethorpe
END:VEVENT
BEGIN:VEVENT
DTSTART;TZID=UTC:20230924T111500
DTEND;TZID=UTC:20230924T111500
DTSTAMP:20260422T000404
CREATED:20230802T164704Z
LAST-MODIFIED:20230825T222334Z
UID:1370-1695554100-1695554100@stjameshanslope.org
SUMMARY:Sung Mass St James the Great
DESCRIPTION:
URL:https://stjameshanslope.org/event/sung-mass-54/
LOCATION:St James the Great\, Hanslope
END:VEVENT
BEGIN:VEVENT
DTSTART;TZID=UTC:20230924T093000
DTEND;TZID=UTC:20230924T093000
DTSTAMP:20260422T000404
CREATED:20230802T164628Z
LAST-MODIFIED:20230825T221742Z
UID:1368-1695547800-1695547800@stjameshanslope.org
SUMMARY:Sung Mass SS Simon and Jude
DESCRIPTION:
URL:https://stjameshanslope.org/event/sung-mass-53/
LOCATION:SS Simon and Jude\, Castlethorpe
END:VEVENT
BEGIN:VEVENT
DTSTART;TZID=UTC:20230923T120000
DTEND;TZID=UTC:20230923T160000
DTSTAMP:20260422T000404
CREATED:20230826T170510Z
LAST-MODIFIED:20230902T220435Z
UID:1673-1695470400-1695484800@stjameshanslope.org
SUMMARY:SS Simon and Jude Church Open Day
DESCRIPTION:
URL:https://stjameshanslope.org/event/ss-simon-and-jude-church-open-day-times-tbc/
LOCATION:SS Simon and Jude\, Castlethorpe
END:VEVENT
BEGIN:VEVENT
DTSTART;TZID=UTC:20230922T153000
DTEND;TZID=UTC:20230922T153000
DTSTAMP:20260422T000404
CREATED:20230826T163325Z
LAST-MODIFIED:20230826T163332Z
UID:1655-1695396600-1695396600@stjameshanslope.org
SUMMARY:Inspire Youth Group
DESCRIPTION:
URL:https://stjameshanslope.org/event/inspire-youth-group-8/
LOCATION:St James the Great\, Hanslope
END:VEVENT
BEGIN:VEVENT
DTSTART;TZID=UTC:20230922T100000
DTEND;TZID=UTC:20230922T120000
DTSTAMP:20260422T000404
CREATED:20230824T212529Z
LAST-MODIFIED:20230824T212535Z
UID:1582-1695376800-1695384000@stjameshanslope.org
SUMMARY:Little Lambs
DESCRIPTION:
URL:https://stjameshanslope.org/event/little-lambs-17/
LOCATION:SS Simon and Jude\, Castlethorpe
END:VEVENT
BEGIN:VEVENT
DTSTART;TZID=UTC:20230922T093000
DTEND;TZID=UTC:20230922T093000
DTSTAMP:20260422T000404
CREATED:20230824T150324Z
LAST-MODIFIED:20230824T150330Z
UID:1526-1695375000-1695375000@stjameshanslope.org
SUMMARY:Craftivists
DESCRIPTION:
URL:https://stjameshanslope.org/event/craftivists-8/
LOCATION:St James the Great\, Hanslope
END:VEVENT
BEGIN:VEVENT
DTSTART;TZID=UTC:20230921T193000
DTEND;TZID=UTC:20230921T210000
DTSTAMP:20260422T000404
CREATED:20230922T002012Z
LAST-MODIFIED:20230922T002020Z
UID:1844-1695324600-1695330000@stjameshanslope.org
SUMMARY:The Chosen - Bible Study Group
DESCRIPTION:
URL:https://stjameshanslope.org/event/the-chosen-bible-study-group/
LOCATION:12 Weavers End
END:VEVENT
BEGIN:VEVENT
DTSTART;TZID=UTC:20230921T193000
DTEND;TZID=UTC:20230921T193000
DTSTAMP:20260422T000404
CREATED:20230826T192631Z
LAST-MODIFIED:20230826T192747Z
UID:1705-1695324600-1695324600@stjameshanslope.org
SUMMARY:St Matthew’s Day - 130th Patronal Festival (Northampton)
DESCRIPTION:← Back Thank you for your response. ✨\n\n\n					\n						\n							\n							\n						\n						\n						\n						\n						\n							\n								\n									\n										\n										\n									\n									\n										\n										\n									\n								\n							\n						\n						\n							\n								\n									\n									\n										\n									\n									\n									\n								\n							\n						\n					\n				\n\n\n\nName(required)\n\n \n			\n				\n					\n						\n						\n						\n					\n				\n				\n			 \n	\n\n\nEmail(required)\n\n \n			\n				\n					\n						\n						\n						\n					\n				\n				\n			 \n	\n\n\nWebsite\n\n \n			\n				\n					\n						\n						\n						\n					\n				\n				\n			 \n	\n\n\nMessage\n\n \n			\n				\n					\n						\n						\n						\n					\n				\n				\n			\n	\n	\n\n				\n					\n				\n						Submit		\n		\n		\n	 \nΔ
URL:https://stjameshanslope.org/event/st-matthews-day-130th-patronal-festival-northampton/
END:VEVENT
BEGIN:VEVENT
DTSTART;TZID=UTC:20230921T180000
DTEND;TZID=UTC:20230921T180000
DTSTAMP:20260422T000404
CREATED:20230824T140534Z
LAST-MODIFIED:20230824T140534Z
UID:1458-1695319200-1695319200@stjameshanslope.org
SUMMARY:Choir Practice
DESCRIPTION:
URL:https://stjameshanslope.org/event/choir-practice-24/
LOCATION:St James the Great\, Hanslope
END:VEVENT
BEGIN:VEVENT
DTSTART;TZID=UTC:20230921T123000
DTEND;TZID=UTC:20230921T123000
DTSTAMP:20260422T000404
CREATED:20230826T165156Z
LAST-MODIFIED:20230826T165203Z
UID:1664-1695299400-1695299400@stjameshanslope.org
SUMMARY:Community Lunch
DESCRIPTION:
URL:https://stjameshanslope.org/event/community-lunch-2/
LOCATION:St James the Great\, Hanslope
END:VEVENT
BEGIN:VEVENT
DTSTART;TZID=UTC:20230921T093000
DTEND;TZID=UTC:20230921T093000
DTSTAMP:20260422T000404
CREATED:20230824T143019Z
LAST-MODIFIED:20230824T143024Z
UID:1499-1695288600-1695288600@stjameshanslope.org
SUMMARY:Said Mass St James the Great
DESCRIPTION:
URL:https://stjameshanslope.org/event/said-mass-st-james-the-great-11/
LOCATION:St James the Great\, Hanslope
END:VEVENT
BEGIN:VEVENT
DTSTART;TZID=UTC:20230920T170000
DTEND;TZID=UTC:20230920T170000
DTSTAMP:20260422T000404
CREATED:20230824T141224Z
LAST-MODIFIED:20230824T141224Z
UID:1466-1695229200-1695229200@stjameshanslope.org
SUMMARY:Said Mass SS Simon and Jude
DESCRIPTION:
URL:https://stjameshanslope.org/event/said-mass-ss-simon-and-jude-3/
LOCATION:SS Simon and Jude\, Castlethorpe
END:VEVENT
BEGIN:VEVENT
DTSTART;TZID=UTC:20230919T193000
DTEND;TZID=UTC:20230919T193000
DTSTAMP:20260422T000404
CREATED:20230826T170128Z
LAST-MODIFIED:20230902T221453Z
UID:1670-1695151800-1695151800@stjameshanslope.org
SUMMARY:Castlethorpe’s PCC Meeting
DESCRIPTION:
URL:https://stjameshanslope.org/event/castlethorpes-pcc-meeting-time-tbc/
END:VEVENT
BEGIN:VEVENT
DTSTART;TZID=UTC:20230918T200000
DTEND;TZID=UTC:20230918T200000
DTSTAMP:20260422T000404
CREATED:20230824T144614Z
LAST-MODIFIED:20230824T144620Z
UID:1515-1695067200-1695067200@stjameshanslope.org
SUMMARY:Cancer Support Group
DESCRIPTION:
URL:https://stjameshanslope.org/event/cancer-support-group-6/
LOCATION:St James the Great\, Hanslope
END:VEVENT
BEGIN:VEVENT
DTSTART;TZID=UTC:20230918T173000
DTEND;TZID=UTC:20230918T173000
DTSTAMP:20260422T000404
CREATED:20230824T135736Z
LAST-MODIFIED:20230824T135736Z
UID:1446-1695058200-1695058200@stjameshanslope.org
SUMMARY:Following the Silence
DESCRIPTION:
URL:https://stjameshanslope.org/event/following-the-silence-29/
LOCATION:11 Weavers End\, United Kingdom
END:VEVENT
END:VCALENDAR