BEGIN:VCALENDAR
VERSION:2.0
PRODID:-//St James the Great - ECPv6.15.20//NONSGML v1.0//EN
CALSCALE:GREGORIAN
METHOD:PUBLISH
X-ORIGINAL-URL:https://stjameshanslope.org
X-WR-CALDESC:Events for St James the Great
REFRESH-INTERVAL;VALUE=DURATION:PT1H
X-Robots-Tag:noindex
X-PUBLISHED-TTL:PT1H
BEGIN:VTIMEZONE
TZID:UTC
BEGIN:STANDARD
TZOFFSETFROM:+0000
TZOFFSETTO:+0000
TZNAME:UTC
DTSTART:20220101T000000
END:STANDARD
END:VTIMEZONE
BEGIN:VEVENT
DTSTART;TZID=UTC:20231209T103000
DTEND;TZID=UTC:20231209T103000
DTSTAMP:20260422T001936
CREATED:20230826T173345Z
LAST-MODIFIED:20230826T173405Z
UID:1699-1702117800-1702117800@stjameshanslope.org
SUMMARY:Deanery Inspection SS Simon and Jude
DESCRIPTION:
URL:https://stjameshanslope.org/event/deanery-inspection-ss-simon-and-jude/
LOCATION:SS Simon and Jude\, Castlethorpe
END:VEVENT
BEGIN:VEVENT
DTSTART;TZID=UTC:20231209T193000
DTEND;TZID=UTC:20231209T193000
DTSTAMP:20260422T001936
CREATED:20231017T212252Z
LAST-MODIFIED:20231017T212304Z
UID:2017-1702150200-1702150200@stjameshanslope.org
SUMMARY:Celebrating Ho's 20 years - an evening of videos and Ghanaian snacks
DESCRIPTION:
URL:https://stjameshanslope.org/event/celebrating-hos-20-years-an-evening-of-videos-and-ghanaian-snacks/
LOCATION:St James the Great\, Hanslope
END:VEVENT
BEGIN:VEVENT
DTSTART;TZID=UTC:20231210T093000
DTEND;TZID=UTC:20231210T093000
DTSTAMP:20260422T001936
CREATED:20231009T125207Z
LAST-MODIFIED:20231009T125213Z
UID:1898-1702200600-1702200600@stjameshanslope.org
SUMMARY:Sung Mass SS Simon and Jude - Advent 2
DESCRIPTION:
URL:https://stjameshanslope.org/event/sung-mass-ss-simon-and-jude-advent-2/
LOCATION:SS Simon and Jude\, Castlethorpe
END:VEVENT
BEGIN:VEVENT
DTSTART;TZID=UTC:20231210T111500
DTEND;TZID=UTC:20231210T111500
DTSTAMP:20260422T001936
CREATED:20231009T125904Z
LAST-MODIFIED:20231009T125911Z
UID:1906-1702206900-1702206900@stjameshanslope.org
SUMMARY:Sung Mass St James the Great - Advent 2
DESCRIPTION:
URL:https://stjameshanslope.org/event/sung-mass-st-james-the-great-advent-2/
LOCATION:St James the Great\, Hanslope
END:VEVENT
BEGIN:VEVENT
DTSTART;TZID=UTC:20231210T170000
DTEND;TZID=UTC:20231210T170000
DTSTAMP:20260422T001936
CREATED:20231011T220501Z
LAST-MODIFIED:20231011T220516Z
UID:2004-1702227600-1702227600@stjameshanslope.org
SUMMARY:Evening Prayer SS Simon and Jude
DESCRIPTION:
URL:https://stjameshanslope.org/event/evening-prayer-ss-simon-and-jude-2/
LOCATION:SS Simon and Jude\, Castlethorpe
END:VEVENT
BEGIN:VEVENT
DTSTART;TZID=UTC:20231211T093000
DTEND;TZID=UTC:20231211T093000
DTSTAMP:20260422T001936
CREATED:20231027T212622Z
LAST-MODIFIED:20231027T212626Z
UID:2095-1702287000-1702287000@stjameshanslope.org
SUMMARY:Little Angels
DESCRIPTION:
URL:https://stjameshanslope.org/event/little-angels-24/
LOCATION:St James the Great\, Hanslope
END:VEVENT
BEGIN:VEVENT
DTSTART;TZID=UTC:20231211T173000
DTEND;TZID=UTC:20231211T173000
DTSTAMP:20260422T001936
CREATED:20231009T132506Z
LAST-MODIFIED:20231009T132510Z
UID:1950-1702315800-1702315800@stjameshanslope.org
SUMMARY:Following the Silence
DESCRIPTION:
URL:https://stjameshanslope.org/event/following-the-silence-35/
LOCATION:11 Weavers End\, United Kingdom
END:VEVENT
BEGIN:VEVENT
DTSTART;TZID=UTC:20231211T193000
DTEND;TZID=UTC:20231211T193000
DTSTAMP:20260422T001936
CREATED:20231112T000142Z
LAST-MODIFIED:20231112T000150Z
UID:2192-1702323000-1702323000@stjameshanslope.org
SUMMARY:Castlethorpe Christmas Wreath Night - Village Hall
DESCRIPTION:
URL:https://stjameshanslope.org/event/castlethorpe-christmas-wreath-night-village-hall/
LOCATION:Castlethorpe Village Hall\, United Kingdom
END:VEVENT
BEGIN:VEVENT
DTSTART;TZID=UTC:20231212T090000
DTEND;TZID=UTC:20231212T120000
DTSTAMP:20260422T001936
CREATED:20231009T220324Z
LAST-MODIFIED:20231125T174235Z
UID:1969-1702371600-1702382400@stjameshanslope.org
SUMMARY:Castlethorpe First School Christmas Play
DESCRIPTION:
URL:https://stjameshanslope.org/event/castlethorpe-first-school-christmas-play/
LOCATION:SS Simon and Jude\, Castlethorpe
END:VEVENT
BEGIN:VEVENT
DTSTART;TZID=UTC:20231212T113000
DTEND;TZID=UTC:20231212T113000
DTSTAMP:20260422T001936
CREATED:20231126T212414Z
LAST-MODIFIED:20231126T212715Z
UID:2367-1702380600-1702380600@stjameshanslope.org
SUMMARY:Funeral of the Late George William Wesley at Oak Chapel\, Crownhill Crematorium
DESCRIPTION:
URL:https://stjameshanslope.org/event/funeral-of-the-late-george-william-wesley-at-oak-chapel-crownhill-crematorium/
LOCATION:Crownhill Crematorium
END:VEVENT
BEGIN:VEVENT
DTSTART;TZID=UTC:20231212T193000
DTEND;TZID=UTC:20231212T210000
DTSTAMP:20260422T001936
CREATED:20231125T194950Z
LAST-MODIFIED:20231125T194956Z
UID:2309-1702409400-1702414800@stjameshanslope.org
SUMMARY:Music of Eternity - Advent Course - Week 2
DESCRIPTION:
URL:https://stjameshanslope.org/event/music-of-eternity-advent-course-week-2/
END:VEVENT
BEGIN:VEVENT
DTSTART;TZID=UTC:20231213T170000
DTEND;TZID=UTC:20231213T170000
DTSTAMP:20260422T001936
CREATED:20231009T132020Z
LAST-MODIFIED:20231009T132025Z
UID:1936-1702486800-1702486800@stjameshanslope.org
SUMMARY:Said Mass SS Simon and Jude
DESCRIPTION:
URL:https://stjameshanslope.org/event/said-mass-ss-simon-and-jude-12/
LOCATION:SS Simon and Jude\, Castlethorpe
END:VEVENT
BEGIN:VEVENT
DTSTART;TZID=UTC:20231214T093000
DTEND;TZID=UTC:20231214T093000
DTSTAMP:20260422T001936
CREATED:20231009T131140Z
LAST-MODIFIED:20231009T131145Z
UID:1924-1702546200-1702546200@stjameshanslope.org
SUMMARY:Said Mass St James the Great
DESCRIPTION:
URL:https://stjameshanslope.org/event/said-mass-st-james-the-great-21/
LOCATION:St James the Great\, Hanslope
END:VEVENT
BEGIN:VEVENT
DTSTART;TZID=UTC:20231214T180000
DTEND;TZID=UTC:20231214T180000
DTSTAMP:20260422T001936
CREATED:20231009T131353Z
LAST-MODIFIED:20231009T131358Z
UID:1930-1702576800-1702576800@stjameshanslope.org
SUMMARY:Choir Practice
DESCRIPTION:
URL:https://stjameshanslope.org/event/choir-practice-35/
LOCATION:St James the Great\, Hanslope
END:VEVENT
BEGIN:VEVENT
DTSTART;TZID=UTC:20231214T193000
DTEND;TZID=UTC:20231214T193000
DTSTAMP:20260422T001936
CREATED:20230826T173536Z
LAST-MODIFIED:20231116T143532Z
UID:1701-1702582200-1702582200@stjameshanslope.org
SUMMARY:Women’s Institute Christmas Service
DESCRIPTION:
URL:https://stjameshanslope.org/event/womens-institute-christmas-meeting/
LOCATION:SS Simon and Jude\, Castlethorpe
END:VEVENT
BEGIN:VEVENT
DTSTART;TZID=UTC:20231215T100000
DTEND;TZID=UTC:20231215T120000
DTSTAMP:20260422T001936
CREATED:20230826T171853Z
LAST-MODIFIED:20230826T171859Z
UID:1691-1702634400-1702641600@stjameshanslope.org
SUMMARY:Little Lambs
DESCRIPTION:
URL:https://stjameshanslope.org/event/little-lambs-28/
LOCATION:SS Simon and Jude\, Castlethorpe
END:VEVENT
BEGIN:VEVENT
DTSTART;TZID=UTC:20231215T153000
DTEND;TZID=UTC:20231215T153000
DTSTAMP:20260422T001936
CREATED:20231125T171828Z
LAST-MODIFIED:20231125T171838Z
UID:2282-1702654200-1702654200@stjameshanslope.org
SUMMARY:Inspire Youth Group
DESCRIPTION:
URL:https://stjameshanslope.org/event/inspire-youth-group-15/
LOCATION:St James the Great\, Hanslope
END:VEVENT
BEGIN:VEVENT
DTSTART;TZID=UTC:20231216T100000
DTEND;TZID=UTC:20231216T120000
DTSTAMP:20260422T001936
CREATED:20230826T173725Z
LAST-MODIFIED:20230826T173733Z
UID:1703-1702720800-1702728000@stjameshanslope.org
SUMMARY:Castlethorpe’s Coffee Morning
DESCRIPTION:
URL:https://stjameshanslope.org/event/castlethorpes-coffee-morning/
LOCATION:SS Simon and Jude\, Castlethorpe
END:VEVENT
BEGIN:VEVENT
DTSTART;TZID=UTC:20231216T170000
DTEND;TZID=UTC:20231216T190000
DTSTAMP:20260422T001936
CREATED:20231009T220724Z
LAST-MODIFIED:20231009T220733Z
UID:1972-1702746000-1702753200@stjameshanslope.org
SUMMARY:Castlethorpe Carols on the Green
DESCRIPTION:
URL:https://stjameshanslope.org/event/castlethorpe-carols-on-the-green/
LOCATION:Castlethorpe\, United Kingdom
END:VEVENT
BEGIN:VEVENT
DTSTART;TZID=UTC:20231217T093000
DTEND;TZID=UTC:20231217T093000
DTSTAMP:20260422T001936
CREATED:20231009T125239Z
LAST-MODIFIED:20231009T125252Z
UID:1900-1702805400-1702805400@stjameshanslope.org
SUMMARY:Sung Mass SS Simon and Jude - Advent 3
DESCRIPTION:
URL:https://stjameshanslope.org/event/sung-mass-ss-simon-and-jude-advent-3/
LOCATION:SS Simon and Jude\, Castlethorpe
END:VEVENT
BEGIN:VEVENT
DTSTART;TZID=UTC:20231217T111500
DTEND;TZID=UTC:20231217T111500
DTSTAMP:20260422T001936
CREATED:20231009T125939Z
LAST-MODIFIED:20231009T125945Z
UID:1908-1702811700-1702811700@stjameshanslope.org
SUMMARY:Sung Mass St James the Great - Advent 3
DESCRIPTION:
URL:https://stjameshanslope.org/event/sung-mass-st-james-the-great-advent-3/
LOCATION:St James the Great\, Hanslope
END:VEVENT
BEGIN:VEVENT
DTSTART;TZID=UTC:20231217T180000
DTEND;TZID=UTC:20231217T180000
DTSTAMP:20260422T001936
CREATED:20231009T130053Z
LAST-MODIFIED:20231009T130059Z
UID:1910-1702836000-1702836000@stjameshanslope.org
SUMMARY:Christmas Carol Service SS Simon and Jude
DESCRIPTION:
URL:https://stjameshanslope.org/event/christmas-carol-service-ss-simon-and-jude/
LOCATION:SS Simon and Jude\, Castlethorpe
END:VEVENT
BEGIN:VEVENT
DTSTART;TZID=UTC:20231218T093000
DTEND;TZID=UTC:20231218T093000
DTSTAMP:20260422T001936
CREATED:20231027T212650Z
LAST-MODIFIED:20231027T212655Z
UID:2097-1702891800-1702891800@stjameshanslope.org
SUMMARY:Little Angels
DESCRIPTION:
URL:https://stjameshanslope.org/event/little-angels-25/
LOCATION:St James the Great\, Hanslope
END:VEVENT
BEGIN:VEVENT
DTSTART;TZID=UTC:20231218T130000
DTEND;TZID=UTC:20231218T153000
DTSTAMP:20260422T001936
CREATED:20231009T221332Z
LAST-MODIFIED:20231009T221341Z
UID:1976-1702904400-1702913400@stjameshanslope.org
SUMMARY:Hanslope School Christmas Concert Dress Rehearsal
DESCRIPTION:
URL:https://stjameshanslope.org/event/hanslope-school-christmas-concert-dress-rehearsal/
LOCATION:St James the Great\, Hanslope
END:VEVENT
BEGIN:VEVENT
DTSTART;TZID=UTC:20231218T173000
DTEND;TZID=UTC:20231218T173000
DTSTAMP:20260422T001936
CREATED:20231009T132533Z
LAST-MODIFIED:20231009T132539Z
UID:1952-1702920600-1702920600@stjameshanslope.org
SUMMARY:Following the Silence
DESCRIPTION:
URL:https://stjameshanslope.org/event/following-the-silence-36/
LOCATION:11 Weavers End\, United Kingdom
END:VEVENT
BEGIN:VEVENT
DTSTART;TZID=UTC:20231218T193000
DTEND;TZID=UTC:20231218T210000
DTSTAMP:20260422T001936
CREATED:20231125T195037Z
LAST-MODIFIED:20231227T180719Z
UID:2311-1702927800-1702933200@stjameshanslope.org
SUMMARY:Music of Eternity - Advent Course - Week 3
DESCRIPTION:
URL:https://stjameshanslope.org/event/music-of-eternity-advent-course-week-3/
END:VEVENT
BEGIN:VEVENT
DTSTART;TZID=UTC:20231218T200000
DTEND;TZID=UTC:20231218T200000
DTSTAMP:20260422T001936
CREATED:20231027T213320Z
LAST-MODIFIED:20231027T213325Z
UID:2103-1702929600-1702929600@stjameshanslope.org
SUMMARY:Cancer Wellbeing & Support Group
DESCRIPTION:
URL:https://stjameshanslope.org/event/cancer-wellbeing-support-group/
LOCATION:12 Weavers End
END:VEVENT
BEGIN:VEVENT
DTSTART;TZID=UTC:20231219T083000
DTEND;TZID=UTC:20231219T113000
DTSTAMP:20260422T001936
CREATED:20231009T221149Z
LAST-MODIFIED:20231011T215015Z
UID:1974-1702974600-1702985400@stjameshanslope.org
SUMMARY:Hanslope School Christmas Concert
DESCRIPTION:
URL:https://stjameshanslope.org/event/hanslope-school-christmas-concert/
LOCATION:St James the Great\, Hanslope
END:VEVENT
BEGIN:VEVENT
DTSTART;TZID=UTC:20231219T193000
DTEND;TZID=UTC:20231219T193000
DTSTAMP:20260422T001936
CREATED:20231009T215446Z
LAST-MODIFIED:20231112T000333Z
UID:1964-1703014200-1703014200@stjameshanslope.org
SUMMARY:Castlethorpe Christmas Concert\, A Bray in a Manger by Louise Crane and Justin Lavender
DESCRIPTION:
URL:https://stjameshanslope.org/event/castlethorpe-christmas-concert-by-louise-crane-and-justin-lavender/
LOCATION:SS Simon and Jude\, Castlethorpe
END:VEVENT
BEGIN:VEVENT
DTSTART;TZID=UTC:20231220T170000
DTEND;TZID=UTC:20231220T170000
DTSTAMP:20260422T001936
CREATED:20231009T132048Z
LAST-MODIFIED:20231009T132053Z
UID:1938-1703091600-1703091600@stjameshanslope.org
SUMMARY:Said Mass SS Simon and Jude
DESCRIPTION:
URL:https://stjameshanslope.org/event/said-mass-ss-simon-and-jude-13/
LOCATION:SS Simon and Jude\, Castlethorpe
END:VEVENT
END:VCALENDAR